BEGIN:VCALENDAR
VERSION:2.0
PRODID:-//Elkins-Randolph County Tourism - ECPv6.15.20//NONSGML v1.0//EN
CALSCALE:GREGORIAN
METHOD:PUBLISH
X-WR-CALNAME:Elkins-Randolph County Tourism
X-ORIGINAL-URL:https://elkinsrandolphwv.com
X-WR-CALDESC:Events for Elkins-Randolph County Tourism
REFRESH-INTERVAL;VALUE=DURATION:PT1H
X-Robots-Tag:noindex
X-PUBLISHED-TTL:PT1H
BEGIN:VTIMEZONE
TZID:UTC
BEGIN:STANDARD
TZOFFSETFROM:+0000
TZOFFSETTO:+0000
TZNAME:UTC
DTSTART:20220101T000000
END:STANDARD
END:VTIMEZONE
BEGIN:VEVENT
DTSTART;TZID=UTC:20231022T120000
DTEND;TZID=UTC:20231022T180000
DTSTAMP:20260424T122949
CREATED:20231011T183651Z
LAST-MODIFIED:20231011T183713Z
UID:27743-1697976000-1697997600@elkinsrandolphwv.com
SUMMARY:The Hutte - Sunday Buffet
DESCRIPTION:Hutte Sunday Buffet \nOctober 8\, 22\, and 29 \nReservations Recommended – Call 304-924-6435 \n 
URL:https://elkinsrandolphwv.com/event/27743/2023-10-22/
LOCATION:The Hutte\, 1 W Main St\, Helvetia\, United States
CATEGORIES:Food & Drink
ATTACH;FMTTYPE=image/jpeg:https://elkinsrandolphwv.com/wp-content/uploads/2023/10/Hutte-Sunday-Buffet.jpeg
END:VEVENT
END:VCALENDAR