BEGIN:VCALENDAR
VERSION:2.0
PRODID:-//Elkins-Randolph County Tourism - ECPv6.15.17.1//NONSGML v1.0//EN
CALSCALE:GREGORIAN
METHOD:PUBLISH
X-ORIGINAL-URL:https://elkinsrandolphwv.com
X-WR-CALDESC:Events for Elkins-Randolph County Tourism
REFRESH-INTERVAL;VALUE=DURATION:PT1H
X-Robots-Tag:noindex
X-PUBLISHED-TTL:PT1H
BEGIN:VTIMEZONE
TZID:UTC
BEGIN:STANDARD
TZOFFSETFROM:+0000
TZOFFSETTO:+0000
TZNAME:UTC
DTSTART:20230101T000000
END:STANDARD
END:VTIMEZONE
BEGIN:VEVENT
DTSTART;TZID=UTC:20240826T183000
DTEND;TZID=UTC:20240826T200000
DTSTAMP:20260419T114253
CREATED:20240826T224545Z
LAST-MODIFIED:20240826T224545Z
UID:29109-1724697000-1724702400@elkinsrandolphwv.com
SUMMARY:Flavors of France Wine Dinner
DESCRIPTION:Join us at Oxley House as we continue our “Cuisine Around the World” series with the “Flavors of France Wine Dinner”.\nOn the last Monday of every month\, our restaurant transforms into a private sanctuary for food lovers eager to experience the rich and diverse flavors from around the world. This month\, we’re whisking you away to France. \n Date: Monday\, August 26\, 2024 Time: Doors Open @ 6:30pm-7pm | Dinner Starts @7pm Location: Oxley House\nEvent Highlights  Social Hour (6:30pm – 7pm) Dinner Seating (7pm)\nPricing $100 per individual$185 per couple\nRSVP – https://tinyurl.com/France-Wine-Dinner
URL:https://elkinsrandolphwv.com/event/flavors-of-france-wine-dinner/
LOCATION:Oxley House\, 206 Davis Avenue\, Elkins\, WV
CATEGORIES:Art & Culture,Community,Entertainment,Food & Drink
ATTACH;FMTTYPE=image/png:https://elkinsrandolphwv.com/wp-content/uploads/2024/05/Oxley-House-Profile-Pic-e1726534174518.png
END:VEVENT
END:VCALENDAR