BEGIN:VCALENDAR
VERSION:2.0
PRODID:-//Elkins-Randolph County Tourism - ECPv6.15.17.1//NONSGML v1.0//EN
CALSCALE:GREGORIAN
METHOD:PUBLISH
X-ORIGINAL-URL:https://elkinsrandolphwv.com
X-WR-CALDESC:Events for Elkins-Randolph County Tourism
REFRESH-INTERVAL;VALUE=DURATION:PT1H
X-Robots-Tag:noindex
X-PUBLISHED-TTL:PT1H
BEGIN:VTIMEZONE
TZID:UTC
BEGIN:STANDARD
TZOFFSETFROM:+0000
TZOFFSETTO:+0000
TZNAME:UTC
DTSTART:20230101T000000
END:STANDARD
END:VTIMEZONE
BEGIN:VEVENT
DTSTART;TZID=UTC:20240929T180000
DTEND;TZID=UTC:20240929T210000
DTSTAMP:20260421T123312
CREATED:20240926T185834Z
LAST-MODIFIED:20240926T185834Z
UID:29569-1727632800-1727643600@elkinsrandolphwv.com
SUMMARY:Havana in the Hills: A Cuban Chef's Table | The Forks
DESCRIPTION:Embark on a Culinary Journey: A Seven-Course Cuban Chef’s Table \nJoin us on September 29th\, as The Forks brings the vibrant flavors of Cuba to the heart of Appalachia. For $100\, you’ll experience seven courses of authentic Cuban cuisine\, each crafted with care and respect for the ingredients and the stories behind them. From citrus-simmered shrimp to slow-roasted pork marinated in mojo\, each dish transports you to Havana while grounded in Appalachian hospitality. With an optional wine pairing\, this is more than just a meal—it’s a celebration of shared values like family\, hospitality\, and the belief that food is meant to be savored. Seating is limited\, so don’t miss out on this unforgettable night where two cultures come together in the most delicious way. \n  \nReserve your seat: https://www.exploretock.com/theforksrestaurantandinn/event/503710/havana-in-the-hills-a-cuban-chefs-…
URL:https://elkinsrandolphwv.com/event/havana-in-the-hills-a-cuban-chefs-table-the-forks/
LOCATION:The Forks\, 35 Scenic Ridge Rd\, Elkins\, 26241\, United States
CATEGORIES:Food & Drink
ATTACH;FMTTYPE=image/jpeg:https://elkinsrandolphwv.com/wp-content/uploads/2024/09/Forks-Logo.jpg
END:VEVENT
END:VCALENDAR