BEGIN:VCALENDAR
VERSION:2.0
PRODID:-//Elkins-Randolph County Tourism - ECPv6.15.17.1//NONSGML v1.0//EN
CALSCALE:GREGORIAN
METHOD:PUBLISH
X-ORIGINAL-URL:https://elkinsrandolphwv.com
X-WR-CALDESC:Events for Elkins-Randolph County Tourism
REFRESH-INTERVAL;VALUE=DURATION:PT1H
X-Robots-Tag:noindex
X-PUBLISHED-TTL:PT1H
BEGIN:VTIMEZONE
TZID:UTC
BEGIN:STANDARD
TZOFFSETFROM:+0000
TZOFFSETTO:+0000
TZNAME:UTC
DTSTART:20230101T000000
END:STANDARD
END:VTIMEZONE
BEGIN:VEVENT
DTSTART;TZID=UTC:20241003T090000
DTEND;TZID=UTC:20241003T190000
DTSTAMP:20260421T142955
CREATED:20240910T193828Z
LAST-MODIFIED:20240910T193828Z
UID:29199-1727946000-1727982000@elkinsrandolphwv.com
SUMMARY:MSFF - Elkins City Park Events *Three Days of Events
DESCRIPTION:• Axe Women Loggers of Maine • Carnegie Museum • Chainsaw Carvers – The Mason Dixon Boys • Conservation Village • Glass Blowing – Appalachian Glass Company • HillBilly Fun Inflatable Bounce House • Laurel Fork Falconry • Pool Party Pooches • Shingle Cutting/Branding • XPogo – Extreme Pogo Entertainment
URL:https://elkinsrandolphwv.com/event/msff-elkins-city-park-events-three-days-of-events/2024-10-03/
LOCATION:Elkins City Park\, Elkins\, WV 26241\, USA\, 101 Elkins Ave\, United States
CATEGORIES:Art & Culture,Community,Competition,Entertainment,Food & Drink,Kids & Family,Outdoor Activities,Shopping
ATTACH;FMTTYPE=image/jpeg:https://elkinsrandolphwv.com/wp-content/uploads/2019/10/MSFF-e1661781904912.jpg
GEO:38.945377;-79.854602
X-APPLE-STRUCTURED-LOCATION;VALUE=URI;X-ADDRESS=Elkins City Park Elkins WV 26241 USA 101 Elkins Ave United States;X-APPLE-RADIUS=500;X-TITLE=101 Elkins Ave:geo:-79.854602,38.945377
END:VEVENT
BEGIN:VEVENT
DTSTART;TZID=UTC:20241003T173000
DTEND;TZID=UTC:20241003T183000
DTSTAMP:20260421T142955
CREATED:20240911T062124Z
LAST-MODIFIED:20240911T062124Z
UID:29212-1727976600-1727980200@elkinsrandolphwv.com
SUMMARY:MSFF - Distinguished Guest Pre-Dinner Reception
DESCRIPTION:
URL:https://elkinsrandolphwv.com/event/msff-distinguished-guest-pre-dinner-reception/
LOCATION:Phil Gainer Community Center\, 142 Robert E Lee Ave Ext\, Elkins\, WV 26241\, USA\, 149 Robert E Lee Ave Exd\, United States
CATEGORIES:Community,Food & Drink
ATTACH;FMTTYPE=image/jpeg:https://elkinsrandolphwv.com/wp-content/uploads/2019/10/MSFF-e1661781904912.jpg
GEO:38.925764;-79.864059
X-APPLE-STRUCTURED-LOCATION;VALUE=URI;X-ADDRESS=Phil Gainer Community Center 142 Robert E Lee Ave Ext Elkins WV 26241 USA 149 Robert E Lee Ave Exd United States;X-APPLE-RADIUS=500;X-TITLE=149 Robert E Lee Ave Exd:geo:-79.864059,38.925764
END:VEVENT
BEGIN:VEVENT
DTSTART;TZID=UTC:20241003T180000
DTEND;TZID=UTC:20241003T210000
DTSTAMP:20260421T142955
CREATED:20240924T174801Z
LAST-MODIFIED:20240924T174801Z
UID:29530-1727978400-1727989200@elkinsrandolphwv.com
SUMMARY:Premier Evening Show
DESCRIPTION:After a wonderful plated dinner\, sit back and listen to the fabulous Mountain Memories Show Band as they serve up a 2 hour Branson-style show with music from the 40’s- today featuring Country\, Pop\, Motown\, Gospel\, and Patriotic along with family- friendly comedy and amazing dancers. The Gandy Dancer offers a show that’s guaranteed to have you dancing in your seat\, laughing ‘til you cry\, touch your heart and give you memories that will last a lifetime. \nArrive at 5:30 pm  ~ Dinner at 6:00 pm  ~ Show Only arrive at 6:30 pm  ~ Show at 7:00 pm
URL:https://elkinsrandolphwv.com/event/premier-evening-show/
LOCATION:Gandy Dancer Theatre and Conference Center\, 359 Beverly Pike\, Elkins\, WV 26241\, USA\, United States
CATEGORIES:Art & Culture,Community,Entertainment,Food & Drink,Kids & Family,Music
ATTACH;FMTTYPE=image/jpeg:https://elkinsrandolphwv.com/wp-content/uploads/2019/03/Gandy-Logo-1-480x335-e1727185281650.jpg
GEO:38.918641;-79.842607
END:VEVENT
BEGIN:VEVENT
DTSTART;TZID=UTC:20241003T183000
DTEND;TZID=UTC:20241003T200000
DTSTAMP:20260421T142955
CREATED:20240911T062230Z
LAST-MODIFIED:20240911T062230Z
UID:29213-1727980200-1727985600@elkinsrandolphwv.com
SUMMARY:MSFF - Distinguished Guest Dinner
DESCRIPTION:
URL:https://elkinsrandolphwv.com/event/msff-distinguished-guest-dinner/
LOCATION:Phil Gainer Community Center\, 142 Robert E Lee Ave Ext\, Elkins\, WV 26241\, USA\, 149 Robert E Lee Ave Exd\, United States
CATEGORIES:Community,Entertainment,Food,Food & Drink
ATTACH;FMTTYPE=image/jpeg:https://elkinsrandolphwv.com/wp-content/uploads/2019/10/MSFF-e1661781904912.jpg
GEO:38.925764;-79.864059
X-APPLE-STRUCTURED-LOCATION;VALUE=URI;X-ADDRESS=Phil Gainer Community Center 142 Robert E Lee Ave Ext Elkins WV 26241 USA 149 Robert E Lee Ave Exd United States;X-APPLE-RADIUS=500;X-TITLE=149 Robert E Lee Ave Exd:geo:-79.864059,38.925764
END:VEVENT
BEGIN:VEVENT
DTSTART;TZID=UTC:20241003T193000
DTEND;TZID=UTC:20241003T220000
DTSTAMP:20260421T142955
CREATED:20240930T171745Z
LAST-MODIFIED:20240930T171745Z
UID:29572-1727983800-1727992800@elkinsrandolphwv.com
SUMMARY:Live Music at the Oxley House Cocktail Bar
DESCRIPTION:Join us at the Oxley House during the Mountain State Forest Festival week\, Thursday\, October 3rd from 7:30 p.m. – 10:00 p.m. for an evening filled with live music with The Masons!
URL:https://elkinsrandolphwv.com/event/live-music-at-the-oxley-house-cocktail-bar/
LOCATION:Oxley House\, 206 Davis Avenue\, Elkins\, WV
CATEGORIES:Community,Entertainment,Food & Drink,Music
ATTACH;FMTTYPE=image/png:https://elkinsrandolphwv.com/wp-content/uploads/2024/05/Oxley-House-Profile-Pic-e1726534174518.png
ORGANIZER;CN="Tygart Hotel":MAILTO:fd.tygart@taylorhospitality.com
END:VEVENT
END:VCALENDAR