BEGIN:VCALENDAR
VERSION:2.0
PRODID:-//Elkins-Randolph County Tourism - ECPv6.15.20//NONSGML v1.0//EN
CALSCALE:GREGORIAN
METHOD:PUBLISH
X-WR-CALNAME:Elkins-Randolph County Tourism
X-ORIGINAL-URL:https://elkinsrandolphwv.com
X-WR-CALDESC:Events for Elkins-Randolph County Tourism
REFRESH-INTERVAL;VALUE=DURATION:PT1H
X-Robots-Tag:noindex
X-PUBLISHED-TTL:PT1H
BEGIN:VTIMEZONE
TZID:UTC
BEGIN:STANDARD
TZOFFSETFROM:+0000
TZOFFSETTO:+0000
TZNAME:UTC
DTSTART:20230101T000000
END:STANDARD
END:VTIMEZONE
BEGIN:VEVENT
DTSTART;TZID=UTC:20241114T140000
DTEND;TZID=UTC:20241114T190000
DTSTAMP:20260422T211746
CREATED:20241114T205414Z
LAST-MODIFIED:20241114T205414Z
UID:29693-1731592800-1731610800@elkinsrandolphwv.com
SUMMARY:Baked Pork Steak Dinner at the Pickens American Legion Hall
DESCRIPTION:November 23\, 2024 \nServing Time – 2pm to 7pm \nWhere: at the American Legion Hall\, Pickens\, WV \nSponsored by The Pickens American Legion Post 122 \nPhone: 304-924-5813 \nMenu: Baked Pork Steak\, Mashed Potatoes\, Gravy\, Green Beans\, Hot Rolls\, Applesauce\, Dessert\, and Drinks \nAdults: $15 \nChildren under 12: $5
URL:https://elkinsrandolphwv.com/event/baked-pork-steak-dinner-at-the-pickens-american-legion-hall/
LOCATION:Pickens American Legion Hall
CATEGORIES:Community,Food,Food & Drink
END:VEVENT
END:VCALENDAR