BEGIN:VCALENDAR
VERSION:2.0
PRODID:-//Elkins-Randolph County Tourism - ECPv6.15.20//NONSGML v1.0//EN
CALSCALE:GREGORIAN
METHOD:PUBLISH
X-WR-CALNAME:Elkins-Randolph County Tourism
X-ORIGINAL-URL:https://elkinsrandolphwv.com
X-WR-CALDESC:Events for Elkins-Randolph County Tourism
REFRESH-INTERVAL;VALUE=DURATION:PT1H
X-Robots-Tag:noindex
X-PUBLISHED-TTL:PT1H
BEGIN:VTIMEZONE
TZID:UTC
BEGIN:STANDARD
TZOFFSETFROM:+0000
TZOFFSETTO:+0000
TZNAME:UTC
DTSTART:20230101T000000
END:STANDARD
END:VTIMEZONE
BEGIN:VEVENT
DTSTART;TZID=UTC:20241205T160000
DTEND;TZID=UTC:20241205T200000
DTSTAMP:20260425T165316
CREATED:20241121T205447Z
LAST-MODIFIED:20241121T205447Z
UID:29741-1733414400-1733428800@elkinsrandolphwv.com
SUMMARY:Pint Night at Big Timber Brewing for Interact Children's Museum
DESCRIPTION:Please join us Thursday\, December 5\, 2024\, from 4:00-8:00 PM at Big Timber Brewing! BTB is donating to our Open the Doors Capital Campaign! ICM will earn $1.00 from every beer purchased from 4-8!\n Our friends at Clementine’s Cantina will be providing coupons for free chips & salsa! Additionally\, they will also be donating ALL of their tips to ICM on 12.5.24!\n Our friends at Gino’s Pizza of Elkins have also partnered with us on 12.5.24! Gino’s will have 50 tickets to give away. They are valid for any of the following: pepperoni bites\, 6 wings\, breadsticks w/cheese\, & 1 topping large pizza!Any purchase of these items with a ticket\, Ginos will donate 20% of the total bill to ICM!\n Please join us to support local small businesses & help ICM Open the Doors at a permanent location!
URL:https://elkinsrandolphwv.com/event/pint-night-at-big-timber-brewing-for-interact-childrens-museum/
LOCATION:Big Timber Brewing\, 2 Davis Avenue\, Elkins\, WV\, 26241\, United States
CATEGORIES:Community,Food & Drink
ORGANIZER;CN="Interact Children's Museum":MAILTO:interactmuseum@gmail.com
END:VEVENT
END:VCALENDAR