BEGIN:VCALENDAR
VERSION:2.0
PRODID:-//Elkins-Randolph County Tourism - ECPv6.15.17.1//NONSGML v1.0//EN
CALSCALE:GREGORIAN
METHOD:PUBLISH
X-ORIGINAL-URL:https://elkinsrandolphwv.com
X-WR-CALDESC:Events for Elkins-Randolph County Tourism
REFRESH-INTERVAL;VALUE=DURATION:PT1H
X-Robots-Tag:noindex
X-PUBLISHED-TTL:PT1H
BEGIN:VTIMEZONE
TZID:UTC
BEGIN:STANDARD
TZOFFSETFROM:+0000
TZOFFSETTO:+0000
TZNAME:UTC
DTSTART:20240101T000000
END:STANDARD
END:VTIMEZONE
BEGIN:VEVENT
DTSTART;TZID=UTC:20250712T160000
DTEND;TZID=UTC:20250712T220000
DTSTAMP:20260421T101334
CREATED:20250624T183307Z
LAST-MODIFIED:20250624T183307Z
UID:30830-1752336000-1752357600@elkinsrandolphwv.com
SUMMARY:Tiki Tides & Island Vibes | Hawaiian Seafood Celebration -The Oxley House
DESCRIPTION:Specialty Dinner and Live Music
URL:https://elkinsrandolphwv.com/event/tiki-tides-island-vibes-hawaiian-seafood-celebration-the-oxley-house/
LOCATION:Oxley House\, 206 Davis Avenue\, Elkins\, WV
CATEGORIES:Educational,Food & Drink,Music
ORGANIZER;CN="Tygart Hotel":MAILTO:fd.tygart@taylorhospitality.com
END:VEVENT
END:VCALENDAR