BEGIN:VCALENDAR
VERSION:2.0
PRODID:-//Elkins-Randolph County Tourism - ECPv6.15.17.1//NONSGML v1.0//EN
CALSCALE:GREGORIAN
METHOD:PUBLISH
X-WR-CALNAME:Elkins-Randolph County Tourism
X-ORIGINAL-URL:https://elkinsrandolphwv.com
X-WR-CALDESC:Events for Elkins-Randolph County Tourism
REFRESH-INTERVAL;VALUE=DURATION:PT1H
X-Robots-Tag:noindex
X-PUBLISHED-TTL:PT1H
BEGIN:VTIMEZONE
TZID:UTC
BEGIN:STANDARD
TZOFFSETFROM:+0000
TZOFFSETTO:+0000
TZNAME:UTC
DTSTART:20240101T000000
END:STANDARD
END:VTIMEZONE
BEGIN:VTIMEZONE
TZID:America/New_York
BEGIN:DAYLIGHT
TZOFFSETFROM:-0500
TZOFFSETTO:-0400
TZNAME:EDT
DTSTART:20240310T070000
END:DAYLIGHT
BEGIN:STANDARD
TZOFFSETFROM:-0400
TZOFFSETTO:-0500
TZNAME:EST
DTSTART:20241103T060000
END:STANDARD
BEGIN:DAYLIGHT
TZOFFSETFROM:-0500
TZOFFSETTO:-0400
TZNAME:EDT
DTSTART:20250309T070000
END:DAYLIGHT
BEGIN:STANDARD
TZOFFSETFROM:-0400
TZOFFSETTO:-0500
TZNAME:EST
DTSTART:20251102T060000
END:STANDARD
BEGIN:DAYLIGHT
TZOFFSETFROM:-0500
TZOFFSETTO:-0400
TZNAME:EDT
DTSTART:20260308T070000
END:DAYLIGHT
BEGIN:STANDARD
TZOFFSETFROM:-0400
TZOFFSETTO:-0500
TZNAME:EST
DTSTART:20261101T060000
END:STANDARD
END:VTIMEZONE
BEGIN:VEVENT
DTSTART;TZID=UTC:20250823T180000
DTEND;TZID=UTC:20250823T200000
DTSTAMP:20260419T222708
CREATED:20250817T193509Z
LAST-MODIFIED:20250817T193509Z
UID:31219-1755972000-1755979200@elkinsrandolphwv.com
SUMMARY:Gandy Dancer Premier Show
DESCRIPTION:
URL:https://elkinsrandolphwv.com/event/gandy-dancer-premier-show-37/
LOCATION:Gandy Dancer Theatre and Conference Center\, 359 Beverly Pike\, Elkins\, WV 26241\, USA\, United States
CATEGORIES:Entertainment,Food & Drink
GEO:38.918641;-79.842607
END:VEVENT
BEGIN:VEVENT
DTSTART;TZID=America/New_York:20250823T180000
DTEND;TZID=America/New_York:20250823T210000
DTSTAMP:20260419T222708
CREATED:20250710T231923Z
LAST-MODIFIED:20250710T231923Z
UID:30962-1755972000-1755982800@elkinsrandolphwv.com
SUMMARY:Denim & Diamonds @ Dakan Arena
DESCRIPTION: Tickets are ON SALE NOW for \nDenim & Diamonds – Saturday\, August 23 at 6PM! \n $25 per person or $175 for a table of 8 – includes line dancing classes! \n 21+ event featuring food\, vendors\, a bridleless horse show\, blinged-out prizes & more! \n Drink ticket included for Northern Eagle Beer/Wine Wagon. \n A portion of proceeds benefits 4H Camp Pioneer. \n Get your tickets below & don’t miss this unforgettable evening! \nCLICK HERE FOR TICKETS!
URL:https://elkinsrandolphwv.com/event/denim-diamonds-dakan-arena/
LOCATION:Dakan Arena\, Camp Pioneer\, Beverly\, WV\, 26253\, United States
CATEGORIES:Entertainment,Food & Drink
ATTACH;FMTTYPE=image/jpeg:https://elkinsrandolphwv.com/wp-content/uploads/2019/03/46488311_286071592029392_941823183403614208_n-e1727703782506.jpg
ORGANIZER;CN="Elkins-Randolph County Chamber of Commerce":MAILTO:chamber@erccc.com
END:VEVENT
END:VCALENDAR