BEGIN:VCALENDAR
VERSION:2.0
PRODID:-//Elkins-Randolph County Tourism - ECPv6.15.20//NONSGML v1.0//EN
CALSCALE:GREGORIAN
METHOD:PUBLISH
X-ORIGINAL-URL:https://elkinsrandolphwv.com
X-WR-CALDESC:Events for Elkins-Randolph County Tourism
REFRESH-INTERVAL;VALUE=DURATION:PT1H
X-Robots-Tag:noindex
X-PUBLISHED-TTL:PT1H
BEGIN:VTIMEZONE
TZID:UTC
BEGIN:STANDARD
TZOFFSETFROM:+0000
TZOFFSETTO:+0000
TZNAME:UTC
DTSTART:20240101T000000
END:STANDARD
END:VTIMEZONE
BEGIN:VEVENT
DTSTART;TZID=UTC:20251009T180000
DTEND;TZID=UTC:20251009T200000
DTSTAMP:20260422T184150
CREATED:20251008T173654Z
LAST-MODIFIED:20251008T173654Z
UID:31803-1760032800-1760040000@elkinsrandolphwv.com
SUMMARY:Gandy Dancer Premier Show
DESCRIPTION:
URL:https://elkinsrandolphwv.com/event/gandy-dancer-premier-show-43/
LOCATION:Gandy Dancer Theatre and Conference Center\, 359 Beverly Pike\, Elkins\, WV 26241\, USA\, United States
CATEGORIES:Entertainment,Food & Drink
GEO:38.918641;-79.842607
END:VEVENT
END:VCALENDAR