BEGIN:VCALENDAR
VERSION:2.0
PRODID:-//Elkins-Randolph County Tourism - ECPv6.15.20//NONSGML v1.0//EN
CALSCALE:GREGORIAN
METHOD:PUBLISH
X-ORIGINAL-URL:https://elkinsrandolphwv.com
X-WR-CALDESC:Events for Elkins-Randolph County Tourism
REFRESH-INTERVAL;VALUE=DURATION:PT1H
X-Robots-Tag:noindex
X-PUBLISHED-TTL:PT1H
BEGIN:VTIMEZONE
TZID:UTC
BEGIN:STANDARD
TZOFFSETFROM:+0000
TZOFFSETTO:+0000
TZNAME:UTC
DTSTART:20220101T000000
END:STANDARD
END:VTIMEZONE
BEGIN:VEVENT
DTSTART;TZID=UTC:20231211T180000
DTEND;TZID=UTC:20231211T200000
DTSTAMP:20260425T222352
CREATED:20230201T013154Z
LAST-MODIFIED:20230202T061433Z
UID:26657-1702317600-1702324800@elkinsrandolphwv.com
SUMMARY:Cooking in Community: Pizzelles – Italian American Christmas Delights
DESCRIPTION:Augusta is presenting a new series of foodways classes in Elkins\, WV! The classes will be taught by experienced chefs and home cooks from a variety of cultures represented in Appalachia today. Classes will cover specific dishes such as arepas\, adobo\, tomato sauce\, meatballs\, pizzelles\, pepperoni rolls\, dumplings\, fried chicken\, and collard greens\, as well as addressing topics such as cooking fresh in food deserts\, using local seasonal ingredients and canning and pickling techniques. Students can expect to come away from each class with hands-on knowledge about how to make a dish and hopefully a deeper understanding of the importance of that dish to the people whose kitchens it sprang from. \nWhat are foodways?\nFoodways are more than food itself — they are the beliefs and context surrounding food\, the person-to-person teaching of its preparation\, as well as the community in which the food is enjoyed. The passing down of food traditions from one generation to the next is an integral piece of a community’s identity and culture. We use food to deepen community ties\, celebrate important holidays\, mark milestones\, and enrich our lives. A community’s values are readily communicated in the ways that food is celebrated and shared within it. \nRegistration link – https://augustaartsandculture.org/cooking-in-community…/ \nThis project is made possible by Mid Atlantic Arts’ Central Appalachia Living Traditions program.
URL:https://elkinsrandolphwv.com/event/cooking-in-community-pizzelles-italian-american-christmas-delights/
LOCATION:Phil Gainer Community Center\, 142 Robert E Lee Ave Ext\, Elkins\, WV 26241\, USA\, 149 Robert E Lee Ave Exd\, United States
CATEGORIES:Community,Entertainment,Food & Drink,Information,Kids & Family
ATTACH;FMTTYPE=image/jpeg:https://elkinsrandolphwv.com/wp-content/uploads/2023/01/327061963_505284974981670_5763047358390977939_n.jpg
GEO:38.925764;-79.864059
X-APPLE-STRUCTURED-LOCATION;VALUE=URI;X-ADDRESS=Phil Gainer Community Center 142 Robert E Lee Ave Ext Elkins WV 26241 USA 149 Robert E Lee Ave Exd United States;X-APPLE-RADIUS=500;X-TITLE=149 Robert E Lee Ave Exd:geo:-79.864059,38.925764
END:VEVENT
BEGIN:VEVENT
DTSTART;TZID=UTC:20231213T200000
DTEND;TZID=UTC:20231213T220000
DTSTAMP:20260425T222352
CREATED:20231208T020312Z
LAST-MODIFIED:20231208T020312Z
UID:28027-1702497600-1702504800@elkinsrandolphwv.com
SUMMARY:Live Music @ El Gran Sabor - Vinyl Night
DESCRIPTION:
URL:https://elkinsrandolphwv.com/event/live-music-el-gran-sabor-vinyl-night/
LOCATION:El Gran Sabor\, 413 Kerens Ave\, Elkins\, WV 26241\, USA\, 155 Kerens Ave\, United States
CATEGORIES:Entertainment,Food & Drink,Music
ATTACH;FMTTYPE=image/png:https://elkinsrandolphwv.com/wp-content/uploads/2019/03/elgransabor-06-e1517894257221.png
GEO:38.92349;-79.848286
X-APPLE-STRUCTURED-LOCATION;VALUE=URI;X-ADDRESS=El Gran Sabor 413 Kerens Ave Elkins WV 26241 USA 155 Kerens Ave United States;X-APPLE-RADIUS=500;X-TITLE=155 Kerens Ave:geo:-79.848286,38.92349
END:VEVENT
BEGIN:VEVENT
DTSTART;TZID=UTC:20231214T180000
DTEND;TZID=UTC:20231214T210000
DTSTAMP:20260425T222352
CREATED:20230519T003720Z
LAST-MODIFIED:20230519T003720Z
UID:27223-1702576800-1702587600@elkinsrandolphwv.com
SUMMARY:Gandy Dancer Theatre: Mountain Memories Christmas
DESCRIPTION:Mountain Memories Christmas\n\n\n\nCelebrate the “Reason for the Season” at the Gandy Dancer Theatre! This incredible cast includes talented singers\, beautiful costumed dancers\, comedians and the finest musicians around.\n \n\n\nMatinee\n~ Arrive at 11:30 am ~\n~ Lunch at 12:00 pm ~\n~ Show Only arrive at 12:30 pm ~\n~ Show at 1:00 pm ~ \n\n\nEvening\n~ Arrive at 5:30 pm ~\n~ Dinner at 6:00 pm ~\n~ Show Only arrive at 6:30 pm ~\n~ Show at 7:00 pm ~ \n\n\n\nMeal includes\nRotisserie chicken breast\, ham\, baked potato\, coleslaw\, green beans\, dinner roll\, dessert and beverage. \n\nRates (do not include tax or fees):\n\n\n\n\nShow and Meal\n\n\nAdult\n$42.95 per person\n\n\nSenior (55 yrs +)\n$40.95 per person\n\n\nYouth 4-11 yrs\n$23.95 per youth\n\n\nChildren 3 yrs and under\nFree\n\n\nAdult Military\n$38.66 per person\n\n\nSenior (55+) Military\n$36.86 per person\n\n\n\n\n\n\nShow Only\n\n\nAdult\n$27.95 per person\n\n\nSenior (55 yrs +)\n$26.95 per person\n\n\nYouth 4-11 yrs\n$15.95 per youth\n\n\nChildren 3 yrs and under\nFree\n\n\n\n\n\nCALENDAR & BOOK TICKETS
URL:https://elkinsrandolphwv.com/event/gandy-dancer-theatre-mountain-memories-christmas-2/2023-12-14/
LOCATION:Gandy Dancer Theatre and Conference Center\, 359 Beverly Pike\, Elkins\, WV 26241\, USA\, United States
CATEGORIES:Art & Culture,Entertainment,Food,Food & Drink,Kids & Family,Music
ATTACH;FMTTYPE=image/png:https://elkinsrandolphwv.com/wp-content/uploads/2023/05/shows_christmas2015.png
GEO:38.918641;-79.842607
END:VEVENT
BEGIN:VEVENT
DTSTART;TZID=UTC:20231215T200000
DTEND;TZID=UTC:20231215T220000
DTSTAMP:20260425T222352
CREATED:20231208T200702Z
LAST-MODIFIED:20231208T200918Z
UID:28028-1702670400-1702677600@elkinsrandolphwv.com
SUMMARY:Live Music @ El Gran Sabor - William Metheny
DESCRIPTION:
URL:https://elkinsrandolphwv.com/event/live-music-el-gran-sabor-william-metheny/
LOCATION:El Gran Sabor\, 413 Kerens Ave\, Elkins\, WV 26241\, USA\, 155 Kerens Ave\, United States
CATEGORIES:Entertainment,Food & Drink,Music
ATTACH;FMTTYPE=image/png:https://elkinsrandolphwv.com/wp-content/uploads/2019/03/elgransabor-06-e1517894257221.png
GEO:38.92349;-79.848286
X-APPLE-STRUCTURED-LOCATION;VALUE=URI;X-ADDRESS=El Gran Sabor 413 Kerens Ave Elkins WV 26241 USA 155 Kerens Ave United States;X-APPLE-RADIUS=500;X-TITLE=155 Kerens Ave:geo:-79.848286,38.92349
END:VEVENT
BEGIN:VEVENT
DTSTART;TZID=UTC:20231216T190000
DTEND;TZID=UTC:20231216T210000
DTSTAMP:20260425T222352
CREATED:20231212T215607Z
LAST-MODIFIED:20231212T215607Z
UID:28051-1702753200-1702760400@elkinsrandolphwv.com
SUMMARY:Ugly Christmas Sweater & Open Mic Night
DESCRIPTION:Wear your quirkiest\, ugliest Christmas sweater for festive fun\, with live\, local music!
URL:https://elkinsrandolphwv.com/event/ugly-christmas-sweater-open-mic-night/
LOCATION:Beander’s Restaurant & Tavern\, 314 Davis Ave\, Elkins\, WV\, 26241\, United States
CATEGORIES:Entertainment,Food & Drink,Music
ATTACH;FMTTYPE=image/png:https://elkinsrandolphwv.com/wp-content/uploads/2023/12/Screenshot-2023-12-12-11.54.19-AM.png
GEO:38.944536;-79.85025
X-APPLE-STRUCTURED-LOCATION;VALUE=URI;X-ADDRESS=Beander’s Restaurant & Tavern 314 Davis Ave Elkins WV 26241 United States;X-APPLE-RADIUS=500;X-TITLE=314 Davis Ave:geo:-79.85025,38.944536
END:VEVENT
BEGIN:VEVENT
DTSTART;TZID=UTC:20231216T190000
DTEND;TZID=UTC:20231216T220000
DTSTAMP:20260425T222352
CREATED:20231120T203451Z
LAST-MODIFIED:20231120T203451Z
UID:27920-1702753200-1702764000@elkinsrandolphwv.com
SUMMARY:Oyo @ Big Timber Brewing
DESCRIPTION:Enjoy a performance by Oyo at Big Timber Brewing on December 16th at 7pm. Oyo is equal parts honky-tonk and barn dance\, with an indie rock undercurrent.
URL:https://elkinsrandolphwv.com/event/oyo-big-timber-brewing/
LOCATION:Big Timber Brewing\, 2 Davis Avenue\, Elkins\, WV\, 26241\, United States
CATEGORIES:Entertainment,Food & Drink
ATTACH;FMTTYPE=image/jpeg:https://elkinsrandolphwv.com/wp-content/uploads/2023/11/Oyo-Music--e1700494478178.jpeg
END:VEVENT
BEGIN:VEVENT
DTSTART;TZID=UTC:20231220T200000
DTEND;TZID=UTC:20231220T220000
DTSTAMP:20260425T222352
CREATED:20231208T202409Z
LAST-MODIFIED:20231208T202409Z
UID:28030-1703102400-1703109600@elkinsrandolphwv.com
SUMMARY:Live Music @ El Gran Sabor - Appalachian Jazz Project
DESCRIPTION:
URL:https://elkinsrandolphwv.com/event/live-music-el-gran-sabor-appalachian-jazz-project/
LOCATION:El Gran Sabor\, 413 Kerens Ave\, Elkins\, WV 26241\, USA\, 155 Kerens Ave\, United States
CATEGORIES:Entertainment,Food & Drink,Music
ATTACH;FMTTYPE=image/png:https://elkinsrandolphwv.com/wp-content/uploads/2019/05/elgransabor-06-e1517894257221.png
GEO:38.92349;-79.848286
X-APPLE-STRUCTURED-LOCATION;VALUE=URI;X-ADDRESS=El Gran Sabor 413 Kerens Ave Elkins WV 26241 USA 155 Kerens Ave United States;X-APPLE-RADIUS=500;X-TITLE=155 Kerens Ave:geo:-79.848286,38.92349
END:VEVENT
BEGIN:VEVENT
DTSTART;TZID=UTC:20231222T200000
DTEND;TZID=UTC:20231222T220000
DTSTAMP:20260425T222352
CREATED:20231208T205549Z
LAST-MODIFIED:20231208T205549Z
UID:28032-1703275200-1703282400@elkinsrandolphwv.com
SUMMARY:El Gran Sabor's 21st Anniversary - Light It Up Dance Party
DESCRIPTION:Celebrate El Gran Sabor’s 21st Anniversary and Scott Goddard’s 50th Birthday with DJ Steve Spin & Stix Newsom Light It Up Dance Party!
URL:https://elkinsrandolphwv.com/event/el-gran-sabors-21st-anniversary-light-it-up-dance-party/
LOCATION:El Gran Sabor\, 413 Kerens Ave\, Elkins\, WV 26241\, USA\, 155 Kerens Ave\, United States
CATEGORIES:Entertainment,Food & Drink,Music
ATTACH;FMTTYPE=image/png:https://elkinsrandolphwv.com/wp-content/uploads/2019/05/elgransabor-06-e1517894257221.png
GEO:38.92349;-79.848286
X-APPLE-STRUCTURED-LOCATION;VALUE=URI;X-ADDRESS=El Gran Sabor 413 Kerens Ave Elkins WV 26241 USA 155 Kerens Ave United States;X-APPLE-RADIUS=500;X-TITLE=155 Kerens Ave:geo:-79.848286,38.92349
END:VEVENT
BEGIN:VEVENT
DTSTART;TZID=UTC:20231225T120000
DTEND;TZID=UTC:20231225T170000
DTSTAMP:20260425T222352
CREATED:20231220T010736Z
LAST-MODIFIED:20231220T010836Z
UID:28097-1703505600-1703523600@elkinsrandolphwv.com
SUMMARY:Christmas Day Buffet @ Yonder
DESCRIPTION:
URL:https://elkinsrandolphwv.com/event/christmas-day-buffet/
LOCATION:Graceland Inn and Conference Center\, 100 Campus Drive\, Elkins\, WV\, 26241\, United States\, United States
CATEGORIES:Food & Drink
ATTACH;FMTTYPE=image/png:https://elkinsrandolphwv.com/wp-content/uploads/2019/03/graceland_logo.png
GEO:38.937829;-79.846134
END:VEVENT
BEGIN:VEVENT
DTSTART;TZID=UTC:20231227T200000
DTEND;TZID=UTC:20231227T220000
DTSTAMP:20260425T222352
CREATED:20231208T212204Z
LAST-MODIFIED:20231208T212204Z
UID:28034-1703707200-1703714400@elkinsrandolphwv.com
SUMMARY:Live Music @ El Gran Sabor - Pam & Shannon Roberts
DESCRIPTION:
URL:https://elkinsrandolphwv.com/event/live-music-el-gran-sabor-pam-shannon-roberts/
LOCATION:El Gran Sabor\, 413 Kerens Ave\, Elkins\, WV 26241\, USA\, 155 Kerens Ave\, United States
CATEGORIES:Entertainment,Food & Drink,Music
ATTACH;FMTTYPE=image/png:https://elkinsrandolphwv.com/wp-content/uploads/2019/05/elgransabor-06-e1517894257221.png
GEO:38.92349;-79.848286
X-APPLE-STRUCTURED-LOCATION;VALUE=URI;X-ADDRESS=El Gran Sabor 413 Kerens Ave Elkins WV 26241 USA 155 Kerens Ave United States;X-APPLE-RADIUS=500;X-TITLE=155 Kerens Ave:geo:-79.848286,38.92349
END:VEVENT
BEGIN:VEVENT
DTSTART;TZID=UTC:20231229T200000
DTEND;TZID=UTC:20231229T220000
DTSTAMP:20260425T222352
CREATED:20231208T215947Z
LAST-MODIFIED:20231208T215947Z
UID:28036-1703880000-1703887200@elkinsrandolphwv.com
SUMMARY:Live Music @ El Gran Sabor - Juice Newsom & The Groove
DESCRIPTION:
URL:https://elkinsrandolphwv.com/event/live-music-el-gran-sabor-juice-newsom-the-groove/
LOCATION:El Gran Sabor\, 413 Kerens Ave\, Elkins\, WV 26241\, USA\, 155 Kerens Ave\, United States
CATEGORIES:Entertainment,Food & Drink,Music
ATTACH;FMTTYPE=image/png:https://elkinsrandolphwv.com/wp-content/uploads/2019/05/elgransabor-06-e1517894257221.png
GEO:38.92349;-79.848286
X-APPLE-STRUCTURED-LOCATION;VALUE=URI;X-ADDRESS=El Gran Sabor 413 Kerens Ave Elkins WV 26241 USA 155 Kerens Ave United States;X-APPLE-RADIUS=500;X-TITLE=155 Kerens Ave:geo:-79.848286,38.92349
END:VEVENT
BEGIN:VEVENT
DTSTART;TZID=UTC:20231230T210000
DTEND;TZID=UTC:20231230T230000
DTSTAMP:20260425T222352
CREATED:20231220T004842Z
LAST-MODIFIED:20231220T004842Z
UID:28089-1703970000-1703977200@elkinsrandolphwv.com
SUMMARY:MINKA - Live Music @ El Gran Sabor
DESCRIPTION:MINKA returns to Elkins\, WV with their High Energy Synth Funk on the mission to make people move!
URL:https://elkinsrandolphwv.com/event/minka-live-music-el-gran-sabor/
LOCATION:El Gran Sabor\, 413 Kerens Ave\, Elkins\, WV 26241\, USA\, 155 Kerens Ave\, United States
CATEGORIES:Entertainment,Food & Drink,Music
ATTACH;FMTTYPE=image/png:https://elkinsrandolphwv.com/wp-content/uploads/2023/12/Screenshot-2023-12-19-2.46.49-PM.png
GEO:38.92349;-79.848286
X-APPLE-STRUCTURED-LOCATION;VALUE=URI;X-ADDRESS=El Gran Sabor 413 Kerens Ave Elkins WV 26241 USA 155 Kerens Ave United States;X-APPLE-RADIUS=500;X-TITLE=155 Kerens Ave:geo:-79.848286,38.92349
END:VEVENT
BEGIN:VEVENT
DTSTART;TZID=UTC:20231231T190000
DTEND;TZID=UTC:20231231T210000
DTSTAMP:20260425T222352
CREATED:20231219T235851Z
LAST-MODIFIED:20231219T235851Z
UID:28063-1704049200-1704056400@elkinsrandolphwv.com
SUMMARY:Chef Kevin's Streatery - New Years Eve Wine Dinner
DESCRIPTION:5 courses\, 5 wines – $100 a person \nDance the night away! \nA portion of proceeds will be donated to Davis Health System Foundation
URL:https://elkinsrandolphwv.com/event/chef-kevins-streatery-new-years-eve-wine-dinner/
LOCATION:Orchard Hall\, 476 Harper Road\, Elkins\, WV\, 26241\, United States
CATEGORIES:Entertainment,Food & Drink,Music
ATTACH;FMTTYPE=image/png:https://elkinsrandolphwv.com/wp-content/uploads/2023/12/Screenshot-2023-12-19-1.58.08-PM.png
END:VEVENT
BEGIN:VEVENT
DTSTART;TZID=UTC:20240101T120000
DTEND;TZID=UTC:20240101T150000
DTSTAMP:20260425T222352
CREATED:20231220T001043Z
LAST-MODIFIED:20231220T001043Z
UID:28069-1704110400-1704121200@elkinsrandolphwv.com
SUMMARY:2024 Polar Plunge
DESCRIPTION:Unpack those swim suits and plan to join us for the 5th annual Polar Plunge! Participants will receive an exclusive event t-shirt and all proceeds benefit the Randolph County Humane Society! Registration fee is $15.
URL:https://elkinsrandolphwv.com/event/2024-polar-plunge/
LOCATION:Scotts Ford Landing\, 121 Valley Court\, Elkins\, WV\, 26241
CATEGORIES:Fairs & Festivals,Food & Drink,Kids & Family
ATTACH;FMTTYPE=image/png:https://elkinsrandolphwv.com/wp-content/uploads/2023/12/Screenshot-2023-12-19-2.09.08-PM.png
END:VEVENT
BEGIN:VEVENT
DTSTART;TZID=UTC:20240105T200000
DTEND;TZID=UTC:20240105T220000
DTSTAMP:20260425T222352
CREATED:20240104T013714Z
LAST-MODIFIED:20240104T013714Z
UID:28099-1704484800-1704492000@elkinsrandolphwv.com
SUMMARY:Live Music @ El Gran Sabor - Quinn Sternberg
DESCRIPTION:
URL:https://elkinsrandolphwv.com/event/live-music-el-gran-sabor-quinn-sternberg/
LOCATION:El Gran Sabor\, 413 Kerens Ave\, Elkins\, WV 26241\, USA\, 155 Kerens Ave\, United States
CATEGORIES:Entertainment,Food & Drink,Music
ATTACH;FMTTYPE=image/jpeg:https://elkinsrandolphwv.com/wp-content/uploads/2019/07/el-gran-sabor-e1726104755868.jpg
GEO:38.92349;-79.848286
X-APPLE-STRUCTURED-LOCATION;VALUE=URI;X-ADDRESS=El Gran Sabor 413 Kerens Ave Elkins WV 26241 USA 155 Kerens Ave United States;X-APPLE-RADIUS=500;X-TITLE=155 Kerens Ave:geo:-79.848286,38.92349
END:VEVENT
BEGIN:VEVENT
DTSTART;TZID=UTC:20240112T200000
DTEND;TZID=UTC:20240112T220000
DTSTAMP:20260425T222352
CREATED:20240104T014015Z
LAST-MODIFIED:20240104T014015Z
UID:28101-1705089600-1705096800@elkinsrandolphwv.com
SUMMARY:Pours for Paws @ Beander's
DESCRIPTION:Pours for Paws for the Randolph County Humane Society \nGuest Bartenders: Steve & Cody Kerns
URL:https://elkinsrandolphwv.com/event/pours-for-paws-beanders/
LOCATION:Beander’s Restaurant & Tavern\, 314 Davis Ave\, Elkins\, WV\, 26241\, United States
CATEGORIES:Entertainment,Food & Drink
ATTACH;FMTTYPE=image/png:https://elkinsrandolphwv.com/wp-content/uploads/2019/03/main-logo-e1726601056111.png
GEO:38.944536;-79.85025
X-APPLE-STRUCTURED-LOCATION;VALUE=URI;X-ADDRESS=Beander’s Restaurant & Tavern 314 Davis Ave Elkins WV 26241 United States;X-APPLE-RADIUS=500;X-TITLE=314 Davis Ave:geo:-79.85025,38.944536
END:VEVENT
BEGIN:VEVENT
DTSTART;TZID=UTC:20240112T200000
DTEND;TZID=UTC:20240112T220000
DTSTAMP:20260425T222352
CREATED:20240113T210214Z
LAST-MODIFIED:20240113T210214Z
UID:28130-1705089600-1705096800@elkinsrandolphwv.com
SUMMARY:Live Music - John Colby Elswick (of the Kind Thieves)
DESCRIPTION:
URL:https://elkinsrandolphwv.com/event/live-music-john-colby-elswick-of-the-kind-thieves/
LOCATION:El Gran Sabor\, 413 Kerens Ave\, Elkins\, WV 26241\, USA\, 155 Kerens Ave\, United States
CATEGORIES:Entertainment,Food & Drink,Music
ATTACH;FMTTYPE=image/jpeg:https://elkinsrandolphwv.com/wp-content/uploads/2019/07/el-gran-sabor-e1726104755868.jpg
GEO:38.92349;-79.848286
X-APPLE-STRUCTURED-LOCATION;VALUE=URI;X-ADDRESS=El Gran Sabor 413 Kerens Ave Elkins WV 26241 USA 155 Kerens Ave United States;X-APPLE-RADIUS=500;X-TITLE=155 Kerens Ave:geo:-79.848286,38.92349
END:VEVENT
BEGIN:VEVENT
DTSTART;TZID=UTC:20240119T200000
DTEND;TZID=UTC:20240119T220000
DTSTAMP:20260425T222352
CREATED:20240113T210350Z
LAST-MODIFIED:20240113T210350Z
UID:28132-1705694400-1705701600@elkinsrandolphwv.com
SUMMARY:Live Music @ El Gran Sabor - Born Old
DESCRIPTION:
URL:https://elkinsrandolphwv.com/event/live-music-el-gran-sabor-born-old/
LOCATION:El Gran Sabor\, 413 Kerens Ave\, Elkins\, WV 26241\, USA\, 155 Kerens Ave\, United States
CATEGORIES:Entertainment,Food & Drink,Music
ATTACH;FMTTYPE=image/png:https://elkinsrandolphwv.com/wp-content/uploads/2019/03/elgransabor-06-e1517894257221.png
GEO:38.92349;-79.848286
X-APPLE-STRUCTURED-LOCATION;VALUE=URI;X-ADDRESS=El Gran Sabor 413 Kerens Ave Elkins WV 26241 USA 155 Kerens Ave United States;X-APPLE-RADIUS=500;X-TITLE=155 Kerens Ave:geo:-79.848286,38.92349
END:VEVENT
BEGIN:VEVENT
DTSTART;TZID=UTC:20240126T200000
DTEND;TZID=UTC:20240126T220000
DTSTAMP:20260425T222352
CREATED:20240113T210718Z
LAST-MODIFIED:20240113T210718Z
UID:28134-1706299200-1706306400@elkinsrandolphwv.com
SUMMARY:Live Music @ El Gran Sabor - The Dick Quinn Band
DESCRIPTION:
URL:https://elkinsrandolphwv.com/event/live-music-el-gran-sabor-the-dick-quinn-band/
LOCATION:El Gran Sabor\, 413 Kerens Ave\, Elkins\, WV 26241\, USA\, 155 Kerens Ave\, United States
CATEGORIES:Entertainment,Food & Drink,Music
ATTACH;FMTTYPE=image/jpeg:https://elkinsrandolphwv.com/wp-content/uploads/2019/07/el-gran-sabor-e1726104755868.jpg
GEO:38.92349;-79.848286
X-APPLE-STRUCTURED-LOCATION;VALUE=URI;X-ADDRESS=El Gran Sabor 413 Kerens Ave Elkins WV 26241 USA 155 Kerens Ave United States;X-APPLE-RADIUS=500;X-TITLE=155 Kerens Ave:geo:-79.848286,38.92349
END:VEVENT
BEGIN:VEVENT
DTSTART;TZID=UTC:20240128T180000
DTEND;TZID=UTC:20240128T210000
DTSTAMP:20260425T222352
CREATED:20240114T193309Z
LAST-MODIFIED:20240114T193309Z
UID:28176-1706464800-1706475600@elkinsrandolphwv.com
SUMMARY:January Chef's Table
DESCRIPTION:
URL:https://elkinsrandolphwv.com/event/january-chefs-table/
LOCATION:The Forks\, 35 Scenic Ridge Rd\, Elkins\, 26241\, United States
CATEGORIES:Food & Drink
ATTACH;FMTTYPE=image/jpeg:https://elkinsrandolphwv.com/wp-content/uploads/2019/03/forks.jpg
END:VEVENT
BEGIN:VEVENT
DTSTART;TZID=UTC:20240206T190000
DTEND;TZID=UTC:20240206T210000
DTSTAMP:20260425T222352
CREATED:20240206T000810Z
LAST-MODIFIED:20240206T000810Z
UID:28262-1707246000-1707253200@elkinsrandolphwv.com
SUMMARY:Taco Tuesday Tunes
DESCRIPTION:Michael Zastawniak is Back and Ready to Bring it with his Great Variety of Covers this Tuesday.
URL:https://elkinsrandolphwv.com/event/taco-tuesday-tunes/
LOCATION:Jimbo’s Place\, 302 Davis Avenue\, Elkins\, WV\, 26241\, United States
CATEGORIES:Entertainment,Food & Drink,Music
ATTACH;FMTTYPE=image/png:https://elkinsrandolphwv.com/wp-content/uploads/2024/02/Screenshot-2024-02-05-2.04.20-PM.png
END:VEVENT
BEGIN:VEVENT
DTSTART;TZID=UTC:20240216T180000
DTEND;TZID=UTC:20240216T200000
DTSTAMP:20260425T222352
CREATED:20240214T214856Z
LAST-MODIFIED:20240214T214856Z
UID:28347-1708106400-1708113600@elkinsrandolphwv.com
SUMMARY:Aphrodisiac Wine Dinner
DESCRIPTION:
URL:https://elkinsrandolphwv.com/event/aphrodisiac-wine-dinner/
LOCATION:Graceland Inn and Restaurant\, 100 Campus Drive\, Elkins\, WV\, 26241\, United States
CATEGORIES:Food & Drink
ATTACH;FMTTYPE=image/png:https://elkinsrandolphwv.com/wp-content/uploads/2024/02/Screenshot-2024-02-14-11.46.30-AM.png
END:VEVENT
BEGIN:VEVENT
DTSTART;TZID=UTC:20240225T180000
DTEND;TZID=UTC:20240225T200000
DTSTAMP:20260425T222352
CREATED:20240214T212027Z
LAST-MODIFIED:20240214T212027Z
UID:28339-1708884000-1708891200@elkinsrandolphwv.com
SUMMARY:New Orleans Chef's Table
DESCRIPTION:Join us for an unforgettable culinary journey at our New Orleans Chef’s Table event on February 25th! Indulge in the vibrant flavors of the Big Easy as Chef Stalnaker showcases his finest creations. From savory Shrimp Gumbo to decadent Sweet Potato Pie\, each dish promises to tantalize your taste buds and transport you to the heart of Louisiana. Don’t miss out on this exquisite dining experience! Book your seat now and experience the finest in culinary excellence. For reservations\, you can visit our website attheforks.com or give us a call at 304-637-0932!
URL:https://elkinsrandolphwv.com/event/new-orleans-chefs-table/
LOCATION:The Forks\, 35 Scenic Ridge Rd\, Elkins\, 26241\, United States
CATEGORIES:Food & Drink
ATTACH;FMTTYPE=image/jpeg:https://elkinsrandolphwv.com/wp-content/uploads/2019/03/forks.jpg
END:VEVENT
BEGIN:VEVENT
DTSTART;TZID=UTC:20240301T200000
DTEND;TZID=UTC:20240301T220000
DTSTAMP:20260425T222352
CREATED:20240227T233250Z
LAST-MODIFIED:20240227T233250Z
UID:28443-1709323200-1709330400@elkinsrandolphwv.com
SUMMARY:Live Music @ El Gran Sabor - Jeremy Short
DESCRIPTION:
URL:https://elkinsrandolphwv.com/event/live-music-el-gran-sabor-jeremy-short/
LOCATION:El Gran Sabor\, 413 Kerens Ave\, Elkins\, WV 26241\, USA\, 155 Kerens Ave\, United States
CATEGORIES:Entertainment,Food & Drink
ATTACH;FMTTYPE=image/jpeg:https://elkinsrandolphwv.com/wp-content/uploads/2019/07/el-gran-sabor-e1726104755868.jpg
GEO:38.92349;-79.848286
X-APPLE-STRUCTURED-LOCATION;VALUE=URI;X-ADDRESS=El Gran Sabor 413 Kerens Ave Elkins WV 26241 USA 155 Kerens Ave United States;X-APPLE-RADIUS=500;X-TITLE=155 Kerens Ave:geo:-79.848286,38.92349
END:VEVENT
BEGIN:VEVENT
DTSTART;TZID=UTC:20240305T190000
DTEND;TZID=UTC:20240305T210000
DTSTAMP:20260425T222352
CREATED:20240214T215800Z
LAST-MODIFIED:20240214T215800Z
UID:28350-1709665200-1709672400@elkinsrandolphwv.com
SUMMARY:Comedy Show with Bobby Benavides
DESCRIPTION:
URL:https://elkinsrandolphwv.com/event/comedy-show-with-bobby-benavides/
LOCATION:Jimbo’s Place\, 302 Davis Avenue\, Elkins\, WV\, 26241\, United States
CATEGORIES:Entertainment,Food & Drink
ATTACH;FMTTYPE=image/png:https://elkinsrandolphwv.com/wp-content/uploads/2024/02/Screenshot-2024-02-14-11.54.59-AM.png
END:VEVENT
BEGIN:VEVENT
DTSTART;TZID=UTC:20240308T160000
DTEND;TZID=UTC:20240308T190000
DTSTAMP:20260425T222352
CREATED:20240307T010845Z
LAST-MODIFIED:20240307T010845Z
UID:28476-1709913600-1709924400@elkinsrandolphwv.com
SUMMARY:Knights of Columbus Friday Fish Fry
DESCRIPTION:$9 per meal.  Dine-in or Take-out.  Fish\, French Fries\, Cole Slaw\, Bread\, Drink\, and Dessert.
URL:https://elkinsrandolphwv.com/event/knights-of-columbus-friday-fish-fry/2024-03-08/
LOCATION:St Brendan Catholic Church\, US-250\, Elkins\, WV
CATEGORIES:Community,Food & Drink
ATTACH;FMTTYPE=image/png:https://elkinsrandolphwv.com/wp-content/uploads/2024/03/Screenshot-2024-03-06-3.07.11-PM.png
END:VEVENT
BEGIN:VEVENT
DTSTART;TZID=UTC:20240308T210000
DTEND;TZID=UTC:20240308T220000
DTSTAMP:20260425T222352
CREATED:20240206T001546Z
LAST-MODIFIED:20240206T001546Z
UID:28265-1709931600-1709935200@elkinsrandolphwv.com
SUMMARY:Live Music @ El Gran - 90s and 00s Night
DESCRIPTION:Motorcycle Drive By returns to El Gran Sabor in Elkins\, WV for a night of all of your favorite 90s and 00s songs.
URL:https://elkinsrandolphwv.com/event/live-music-el-gran-90s-and-00s-night/
LOCATION:El Gran Sabor\, 413 Kerens Ave\, Elkins\, WV 26241\, USA\, 155 Kerens Ave\, United States
CATEGORIES:Entertainment,Food & Drink,Music
ATTACH;FMTTYPE=image/png:https://elkinsrandolphwv.com/wp-content/uploads/2024/02/Screenshot-2024-02-05-2.15.01-PM.png
GEO:38.92349;-79.848286
X-APPLE-STRUCTURED-LOCATION;VALUE=URI;X-ADDRESS=El Gran Sabor 413 Kerens Ave Elkins WV 26241 USA 155 Kerens Ave United States;X-APPLE-RADIUS=500;X-TITLE=155 Kerens Ave:geo:-79.848286,38.92349
END:VEVENT
BEGIN:VEVENT
DTSTART;TZID=UTC:20240316T200000
DTEND;TZID=UTC:20240316T220000
DTSTAMP:20260425T222352
CREATED:20240221T212848Z
LAST-MODIFIED:20240221T212848Z
UID:28370-1710619200-1710626400@elkinsrandolphwv.com
SUMMARY:Saint Patrick's Day with The Devils Brigade
DESCRIPTION:Come celebrate St Patrick’s Day with us on Saturday the 16th!!\nThe Devils Brigade will be taking the stage at 8pm with electrically charged Celtic music and some awesome Irish Rock tunes.\nWe will have Sluice Dry Stout back on tap and some other crowd favorites.\n$10.00 cover at door.
URL:https://elkinsrandolphwv.com/event/saint-patricks-day-with-the-devils-brigade/
LOCATION:Big Timber Brewing\, 2 Davis Avenue\, Elkins\, WV\, 26241\, United States
CATEGORIES:Entertainment,Food & Drink,Music
ATTACH;FMTTYPE=image/png:https://elkinsrandolphwv.com/wp-content/uploads/2024/02/Screenshot-2024-02-21-11.26.19-AM.png
END:VEVENT
BEGIN:VEVENT
DTSTART;TZID=UTC:20240322T203000
DTEND;TZID=UTC:20240322T220000
DTSTAMP:20260425T222352
CREATED:20240206T020347Z
LAST-MODIFIED:20240206T020347Z
UID:28276-1711139400-1711144800@elkinsrandolphwv.com
SUMMARY:Live Music @ El Gran Sabor - JGBB
DESCRIPTION:
URL:https://elkinsrandolphwv.com/event/live-music-el-gran-sabor-jgbb/
LOCATION:El Gran Sabor\, 413 Kerens Ave\, Elkins\, WV 26241\, USA\, 155 Kerens Ave\, United States
CATEGORIES:Entertainment,Food & Drink,Music
ATTACH;FMTTYPE=image/jpeg:https://elkinsrandolphwv.com/wp-content/uploads/2019/07/el-gran-sabor-e1726104755868.jpg
GEO:38.92349;-79.848286
X-APPLE-STRUCTURED-LOCATION;VALUE=URI;X-ADDRESS=El Gran Sabor 413 Kerens Ave Elkins WV 26241 USA 155 Kerens Ave United States;X-APPLE-RADIUS=500;X-TITLE=155 Kerens Ave:geo:-79.848286,38.92349
END:VEVENT
BEGIN:VEVENT
DTSTART;TZID=UTC:20240323T070000
DTEND;TZID=UTC:20240323T120000
DTSTAMP:20260425T222352
CREATED:20240207T033113Z
LAST-MODIFIED:20240207T033113Z
UID:28292-1711177200-1711195200@elkinsrandolphwv.com
SUMMARY:Camp Pioneer Easter Egg Hunt
DESCRIPTION:
URL:https://elkinsrandolphwv.com/event/camp-pioneer-easter-egg-hunt/
LOCATION:Camp Pioneer\, 38 Pioneer Circle\, Kings Run Rd\, Beverly\, WV 26253\, USA\, 38 Pioneer Circle\, Kings Run Road\, Beverly\, WV\, United States
CATEGORIES:Community,Food & Drink,Kids & Family
ATTACH;FMTTYPE=image/png:https://elkinsrandolphwv.com/wp-content/uploads/2024/02/Screenshot-2024-02-06-5.30.23-PM.png
GEO:38.818697;-79.853493
X-APPLE-STRUCTURED-LOCATION;VALUE=URI;X-ADDRESS=Camp Pioneer 38 Pioneer Circle Kings Run Rd Beverly WV 26253 USA 38 Pioneer Circle Kings Run Road Beverly WV United States;X-APPLE-RADIUS=500;X-TITLE=38 Pioneer Circle\, Kings Run Road:geo:-79.853493,38.818697
END:VEVENT
END:VCALENDAR