BEGIN:VCALENDAR
VERSION:2.0
PRODID:-//Elkins-Randolph County Tourism - ECPv6.15.17.1//NONSGML v1.0//EN
CALSCALE:GREGORIAN
METHOD:PUBLISH
X-ORIGINAL-URL:https://elkinsrandolphwv.com
X-WR-CALDESC:Events for Elkins-Randolph County Tourism
REFRESH-INTERVAL;VALUE=DURATION:PT1H
X-Robots-Tag:noindex
X-PUBLISHED-TTL:PT1H
BEGIN:VTIMEZONE
TZID:UTC
BEGIN:STANDARD
TZOFFSETFROM:+0000
TZOFFSETTO:+0000
TZNAME:UTC
DTSTART:20230101T000000
END:STANDARD
END:VTIMEZONE
BEGIN:VEVENT
DTSTART;TZID=UTC:20240322T203000
DTEND;TZID=UTC:20240322T220000
DTSTAMP:20260419T114804
CREATED:20240206T020347Z
LAST-MODIFIED:20240206T020347Z
UID:28276-1711139400-1711144800@elkinsrandolphwv.com
SUMMARY:Live Music @ El Gran Sabor - JGBB
DESCRIPTION:
URL:https://elkinsrandolphwv.com/event/live-music-el-gran-sabor-jgbb/
LOCATION:El Gran Sabor\, 413 Kerens Ave\, Elkins\, WV 26241\, USA\, 155 Kerens Ave\, United States
CATEGORIES:Entertainment,Food & Drink,Music
ATTACH;FMTTYPE=image/jpeg:https://elkinsrandolphwv.com/wp-content/uploads/2019/07/el-gran-sabor-e1726104755868.jpg
GEO:38.92349;-79.848286
X-APPLE-STRUCTURED-LOCATION;VALUE=URI;X-ADDRESS=El Gran Sabor 413 Kerens Ave Elkins WV 26241 USA 155 Kerens Ave United States;X-APPLE-RADIUS=500;X-TITLE=155 Kerens Ave:geo:-79.848286,38.92349
END:VEVENT
BEGIN:VEVENT
DTSTART;TZID=UTC:20240323T070000
DTEND;TZID=UTC:20240323T120000
DTSTAMP:20260419T114804
CREATED:20240207T033113Z
LAST-MODIFIED:20240207T033113Z
UID:28292-1711177200-1711195200@elkinsrandolphwv.com
SUMMARY:Camp Pioneer Easter Egg Hunt
DESCRIPTION:
URL:https://elkinsrandolphwv.com/event/camp-pioneer-easter-egg-hunt/
LOCATION:Camp Pioneer\, 38 Pioneer Circle\, Kings Run Rd\, Beverly\, WV 26253\, USA\, 38 Pioneer Circle\, Kings Run Road\, Beverly\, WV\, United States
CATEGORIES:Community,Food & Drink,Kids & Family
ATTACH;FMTTYPE=image/png:https://elkinsrandolphwv.com/wp-content/uploads/2024/02/Screenshot-2024-02-06-5.30.23-PM.png
GEO:38.818697;-79.853493
X-APPLE-STRUCTURED-LOCATION;VALUE=URI;X-ADDRESS=Camp Pioneer 38 Pioneer Circle Kings Run Rd Beverly WV 26253 USA 38 Pioneer Circle Kings Run Road Beverly WV United States;X-APPLE-RADIUS=500;X-TITLE=38 Pioneer Circle\, Kings Run Road:geo:-79.853493,38.818697
END:VEVENT
BEGIN:VEVENT
DTSTART;TZID=UTC:20240324T180000
DTEND;TZID=UTC:20240324T200000
DTSTAMP:20260419T114804
CREATED:20240320T234616Z
LAST-MODIFIED:20240320T234616Z
UID:28525-1711303200-1711310400@elkinsrandolphwv.com
SUMMARY:Mediterranean Chef's Table
DESCRIPTION:Join us for an unforgettable culinary journey at our Mediterranean Chef’s Table event on Sunday March 24th! Indulge in the vibrant flavors of the Mediterranean as Chef Stalnaker showcases his finest creations. Don’t miss out on this exquisite dining experience! Book your seat now and experience the finest in culinary excellence. For reservations\, you can visit our event website https://www.exploretock.com/…/mediterranean-chefs-table…\nor give us a call at 304-637-0932!
URL:https://elkinsrandolphwv.com/event/mediterranean-chefs-table/
LOCATION:The Forks\, 35 Scenic Ridge Rd\, Elkins\, 26241\, United States
CATEGORIES:Entertainment,Food & Drink
ATTACH;FMTTYPE=image/jpeg:https://elkinsrandolphwv.com/wp-content/uploads/2019/03/forks.jpg
END:VEVENT
BEGIN:VEVENT
DTSTART;TZID=UTC:20240328T110000
DTEND;TZID=UTC:20240328T230000
DTSTAMP:20260419T114804
CREATED:20240229T222427Z
LAST-MODIFIED:20240229T222427Z
UID:28449-1711623600-1711666800@elkinsrandolphwv.com
SUMMARY:Clementine's Cantina - Grand Opening
DESCRIPTION:
URL:https://elkinsrandolphwv.com/event/clementines-cantina-grand-opening/
LOCATION:122 Davis Avenue\, 122 Davis Avenue\, Elkins\, WV\, 26241
CATEGORIES:Community,Food & Drink
ATTACH;FMTTYPE=image/png:https://elkinsrandolphwv.com/wp-content/uploads/2024/02/Screenshot-2024-02-29-12.23.50-PM.png
END:VEVENT
BEGIN:VEVENT
DTSTART;TZID=UTC:20240331T100000
DTEND;TZID=UTC:20240331T160000
DTSTAMP:20260419T114804
CREATED:20240327T023001Z
LAST-MODIFIED:20240327T023001Z
UID:28540-1711879200-1711900800@elkinsrandolphwv.com
SUMMARY:Easter Brunch Buffet at Oxley House
DESCRIPTION:Join us at Oxley House Cocktail Bar & Restaurant for an exquisite Easter Brunch Buffet that promises to be the highlight of your holiday celebrations. Mark your calendars for Sunday\, March 31st\, and choose from our three seatings at 10am\, 12pm\, and 2pm.
URL:https://elkinsrandolphwv.com/event/easter-brunch-buffet-at-oxley-house/
LOCATION:Oxley House\, 206 Davis Avenue\, Elkins\, WV
CATEGORIES:Community,Food & Drink
ATTACH;FMTTYPE=image/png:https://elkinsrandolphwv.com/wp-content/uploads/2024/03/Screenshot-2024-03-26-6.28.26-PM.png
END:VEVENT
BEGIN:VEVENT
DTSTART;TZID=UTC:20240405T190000
DTEND;TZID=UTC:20240405T210000
DTSTAMP:20260419T114804
CREATED:20240307T013101Z
LAST-MODIFIED:20240307T013101Z
UID:28487-1712343600-1712350800@elkinsrandolphwv.com
SUMMARY:Live Music with Shannon Jones
DESCRIPTION:
URL:https://elkinsrandolphwv.com/event/live-music-with-shannon-jones/
LOCATION:Big Timber Brewing\, 2 Davis Avenue\, Elkins\, WV\, 26241\, United States
CATEGORIES:Entertainment,Food & Drink
ATTACH;FMTTYPE=image/png:https://elkinsrandolphwv.com/wp-content/uploads/2024/03/Screenshot-2024-03-06-3.29.36-PM.png
END:VEVENT
BEGIN:VEVENT
DTSTART;TZID=UTC:20240426T173000
DTEND;TZID=UTC:20240426T190000
DTSTAMP:20260419T114804
CREATED:20240406T220427Z
LAST-MODIFIED:20240406T220427Z
UID:28586-1714152600-1714158000@elkinsrandolphwv.com
SUMMARY:Oxley House Cocktail Bar Class
DESCRIPTION:$250 Class – Cocktail Class\, Light Refreshments\, 10 Piece Mixology\, Bar Tool Set\, Dinner at the Oxley House\, Overnight Accommodations \n$150 Class – Cocktail Class\, Light Refreshments\, 10 Piece Mixology\, Bar Tool Set
URL:https://elkinsrandolphwv.com/event/oxley-house-cocktail-bar-class/
LOCATION:Tygart Hotel\, 206 Davis Avenue\, Elkins\, WV
CATEGORIES:Educational,Food & Drink
ATTACH;FMTTYPE=image/png:https://elkinsrandolphwv.com/wp-content/uploads/2024/04/Screenshot-2024-04-06-1.56.05-PM.png
END:VEVENT
BEGIN:VEVENT
DTSTART;VALUE=DATE:20240427
DTEND;VALUE=DATE:20240429
DTSTAMP:20260419T114804
CREATED:20240114T195948Z
LAST-MODIFIED:20240114T195948Z
UID:28185-1714183200-1714269599@elkinsrandolphwv.com
SUMMARY:Ramps and Rails Festival
DESCRIPTION:Enjoy\, the 14th Annual Ramps and Rail Festival!\nFood and Crafts\, Train Rides\, & Live Music!\nSave the date!
URL:https://elkinsrandolphwv.com/event/ramps-and-rails-festival-2/
LOCATION:Elkins Depot Welcome Center\, 315 Railroad Ave\, Elkins\, WV 26241\, USA\, 2 Railroad Ave\, United States
CATEGORIES:Entertainment,Fairs & Festivals,Food & Drink,Kids & Family,Outdoor Activities
ATTACH;FMTTYPE=image/jpeg:https://elkinsrandolphwv.com/wp-content/uploads/2019/03/ramps-rail-festival-picture.jpg
ORGANIZER;CN="Elkins Depot Welcome Center":MAILTO:elkinswelcomecenter@gmail.com
GEO:38.92313;-79.851004
X-APPLE-STRUCTURED-LOCATION;VALUE=URI;X-ADDRESS=Elkins Depot Welcome Center 315 Railroad Ave Elkins WV 26241 USA 2 Railroad Ave United States;X-APPLE-RADIUS=500;X-TITLE=2 Railroad Ave:geo:-79.851004,38.92313
END:VEVENT
BEGIN:VEVENT
DTSTART;TZID=UTC:20240428T180000
DTEND;TZID=UTC:20240428T210000
DTSTAMP:20260419T114804
CREATED:20240425T004733Z
LAST-MODIFIED:20240425T004733Z
UID:28662-1714327200-1714338000@elkinsrandolphwv.com
SUMMARY:Appalachian Chef's Table
DESCRIPTION:Spring is always a unique time for us at the Forks\, its a time that reminds us of growing up\, of getting back into the forest and a time for us to take stock in where we came from and where we are now. Growing up in rural West Virginia wasn’t always easy\, but our family always made the best of what we had available. With this Chef’s table we are proud to showcase the food that meant so much to us growing up during this special time of year. We hope you will join us for an evening of food and drink that is very close to our hearts. For reservations\, you can visit our website attheforks.com or give us a call at 304-637-0932!
URL:https://elkinsrandolphwv.com/event/appalachian-chefs-table/
LOCATION:The Forks\, 35 Scenic Ridge Rd\, Elkins\, 26241\, United States
CATEGORIES:Food & Drink
ATTACH;FMTTYPE=image/jpeg:https://elkinsrandolphwv.com/wp-content/uploads/2019/03/forks.jpg
END:VEVENT
BEGIN:VEVENT
DTSTART;TZID=UTC:20240510T070000
DTEND;TZID=UTC:20240510T110000
DTSTAMP:20260419T114804
CREATED:20240509T043412Z
LAST-MODIFIED:20240509T043412Z
UID:28692-1715324400-1715338800@elkinsrandolphwv.com
SUMMARY:Mother's Day Lab Special
DESCRIPTION:
URL:https://elkinsrandolphwv.com/event/mothers-day-lab-special/
LOCATION:Beverly Volunteer Fire Department\, 429 Main St\, Beverly\, WV 26253\, USA\, 25 Main St\, United States
CATEGORIES:Community,Food & Drink,Kids & Family
ATTACH;FMTTYPE=image/png:https://elkinsrandolphwv.com/wp-content/uploads/2024/05/Screen-Shot-2024-05-08-at-8.32.09-PM.png
GEO:38.842835;-79.874052
X-APPLE-STRUCTURED-LOCATION;VALUE=URI;X-ADDRESS=Beverly Volunteer Fire Department 429 Main St Beverly WV 26253 USA 25 Main St United States;X-APPLE-RADIUS=500;X-TITLE=25 Main St:geo:-79.874052,38.842835
END:VEVENT
BEGIN:VEVENT
DTSTART;TZID=UTC:20240510T190000
DTEND;TZID=UTC:20240510T210000
DTSTAMP:20260419T114804
CREATED:20240509T043743Z
LAST-MODIFIED:20240509T043743Z
UID:28694-1715367600-1715374800@elkinsrandolphwv.com
SUMMARY:The Greens
DESCRIPTION:
URL:https://elkinsrandolphwv.com/event/the-greens/
LOCATION:El Gran Sabor\, 413 Kerens Ave\, Elkins\, WV 26241\, USA\, 155 Kerens Ave\, United States
CATEGORIES:Entertainment,Food & Drink,Music
ATTACH;FMTTYPE=image/jpeg:https://elkinsrandolphwv.com/wp-content/uploads/2019/07/el-gran-sabor-e1726104755868.jpg
GEO:38.92349;-79.848286
X-APPLE-STRUCTURED-LOCATION;VALUE=URI;X-ADDRESS=El Gran Sabor 413 Kerens Ave Elkins WV 26241 USA 155 Kerens Ave United States;X-APPLE-RADIUS=500;X-TITLE=155 Kerens Ave:geo:-79.848286,38.92349
END:VEVENT
BEGIN:VEVENT
DTSTART;TZID=UTC:20240512T110000
DTEND;TZID=UTC:20240512T160000
DTSTAMP:20260419T114804
CREATED:20240509T042724Z
LAST-MODIFIED:20240509T043557Z
UID:28691-1715511600-1715529600@elkinsrandolphwv.com
SUMMARY:Mother's Day Buffet
DESCRIPTION:Join us at Oxley House Cocktail Bar and Restaurant this Mother’s Day for an unforgettable Brunch Buffet! Shower your mom with love and a delicious brunch that she deserves.\nDon’t miss this chance to make Mother’s Day truly special. We’re looking forward to helping you celebrate the incredible moms in your life at Oxley House!
URL:https://elkinsrandolphwv.com/event/mothers-day-buffet/
LOCATION:Tygart Hotel\, 206 Davis Avenue\, Elkins\, WV
CATEGORIES:Food & Drink,Kids & Family
ATTACH;FMTTYPE=image/png:https://elkinsrandolphwv.com/wp-content/uploads/2024/02/Tygart-Hotel-profile.png
END:VEVENT
BEGIN:VEVENT
DTSTART;TZID=UTC:20240518T110000
DTEND;TZID=UTC:20240518T140000
DTSTAMP:20260419T114804
CREATED:20240509T044305Z
LAST-MODIFIED:20240509T044305Z
UID:28695-1716030000-1716040800@elkinsrandolphwv.com
SUMMARY:Chicken BBQ to go Drive Thru Fundraiser
DESCRIPTION:For $12\, you’ll get the famous chicken\, beans\, chips\, a cookie and water. Advance tickets are available at the shelter\, from RCHS board members\, or online at https://bit.ly/rchsbbq. Pre-sold dinners must be picked up by 12:30 pm the day of the event or they will be re-sold.
URL:https://elkinsrandolphwv.com/event/chicken-bbq-to-go-drive-thru-fundraiser/
LOCATION:Randolph Avenue\, Randolph Avenue\, Elkins\, WV
CATEGORIES:Food & Drink,Kids & Family
ATTACH;FMTTYPE=image/png:https://elkinsrandolphwv.com/wp-content/uploads/2024/05/Screen-Shot-2024-05-08-at-8.41.51-PM.png
END:VEVENT
BEGIN:VEVENT
DTSTART;TZID=UTC:20240526T180000
DTEND;TZID=UTC:20240526T210000
DTSTAMP:20260419T114804
CREATED:20240516T173325Z
LAST-MODIFIED:20240516T173325Z
UID:28730-1716746400-1716757200@elkinsrandolphwv.com
SUMMARY:Peruvian Chef's Table
DESCRIPTION:Join us for an unforgettable culinary journey through the flavors of Peru at our 7-course Chef’s Table Special Event on Sunday\, May 26th! Immerse yourself in a culinary adventure as Chef Eric Stalnaker showcases his skills through a variety of expertly crafted dishes. Our Chef’s Table is an exclusive\, intimate event with limited seating\, allowing you to indulge in a memorable dining experience. Join us on Sunday\, May 26th\, and get ready to be transported on a culinary journey that will delight and amaze you. Don’t miss out on this unforgettable dining experience. Book your seat now and experience the finest in culinary excellence. For reservations\, you can visit our website or give us a call at 304-637-0932!
URL:https://elkinsrandolphwv.com/event/peruvian-chefs-table/
LOCATION:The Forks\, 35 Scenic Ridge Rd\, Elkins\, 26241\, United States
CATEGORIES:Entertainment,Food & Drink
ATTACH;FMTTYPE=image/jpeg:https://elkinsrandolphwv.com/wp-content/uploads/2019/03/forks.jpg
END:VEVENT
BEGIN:VEVENT
DTSTART;TZID=UTC:20240616T110000
DTEND;TZID=UTC:20240616T160000
DTSTAMP:20260419T114804
CREATED:20240613T174245Z
LAST-MODIFIED:20240613T174245Z
UID:28805-1718535600-1718553600@elkinsrandolphwv.com
SUMMARY:Father's Day BBQ Buffet
DESCRIPTION:
URL:https://elkinsrandolphwv.com/event/fathers-day-bbq-buffet/
LOCATION:Oxley House\, 206 Davis Avenue\, Elkins\, WV
CATEGORIES:Community,Food & Drink
ATTACH;FMTTYPE=image/png:https://elkinsrandolphwv.com/wp-content/uploads/2024/05/Oxley-House-Profile-Pic-e1726534174518.png
END:VEVENT
BEGIN:VEVENT
DTSTART;TZID=UTC:20240621T200000
DTEND;TZID=UTC:20240621T220000
DTSTAMP:20260419T114804
CREATED:20240617T214408Z
LAST-MODIFIED:20240617T214408Z
UID:28812-1719000000-1719007200@elkinsrandolphwv.com
SUMMARY:Adam Yokum's New Album Release Party
DESCRIPTION:Come join Big Timber Brewing and help Adam celebrate the release of his new album. Adam Yokum will be performing at 8pm and have his album available to purchase.\n\nNo Cover! 21 and over after 8!
URL:https://elkinsrandolphwv.com/event/adam-yokums-new-album-release-party/
LOCATION:Big Timber Brewing\, 2 Davis Avenue\, Elkins\, WV\, 26241\, United States
CATEGORIES:Entertainment,Food & Drink,Music
END:VEVENT
BEGIN:VEVENT
DTSTART;TZID=UTC:20240624T180000
DTEND;TZID=UTC:20240624T210000
DTSTAMP:20260419T114804
CREATED:20240612T060124Z
LAST-MODIFIED:20240612T060124Z
UID:28784-1719252000-1719262800@elkinsrandolphwv.com
SUMMARY:6 Course Italian Dinner and Wine Tasting
DESCRIPTION:
URL:https://elkinsrandolphwv.com/event/6-course-italian-dinner-and-wine-tasting/
LOCATION:Oxley House\, 206 Davis Avenue\, Elkins\, WV
CATEGORIES:Community,Entertainment,Food & Drink
ATTACH;FMTTYPE=image/png:https://elkinsrandolphwv.com/wp-content/uploads/2024/05/Oxley-House-Profile-Pic-e1726534174518.png
END:VEVENT
BEGIN:VEVENT
DTSTART;TZID=UTC:20240629T150000
DTEND;TZID=UTC:20240629T190000
DTSTAMP:20260419T114804
CREATED:20240627T055943Z
LAST-MODIFIED:20240627T055943Z
UID:28884-1719673200-1719687600@elkinsrandolphwv.com
SUMMARY:EHS Spaghetti Fundraiser Dinner
DESCRIPTION:Dine in or Carry-Out Available…\n$12 per meal\nSpaghetti and MeatballsSaladBreadDessertWater\nMade by the St Patrick’s Catholic Church of Coalton!\nAll proceeds will benefit the EHS Football Program…equipment\, uniforms\, and more!
URL:https://elkinsrandolphwv.com/event/ehs-spaghetti-fundraiser-dinner/
LOCATION:Phil Gainer Community Center\, 142 Robert E Lee Ave Ext\, Elkins\, WV 26241\, USA\, 149 Robert E Lee Ave Exd\, United States
CATEGORIES:Food & Drink,Kids & Family
ATTACH;FMTTYPE=image/png:https://elkinsrandolphwv.com/wp-content/uploads/2024/06/Screenshot-2024-06-26-9.57.43-PM.png
GEO:38.925764;-79.864059
X-APPLE-STRUCTURED-LOCATION;VALUE=URI;X-ADDRESS=Phil Gainer Community Center 142 Robert E Lee Ave Ext Elkins WV 26241 USA 149 Robert E Lee Ave Exd United States;X-APPLE-RADIUS=500;X-TITLE=149 Robert E Lee Ave Exd:geo:-79.864059,38.925764
END:VEVENT
BEGIN:VEVENT
DTSTART;TZID=UTC:20240630T180000
DTEND;TZID=UTC:20240630T210000
DTSTAMP:20260419T114804
CREATED:20240627T054953Z
LAST-MODIFIED:20240627T054953Z
UID:28882-1719770400-1719781200@elkinsrandolphwv.com
SUMMARY:Texas BBQ Chef's Table
DESCRIPTION:Join us for an unforgettable culinary journey through the bold flavors of Texas BBQ at our 7-course Chef’s Table Special Event on Sunday\, June 30th!\nImmerse yourself in a unique dining experience as Chef Eric Stalnaker showcases his mastery with a variety of expertly crafted BBQ dishes. Our Chef’s Table is an exclusive\, intimate event with limited seating\, ensuring a memorable and personal dining experience. https://www.exploretock.com/…/texas-bbq-7-course-chefs…\nFirst Course: Slow-smoked BBQ dry rub pork ribs with green apple cabbage coleslaw and ancho BBQ sauce.\nSecond Course: Smoked catfish with pineapple relish\, pasilla pepper aioli\, and cilantro.\nThird Course: Texas chili with shredded beef\, cheddar cheese\, sour cream\, and corn crackers.\nFourth Course: Baby greens with chili lime Texas cowboy caviar and lime vinaigrette.\nFifth Course: Peach Sorbet\nSixth Course: Slow-smoked brisket with jalapeño honey\, pork belly burnt ends\, and chicken thigh with white BBQ sauce. Served with rhubarb chutney\, house-made pickles\, and potato salad.\nSeventh Course: Pecan pie with maple Chantilly.\n$90 Per Person
URL:https://elkinsrandolphwv.com/event/texas-bbq-chefs-table/
LOCATION:The Forks\, 35 Scenic Ridge Rd\, Elkins\, 26241\, United States
CATEGORIES:Food & Drink
ATTACH;FMTTYPE=image/jpeg:https://elkinsrandolphwv.com/wp-content/uploads/2019/03/forks.jpg
END:VEVENT
BEGIN:VEVENT
DTSTART;TZID=UTC:20240705T193000
DTEND;TZID=UTC:20240705T230000
DTSTAMP:20260419T114804
CREATED:20240704T234904Z
LAST-MODIFIED:20240704T234904Z
UID:28929-1720207800-1720220400@elkinsrandolphwv.com
SUMMARY:Shane Meade & the Sound with Special Guest Shelly Vogler
DESCRIPTION:“An evening with Shane Meade & the Sound w/ special guest Shelly Vogler”\nwww.shanemeade.com\nGood food\, good folks\, and good vibes y’all! Show at 7:30. $10 entry
URL:https://elkinsrandolphwv.com/event/shane-meade-the-sound-with-special-guest-shelly-vogler/
LOCATION:El Gran Sabor\, 413 Kerens Ave\, Elkins\, WV 26241\, USA\, 155 Kerens Ave\, United States
CATEGORIES:Entertainment,Food & Drink,Music
ATTACH;FMTTYPE=image/jpeg:https://elkinsrandolphwv.com/wp-content/uploads/2019/07/el-gran-sabor-e1726104755868.jpg
GEO:38.92349;-79.848286
X-APPLE-STRUCTURED-LOCATION;VALUE=URI;X-ADDRESS=El Gran Sabor 413 Kerens Ave Elkins WV 26241 USA 155 Kerens Ave United States;X-APPLE-RADIUS=500;X-TITLE=155 Kerens Ave:geo:-79.848286,38.92349
END:VEVENT
BEGIN:VEVENT
DTSTART;TZID=UTC:20240706T190000
DTEND;TZID=UTC:20240706T213000
DTSTAMP:20260419T114804
CREATED:20240704T225612Z
LAST-MODIFIED:20240704T225612Z
UID:28927-1720292400-1720301400@elkinsrandolphwv.com
SUMMARY:Live Music with Cassidy Dickens
DESCRIPTION:Join us at the #OxleyHouse this Independence Day weekend on Saturday from 7:00 p.m. – 9:30 p.m. for an evening filled with live music with Cassidy Dickens \nGrab your favorite cocktail and unwind on Saturday night.
URL:https://elkinsrandolphwv.com/event/live-music-with-cassidy-dickens/
LOCATION:Oxley House\, 206 Davis Avenue\, Elkins\, WV
CATEGORIES:Entertainment,Food & Drink,Music
ATTACH;FMTTYPE=image/png:https://elkinsrandolphwv.com/wp-content/uploads/2024/05/Oxley-House-Profile-Pic-e1726534174518.png
END:VEVENT
BEGIN:VEVENT
DTSTART;TZID=UTC:20240712T200000
DTEND;TZID=UTC:20240712T220000
DTSTAMP:20260419T114804
CREATED:20240711T222325Z
LAST-MODIFIED:20240711T222325Z
UID:28948-1720814400-1720821600@elkinsrandolphwv.com
SUMMARY:Live Music with Herb + Hanson
DESCRIPTION:
URL:https://elkinsrandolphwv.com/event/live-music-with-herb-hanson/
LOCATION:El Gran Sabor\, 413 Kerens Ave\, Elkins\, WV 26241\, USA\, 155 Kerens Ave\, United States
CATEGORIES:Community,Entertainment,Food & Drink,Music
ATTACH;FMTTYPE=image/jpeg:https://elkinsrandolphwv.com/wp-content/uploads/2019/07/el-gran-sabor-e1726104755868.jpg
GEO:38.92349;-79.848286
X-APPLE-STRUCTURED-LOCATION;VALUE=URI;X-ADDRESS=El Gran Sabor 413 Kerens Ave Elkins WV 26241 USA 155 Kerens Ave United States;X-APPLE-RADIUS=500;X-TITLE=155 Kerens Ave:geo:-79.848286,38.92349
END:VEVENT
BEGIN:VEVENT
DTSTART;TZID=UTC:20240714T120000
DTEND;TZID=UTC:20240714T190000
DTSTAMP:20260419T114804
CREATED:20240711T222041Z
LAST-MODIFIED:20240711T222041Z
UID:28945-1720958400-1720983600@elkinsrandolphwv.com
SUMMARY:2nd Annual Crab Boil
DESCRIPTION:Crab legs\, Shrimp\, Mussels\, Andouille\, Sausage\, Corn\, and Potatoes \nOysters & Clams available a la carte\, tickets must be purchased in advance!
URL:https://elkinsrandolphwv.com/event/2nd-annual-crab-boil/
LOCATION:Route 33\, 383 Alpena Gap\, Bowden\, WV
CATEGORIES:Community,Food,Food & Drink
END:VEVENT
BEGIN:VEVENT
DTSTART;TZID=UTC:20240717T200000
DTEND;TZID=UTC:20240717T220000
DTSTAMP:20260419T114804
CREATED:20240711T222429Z
LAST-MODIFIED:20240711T222429Z
UID:28949-1721246400-1721253600@elkinsrandolphwv.com
SUMMARY:Live Music - Vinyl Night
DESCRIPTION:
URL:https://elkinsrandolphwv.com/event/live-music-vinyl-night/
LOCATION:El Gran Sabor\, 413 Kerens Ave\, Elkins\, WV 26241\, USA\, 155 Kerens Ave\, United States
CATEGORIES:Community,Entertainment,Food & Drink,Music
ATTACH;FMTTYPE=image/jpeg:https://elkinsrandolphwv.com/wp-content/uploads/2019/07/el-gran-sabor-e1726104755868.jpg
GEO:38.92349;-79.848286
X-APPLE-STRUCTURED-LOCATION;VALUE=URI;X-ADDRESS=El Gran Sabor 413 Kerens Ave Elkins WV 26241 USA 155 Kerens Ave United States;X-APPLE-RADIUS=500;X-TITLE=155 Kerens Ave:geo:-79.848286,38.92349
END:VEVENT
BEGIN:VEVENT
DTSTART;TZID=UTC:20240725T160000
DTEND;TZID=UTC:20240725T190000
DTSTAMP:20260419T114804
CREATED:20240711T221309Z
LAST-MODIFIED:20240711T221309Z
UID:28941-1721923200-1721934000@elkinsrandolphwv.com
SUMMARY:Annual Ox Roast
DESCRIPTION:
URL:https://elkinsrandolphwv.com/event/annual-ox-roast/
LOCATION:Camp Pioneer\, 38 Pioneer Circle\, Kings Run Rd\, Beverly\, WV 26253\, USA\, 38 Pioneer Circle\, Kings Run Road\, Beverly\, WV\, United States
CATEGORIES:Community,Fairs & Festivals,Food & Drink,Kids & Family
ATTACH;FMTTYPE=image/png:https://elkinsrandolphwv.com/wp-content/uploads/2024/07/Screen-Shot-2024-07-11-at-2.12.03-PM.png
GEO:38.818697;-79.853493
X-APPLE-STRUCTURED-LOCATION;VALUE=URI;X-ADDRESS=Camp Pioneer 38 Pioneer Circle Kings Run Rd Beverly WV 26253 USA 38 Pioneer Circle Kings Run Road Beverly WV United States;X-APPLE-RADIUS=500;X-TITLE=38 Pioneer Circle\, Kings Run Road:geo:-79.853493,38.818697
END:VEVENT
BEGIN:VEVENT
DTSTART;TZID=UTC:20240728T180000
DTEND;TZID=UTC:20240728T210000
DTSTAMP:20260419T114804
CREATED:20240726T040921Z
LAST-MODIFIED:20240726T040921Z
UID:28972-1722189600-1722200400@elkinsrandolphwv.com
SUMMARY:Toscana Golden Land Chef's Table
DESCRIPTION:Join us for an exquisite culinary journey at the Toscana Golden Land Chef’s Table on Sunday\, July 28th. We are thrilled to present a meticulously crafted seven-course menu\, showcasing the finest ingredients and the artistry of our renowned Chef Stalnaker. With a passion for innovative cuisine and a dedication to culinary excellence\, Chef Stalnaker has designed each course to delight your senses and create an unforgettable dining experience.\nTuscany\, a region celebrated for its stunning landscapes\, rich history\, and extraordinary culinary traditions\, serves as the inspiration for our evening. This region is also famed for its vineyards\, producing some of the world’s most esteemed wines such as Chianti and Brunello di Montalcino. Tuscan cuisine is renowned for its simplicity and high-quality ingredients\, with dishes often featuring fresh\, local produce\, olive oil\, and aromatic herbs which we will replicate from our beautiful setting in the hills of West Virginia.\nEvery dish you’ll enjoy tonight is made completely from scratch in-house\, a testament to our commitment to authenticity and quality. From handmade pastas to freshly prepared sauces\, Chef Stalnaker and his team ensure that every element of your meal is crafted with care and precision.\nIndulge in the flavors of Toscana and savor the evening as we celebrate the art of fine dining. We look forward to welcoming you!\nFirst Course:\nRavioli filled with ricotta\, prosciutto\, and roasted chicken with a fennel oregano cream sauce.\nSecond Course:\nGnocchi sautéed and tossed with basil pesto and shaved parmesan.\nThird Course:\nMussels in broth served with mozzarella and dill stuffed tortellini.\nFourth Course:\nCrisp romaine tossed with chicken\, carrot\, celery\, parsley\, walnuts\, and raisins with a lemon vinaigrette.\nFifth Course:\nSorbet: Lemon\nSixth Course:\nSautéed veal scallopini with Marsala wine demi-glace\, porcini mushrooms\, and saffron risotto.\nSeventh Course:\nTiramisu with zabaione and strawberries.
URL:https://elkinsrandolphwv.com/event/toscana-golden-land-chefs-table/
LOCATION:The Forks\, 35 Scenic Ridge Rd\, Elkins\, 26241\, United States
CATEGORIES:Community,Food,Food & Drink
ATTACH;FMTTYPE=image/jpeg:https://elkinsrandolphwv.com/wp-content/uploads/2019/03/forks.jpg
END:VEVENT
BEGIN:VEVENT
DTSTART;TZID=UTC:20240729T180000
DTEND;TZID=UTC:20240729T200000
DTSTAMP:20260419T114804
CREATED:20240726T062028Z
LAST-MODIFIED:20240726T062028Z
UID:28974-1722276000-1722283200@elkinsrandolphwv.com
SUMMARY:A Tour De Spain Wine Dinner
DESCRIPTION:Join us at Oxley House for an exclusive evening as we continue our “Cuisine Around the World” series with a Tour De Spain Wine Dinner.\nOn the last Monday of each month\, our restaurant becomes a private haven for culinary enthusiasts eager to explore the rich and diverse flavors of different cultures. This month\, we’re taking you on an adventure through Spain. \nRSVP on OpenTable – https://www.opentable.com/boo…/experiences-availability…\n Date: Monday\, July 29\, 2024 Time: Doors Open @ 6:30pm-7pm | Dinner Starts @7pm Location: Oxley House\nEvent Highlights  Social Hour (6:30pm – 7pm): Start your evening with a complimentary drink. Mingle with friends and enjoy a drink from our bar. Dinner Seating (7pm): Please be seated by 7pm to begin your Italian culinary adventure.\nWhat to Expect: A Culinary Journey: Indulge in a meticulously curated 6-course Spanish menu\, featuring traditional and modern interpretations of Spain’s most beloved dishes.\n Wine Pairings: Each course will be paired with exquisite Spanish wines\, carefully selected to enhance your dining experience.\n Exclusive Experience: Enjoy the entire restaurant to yourself\, ensuring an intimate and unforgettable evening.\nTicket Pricing (40 Seats Max – RSVP Only) Single Ticket: $125.00 Couple Ticket: $225.00\nReservations can be made via OpenTable or by calling  (304) 924-4279.\nDon’t miss out on this memorable night! Get your tickets today and prepare for an enchanting evening of fine food\, exquisite wines\, and great company. \nWe look forward to seeing you there!
URL:https://elkinsrandolphwv.com/event/a-tour-de-spain-wine-dinner/
LOCATION:Oxley House\, 206 Davis Avenue\, Elkins\, WV
CATEGORIES:Community,Entertainment,Food,Food & Drink
ATTACH;FMTTYPE=image/png:https://elkinsrandolphwv.com/wp-content/uploads/2024/07/Screenshot-2024-07-25-10.15.28-PM.png
END:VEVENT
BEGIN:VEVENT
DTSTART;TZID=UTC:20240801T190000
DTEND;TZID=UTC:20240801T210000
DTSTAMP:20260419T114804
CREATED:20240801T183127Z
LAST-MODIFIED:20240801T183127Z
UID:28994-1722538800-1722546000@elkinsrandolphwv.com
SUMMARY:Soundcheck Music Bingo
DESCRIPTION:Come enjoy a fun evening at Jimbo’s 304 with this fun New to the Area game. Free to play and 16 winners through the night.
URL:https://elkinsrandolphwv.com/event/soundcheck-music-bingo/
LOCATION:Jimbo’s Place\, 302 Davis Avenue\, Elkins\, WV\, 26241\, United States
CATEGORIES:Community,Entertainment,Food & Drink
ATTACH;FMTTYPE=image/jpeg:https://elkinsrandolphwv.com/wp-content/uploads/2020/08/jimbo-logo.jpg
END:VEVENT
BEGIN:VEVENT
DTSTART;TZID=UTC:20240803T103000
DTEND;TZID=UTC:20240803T120000
DTSTAMP:20260419T114804
CREATED:20240801T184747Z
LAST-MODIFIED:20240801T184747Z
UID:29008-1722681000-1722686400@elkinsrandolphwv.com
SUMMARY:Lions Club of Elkins Chicken Barbeque
DESCRIPTION:Located at the parking lot across from Davis Electrical Service on Randolph Avenue (former IGA). The meal will include half a chicken\, 2 side items\, roll\, dessert\, and bottled water. The meals will be ready for drive-thru and walk-up pickup by 10:30 a.m.
URL:https://elkinsrandolphwv.com/event/lions-club-of-elkins-chicken-barbeque/
LOCATION:Old IGA Parking Lot\, 32 Randolph Ave\, Elkins\, WV\, 26241\, United States
CATEGORIES:Community,Food & Drink,Kids & Family,Outdoors
ATTACH;FMTTYPE=image/png:https://elkinsrandolphwv.com/wp-content/uploads/2024/08/Screenshot-2024-08-01-10.47.01-AM.png
END:VEVENT
BEGIN:VEVENT
DTSTART;TZID=UTC:20240803T170000
DTEND;TZID=UTC:20240803T190000
DTSTAMP:20260419T114804
CREATED:20240801T190320Z
LAST-MODIFIED:20240801T190320Z
UID:29033-1722704400-1722711600@elkinsrandolphwv.com
SUMMARY:Stand Up Comedy - Open Mic Night
DESCRIPTION:
URL:https://elkinsrandolphwv.com/event/stand-up-comedy-open-mic-night/
LOCATION:Clementine’s Cantina\, 112 Davis Avenue\, Elkins\, WV
CATEGORIES:Community,Entertainment,Food & Drink,Kids & Family
ATTACH;FMTTYPE=image/png:https://elkinsrandolphwv.com/wp-content/uploads/2024/08/Screenshot-2024-08-01-11.01.11-AM.png
END:VEVENT
END:VCALENDAR