BEGIN:VCALENDAR
VERSION:2.0
PRODID:-//Elkins-Randolph County Tourism - ECPv6.15.20//NONSGML v1.0//EN
CALSCALE:GREGORIAN
METHOD:PUBLISH
X-ORIGINAL-URL:https://elkinsrandolphwv.com
X-WR-CALDESC:Events for Elkins-Randolph County Tourism
REFRESH-INTERVAL;VALUE=DURATION:PT1H
X-Robots-Tag:noindex
X-PUBLISHED-TTL:PT1H
BEGIN:VTIMEZONE
TZID:UTC
BEGIN:STANDARD
TZOFFSETFROM:+0000
TZOFFSETTO:+0000
TZNAME:UTC
DTSTART:20230101T000000
END:STANDARD
END:VTIMEZONE
BEGIN:VEVENT
DTSTART;TZID=UTC:20240128T190000
DTEND;TZID=UTC:20240128T203000
DTSTAMP:20260425T105543
CREATED:20240114T193654Z
LAST-MODIFIED:20240114T193654Z
UID:28178-1706468400-1706473800@elkinsrandolphwv.com
SUMMARY:Monthly Reiki Collective
DESCRIPTION:Daily life stressors can be draining\, but Energy Healing has the power to restore your natural balance\, replenish your energy\, and heal those around you with the energy at work in you. Guided meditation\, energy balancing\, sound healing\, crystals\, herbs\, & more!
URL:https://elkinsrandolphwv.com/event/monthly-reiki-collective/
LOCATION:Wyld Lyfe Apothecary\, 100 2nd Street\, Elkins\, WV\, 26241\, United States
CATEGORIES:Health and Wellness
ATTACH;FMTTYPE=image/jpeg:https://elkinsrandolphwv.com/wp-content/uploads/2021/04/wyld-lyfe-apothecary-logo.jpg
END:VEVENT
END:VCALENDAR