BEGIN:VCALENDAR
VERSION:2.0
PRODID:-//Elkins-Randolph County Tourism - ECPv6.15.17.1//NONSGML v1.0//EN
CALSCALE:GREGORIAN
METHOD:PUBLISH
X-WR-CALNAME:Elkins-Randolph County Tourism
X-ORIGINAL-URL:https://elkinsrandolphwv.com
X-WR-CALDESC:Events for Elkins-Randolph County Tourism
REFRESH-INTERVAL;VALUE=DURATION:PT1H
X-Robots-Tag:noindex
X-PUBLISHED-TTL:PT1H
BEGIN:VTIMEZONE
TZID:UTC
BEGIN:STANDARD
TZOFFSETFROM:+0000
TZOFFSETTO:+0000
TZNAME:UTC
DTSTART:20240101T000000
END:STANDARD
END:VTIMEZONE
BEGIN:VEVENT
DTSTART;TZID=UTC:20250927T073000
DTEND;TZID=UTC:20250927T110000
DTSTAMP:20260419T033138
CREATED:20250904T003706Z
LAST-MODIFIED:20250904T003706Z
UID:31451-1758958200-1758970800@elkinsrandolphwv.com
SUMMARY:MSFF Jack & Jill Relays (Cross Country)
DESCRIPTION:
URL:https://elkinsrandolphwv.com/event/msff-jack-jill-relays-cross-country/
LOCATION:Camp Pioneer\, 38 Pioneer Circle\, Kings Run Rd\, Beverly\, WV 26253\, USA\, 38 Pioneer Circle\, Kings Run Road\, Beverly\, WV\, United States
CATEGORIES:Health and Wellness,Outdoors
GEO:38.818697;-79.853493
X-APPLE-STRUCTURED-LOCATION;VALUE=URI;X-ADDRESS=Camp Pioneer 38 Pioneer Circle Kings Run Rd Beverly WV 26253 USA 38 Pioneer Circle Kings Run Road Beverly WV United States;X-APPLE-RADIUS=500;X-TITLE=38 Pioneer Circle\, Kings Run Road:geo:-79.853493,38.818697
END:VEVENT
END:VCALENDAR