BEGIN:VCALENDAR
VERSION:2.0
PRODID:-//Elkins-Randolph County Tourism - ECPv6.15.17.1//NONSGML v1.0//EN
CALSCALE:GREGORIAN
METHOD:PUBLISH
X-ORIGINAL-URL:https://elkinsrandolphwv.com
X-WR-CALDESC:Events for Elkins-Randolph County Tourism
REFRESH-INTERVAL;VALUE=DURATION:PT1H
X-Robots-Tag:noindex
X-PUBLISHED-TTL:PT1H
BEGIN:VTIMEZONE
TZID:UTC
BEGIN:STANDARD
TZOFFSETFROM:+0000
TZOFFSETTO:+0000
TZNAME:UTC
DTSTART:20240101T000000
END:STANDARD
END:VTIMEZONE
BEGIN:VEVENT
DTSTART;TZID=UTC:20250928T070000
DTEND;TZID=UTC:20250928T100000
DTSTAMP:20260419T112018
CREATED:20250903T180545Z
LAST-MODIFIED:20250909T214337Z
UID:31400-1759042800-1759053600@elkinsrandolphwv.com
SUMMARY:Pump N Run-Pump @ Anytime Fitness
DESCRIPTION:
URL:https://elkinsrandolphwv.com/event/pump-n-run-pump-anytime-fitness/
LOCATION:Anytime Fitness\, 46 Plantation Way\, Elkins\, WV\, 26241\, United States
CATEGORIES:Health and Wellness
END:VEVENT
BEGIN:VEVENT
DTSTART;TZID=UTC:20250928T103000
DTEND;TZID=UTC:20250928T140000
DTSTAMP:20260419T112018
CREATED:20250903T180845Z
LAST-MODIFIED:20250903T180845Z
UID:31404-1759055400-1759068000@elkinsrandolphwv.com
SUMMARY:10K Run/5K Walk & Kids Fun Run
DESCRIPTION:
URL:https://elkinsrandolphwv.com/event/10k-run-5k-walk-kids-fun-run-2/
LOCATION:Elkins Randolph County YMCA\, 400 Davis Avenue\, Elkins\, WV\, 26241\, United States
CATEGORIES:Community,Health and Wellness,Kids & Family,Outdoor Activities
END:VEVENT
BEGIN:VEVENT
DTSTART;TZID=UTC:20250928T190000
DTEND;TZID=UTC:20250928T210000
DTSTAMP:20260419T112018
CREATED:20250903T182114Z
LAST-MODIFIED:20250909T215205Z
UID:31417-1759086000-1759093200@elkinsrandolphwv.com
SUMMARY:The Hoppers
DESCRIPTION:*Inclement Weather Location for all Downtown Stage Events: Elkins High School
URL:https://elkinsrandolphwv.com/event/the-hoppers/
LOCATION:Elkins Town Square Ampitheatre\, 315 Railroad Avenue\, Elkins\, WV\, 26241\, United States
CATEGORIES:Community,Entertainment,Health and Wellness,Music
END:VEVENT
END:VCALENDAR