BEGIN:VCALENDAR
VERSION:2.0
PRODID:-//Elkins-Randolph County Tourism - ECPv6.15.17.1//NONSGML v1.0//EN
CALSCALE:GREGORIAN
METHOD:PUBLISH
X-ORIGINAL-URL:https://elkinsrandolphwv.com
X-WR-CALDESC:Events for Elkins-Randolph County Tourism
REFRESH-INTERVAL;VALUE=DURATION:PT1H
X-Robots-Tag:noindex
X-PUBLISHED-TTL:PT1H
BEGIN:VTIMEZONE
TZID:UTC
BEGIN:STANDARD
TZOFFSETFROM:+0000
TZOFFSETTO:+0000
TZNAME:UTC
DTSTART:20250101T000000
END:STANDARD
END:VTIMEZONE
BEGIN:VEVENT
DTSTART;TZID=UTC:20260529T110000
DTEND;TZID=UTC:20260529T153000
DTSTAMP:20260420T022408
CREATED:20260403T192903Z
LAST-MODIFIED:20260403T194604Z
UID:33620-1780052400-1780068600@elkinsrandolphwv.com
SUMMARY:Scenic Train Excursion New Tygart Flyer
DESCRIPTION:www.mountainrailwv.com \n\n\n\n\n\n\n\n\n\n\n\nAges: All Ages\nDuration: 4.5 Hours\nTrain Type: Diesel\nFood: Lunch included\nDeparture Time: 11:00 AM\n\nIMPORTANT INFORMATION: \n\nThis train in not wheelchair/handicap accessible\nChildren under 12 are not permitted in the Parlor Car Upgrade\nRestrooms available onboard\n\nBOARDING ADDRESS: \n315 RAILROAD AVE\nELKINS\, WV 26241
URL:https://elkinsrandolphwv.com/event/scenic-train-excursion-new-tygart-flyer-16/2026-05-29/
LOCATION:Durbin & Greenbrier Valley Railroad Elkins\, WV 26241 USA\, United States
CATEGORIES:History,Train Excursions
GEO:38.205009;-80.526508
END:VEVENT
END:VCALENDAR