BEGIN:VCALENDAR
VERSION:2.0
PRODID:-//Elkins-Randolph County Tourism - ECPv6.15.20//NONSGML v1.0//EN
CALSCALE:GREGORIAN
METHOD:PUBLISH
X-WR-CALNAME:Elkins-Randolph County Tourism
X-ORIGINAL-URL:https://elkinsrandolphwv.com
X-WR-CALDESC:Events for Elkins-Randolph County Tourism
REFRESH-INTERVAL;VALUE=DURATION:PT1H
X-Robots-Tag:noindex
X-PUBLISHED-TTL:PT1H
BEGIN:VTIMEZONE
TZID:UTC
BEGIN:STANDARD
TZOFFSETFROM:+0000
TZOFFSETTO:+0000
TZNAME:UTC
DTSTART:20240101T000000
END:STANDARD
END:VTIMEZONE
BEGIN:VEVENT
DTSTART;TZID=UTC:20251009T110000
DTEND;TZID=UTC:20251012T153000
DTSTAMP:20260424T030341
CREATED:20251001T172804Z
LAST-MODIFIED:20251007T191408Z
UID:31760-1760007600-1760283000@elkinsrandolphwv.com
SUMMARY:Scenic Train Excursion New Tygart Flyer
DESCRIPTION:
URL:https://elkinsrandolphwv.com/event/scenic-train-excursion-new-tygart-flyer-8/
LOCATION:Durbin & Greenbrier Valley Railroad Elkins\, WV 26241 USA\, United States
CATEGORIES:History,Train Excursions
GEO:38.205009;-80.526508
END:VEVENT
BEGIN:VEVENT
DTSTART;TZID=UTC:20251010T190000
DTEND;TZID=UTC:20251010T210000
DTSTAMP:20260424T030341
CREATED:20250912T195520Z
LAST-MODIFIED:20250912T195520Z
UID:31656-1760122800-1760130000@elkinsrandolphwv.com
SUMMARY:Lantern Tour | Beverly Heritage Center
DESCRIPTION:Join us in October for our historic Beverly Lantern Tours! Our host\, Karl\, takes us on a nighttime walking tour of Beverly with only the light of lanterns to guide our way. Hear the spooky and mysterious side of Beverly – including some tales from local history and legend. \nTours 7pm on October 10\, 11\, 17\, and 18  (limited spots per tour\, so we recommend purchasing tickets in advance) \nWe ask guests to check in at the Beverly Heritage Center prior to 7 PM\, and dress appropriately for the weather and temperatures past sundown. \nLink to purchase tickets is coming soon!
URL:https://elkinsrandolphwv.com/event/lantern-tour-beverly-heritage-center/
LOCATION:Beverly Heritage Center\, 4 Court Street\, Beverly\, WV\, 26253\, United States
CATEGORIES:History
GEO:38.8405774458;-79.8751789914
X-APPLE-STRUCTURED-LOCATION;VALUE=URI;X-ADDRESS=Beverly Heritage Center 4 Court Street Beverly WV 26253 United States;X-APPLE-RADIUS=500;X-TITLE=4 Court Street:geo:-79.8751789914,38.8405774458
END:VEVENT
END:VCALENDAR