BEGIN:VCALENDAR
VERSION:2.0
PRODID:-//Elkins-Randolph County Tourism - ECPv6.15.17.1//NONSGML v1.0//EN
CALSCALE:GREGORIAN
METHOD:PUBLISH
X-ORIGINAL-URL:https://elkinsrandolphwv.com
X-WR-CALDESC:Events for Elkins-Randolph County Tourism
REFRESH-INTERVAL;VALUE=DURATION:PT1H
X-Robots-Tag:noindex
X-PUBLISHED-TTL:PT1H
BEGIN:VTIMEZONE
TZID:UTC
BEGIN:STANDARD
TZOFFSETFROM:+0000
TZOFFSETTO:+0000
TZNAME:UTC
DTSTART:20230101T000000
END:STANDARD
END:VTIMEZONE
BEGIN:VEVENT
DTSTART;TZID=UTC:20241026T100000
DTEND;TZID=UTC:20241026T170000
DTSTAMP:20260420T012411
CREATED:20241017T191140Z
LAST-MODIFIED:20241017T191140Z
UID:29632-1729936800-1729962000@elkinsrandolphwv.com
SUMMARY:On-Site Blacksmith
DESCRIPTION:
URL:https://elkinsrandolphwv.com/event/on-site-blacksmith-4/
LOCATION:Beverly Heritage Center\, 4 Court Street\, Beverly\, WV\, 26253\, United States
CATEGORIES:Community,Entertainment,Kids & Family
ATTACH;FMTTYPE=image/jpeg:https://elkinsrandolphwv.com/wp-content/uploads/2021/02/beverly-heritage-center-logo-1-e1725977032951.jpg
ORGANIZER;CN="Beverly Heritage Center":MAILTO:info@beverlyheritagecenter.org
GEO:38.8405774458;-79.8751789914
X-APPLE-STRUCTURED-LOCATION;VALUE=URI;X-ADDRESS=Beverly Heritage Center 4 Court Street Beverly WV 26253 United States;X-APPLE-RADIUS=500;X-TITLE=4 Court Street:geo:-79.8751789914,38.8405774458
END:VEVENT
BEGIN:VEVENT
DTSTART;TZID=UTC:20241026T120000
DTEND;TZID=UTC:20241026T210000
DTSTAMP:20260420T012411
CREATED:20240926T184446Z
LAST-MODIFIED:20240926T184904Z
UID:29558-1729944000-1729976400@elkinsrandolphwv.com
SUMMARY:Corn Maze and Pumpkin Patch @ Snyder Farms
DESCRIPTION:Fridays – 6-9pm (Sept 27 & Oct 4\, 11\, 18 & 25) \nSaturdays – 12 – 9pm (Sept 28 & Oct 5\, 12\, 19 & 26) \nSundays – 12 – 6pm (Sept 29 & Oct 6\, 13\, 20 & 27) \nAdmission:\nChildren (3-12) – $5\nAdults (13+) – $7\nGroups (20+) – $5 \nCards and Cash Accepted.
URL:https://elkinsrandolphwv.com/event/corn-maze-and-pumpkin-patch-snyder-farms/2024-10-26/
LOCATION:Snyder Farms\, 15631 Seneca Trail\, Huttonsville\, WV\, 26273\, United States
CATEGORIES:Food,Food & Drink,Kids & Family,Outdoor Activities,Outdoors
ATTACH;FMTTYPE=image/jpeg:https://elkinsrandolphwv.com/wp-content/uploads/2024/08/snyder-farms-corn-maze.jpg
END:VEVENT
BEGIN:VEVENT
DTSTART;TZID=UTC:20241026T180000
DTEND;TZID=UTC:20241026T210000
DTSTAMP:20260420T012411
CREATED:20240924T180025Z
LAST-MODIFIED:20240924T180025Z
UID:29538-1729965600-1729976400@elkinsrandolphwv.com
SUMMARY:Premier Evening Show
DESCRIPTION:After a wonderful plated dinner\, sit back and listen to the fabulous Mountain Memories Show Band as they serve up a 2 hour Branson-style show with music from the 40’s- today featuring Country\, Pop\, Motown\, Gospel\, and Patriotic along with family- friendly comedy and amazing dancers. The Gandy Dancer offers a show that’s guaranteed to have you dancing in your seat\, laughing ‘til you cry\, touch your heart and give you memories that will last a lifetime. \nArrive at 5:30 pm  ~ Dinner at 6:00 pm  ~ Show Only arrive at 6:30 pm  ~ Show at 7:00 pm
URL:https://elkinsrandolphwv.com/event/premier-evening-show-5/
LOCATION:Gandy Dancer Theatre and Conference Center\, 359 Beverly Pike\, Elkins\, WV 26241\, USA\, United States
CATEGORIES:Art & Culture,Community,Entertainment,Food & Drink,Kids & Family,Music
ATTACH;FMTTYPE=image/jpeg:https://elkinsrandolphwv.com/wp-content/uploads/2019/03/Gandy-Logo-1-480x335-e1727185281650.jpg
GEO:38.918641;-79.842607
END:VEVENT
BEGIN:VEVENT
DTSTART;TZID=UTC:20241026T190000
DTEND;TZID=UTC:20241026T210000
DTSTAMP:20260420T012411
CREATED:20240917T232438Z
LAST-MODIFIED:20240917T232438Z
UID:29460-1729969200-1729976400@elkinsrandolphwv.com
SUMMARY:Live Music @ Beander's Restaurant and Tavern
DESCRIPTION:Kelsey Jeffries is excited to be playing at one of Elkins’ favorite establishments\, Beander’s Restaurant and Tavern. Come out and support a local West Virginia artist as she performs some of your favorite hit songs as well as some of her originals.
URL:https://elkinsrandolphwv.com/event/live-music-beanders-restaurant-and-tavern/
LOCATION:Beander’s Restaurant & Tavern\, 314 Davis Ave\, Elkins\, WV\, 26241\, United States
CATEGORIES:Community,Food & Drink,Kids & Family,Music
ATTACH;FMTTYPE=image/png:https://elkinsrandolphwv.com/wp-content/uploads/2019/03/main-logo-e1726601056111.png
GEO:38.944536;-79.85025
X-APPLE-STRUCTURED-LOCATION;VALUE=URI;X-ADDRESS=Beander’s Restaurant & Tavern 314 Davis Ave Elkins WV 26241 United States;X-APPLE-RADIUS=500;X-TITLE=314 Davis Ave:geo:-79.85025,38.944536
END:VEVENT
END:VCALENDAR