BEGIN:VCALENDAR
VERSION:2.0
PRODID:-//Elkins-Randolph County Tourism - ECPv6.15.17.1//NONSGML v1.0//EN
CALSCALE:GREGORIAN
METHOD:PUBLISH
X-ORIGINAL-URL:https://elkinsrandolphwv.com
X-WR-CALDESC:Events for Elkins-Randolph County Tourism
REFRESH-INTERVAL;VALUE=DURATION:PT1H
X-Robots-Tag:noindex
X-PUBLISHED-TTL:PT1H
BEGIN:VTIMEZONE
TZID:UTC
BEGIN:STANDARD
TZOFFSETFROM:+0000
TZOFFSETTO:+0000
TZNAME:UTC
DTSTART:20230101T000000
END:STANDARD
END:VTIMEZONE
BEGIN:VEVENT
DTSTART;TZID=UTC:20241027T120000
DTEND;TZID=UTC:20241027T180000
DTSTAMP:20260419T155219
CREATED:20240926T185420Z
LAST-MODIFIED:20240926T185445Z
UID:29568-1730030400-1730052000@elkinsrandolphwv.com
SUMMARY:Corn Maze and Pumpkin Patch @ Snyder Farms
DESCRIPTION:Fridays – 6-9pm (Sept 27 & Oct 4\, 11\, 18 & 25) \nSaturdays – 12 – 9pm (Sept 28 & Oct 5\, 12\, 19 & 26) \nSundays – 12 – 6pm (Sept 29 & Oct 6\, 13\, 20 & 27) \nAdmission:\nChildren (3-12) – $5\nAdults (13+) – $7\nGroups (20+) – $5 \nCards and Cash Accepted.
URL:https://elkinsrandolphwv.com/event/corn-maze-and-pumpkin-patch-snyder-farms-3/2024-10-27/
LOCATION:Snyder Farms\, 15631 Seneca Trail\, Huttonsville\, WV\, 26273\, United States
CATEGORIES:Kids & Family,Outdoor Activities
ATTACH;FMTTYPE=image/jpeg:https://elkinsrandolphwv.com/wp-content/uploads/2024/08/snyder-farms-corn-maze.jpg
END:VEVENT
BEGIN:VEVENT
DTSTART;TZID=UTC:20241027T190000
DTEND;TZID=UTC:20241027T210000
DTSTAMP:20260419T155219
CREATED:20241024T225739Z
LAST-MODIFIED:20241024T225739Z
UID:29664-1730055600-1730062800@elkinsrandolphwv.com
SUMMARY:Lantern Guided Haunted Tours | Davis and Elkins College
DESCRIPTION:Lantern Guided Haunted Tours\nDate: Sunday\, October 27th\nTime: 7:00 – 8:00 PM\nLocation: Meet in the Icehouse\n\n\nJoin us for an enchanting evening filled with spine-chilling stories and the eerie glow of lanterns!\n\n\nEvent: Free to all students\, staff\, and community\n\n\nTheme: “Whispers of the Past: Discover the Haunting Tales of Halliehurst and Graceland!”\n\n\nDon’t miss this chance to explore the mysteries that linger in the shadows. Bring your friends and family and prepare for a hauntingly good time!\n\n\nRegister today by using the link below.\n\n\nhttps://host.nxt.blackbaud.com/registration-form/…
URL:https://elkinsrandolphwv.com/event/lantern-guided-haunted-tours-davis-and-elkins-college/
LOCATION:Davis and Elkins College
CATEGORIES:Community,Davis & Elkins College,Entertainment,History,Kids & Family
ATTACH;FMTTYPE=image/jpeg:https://elkinsrandolphwv.com/wp-content/uploads/2019/03/1916779_232589465984_856477_n.jpg
END:VEVENT
END:VCALENDAR