BEGIN:VCALENDAR
VERSION:2.0
PRODID:-//Elkins-Randolph County Tourism - ECPv6.15.20//NONSGML v1.0//EN
CALSCALE:GREGORIAN
METHOD:PUBLISH
X-ORIGINAL-URL:https://elkinsrandolphwv.com
X-WR-CALDESC:Events for Elkins-Randolph County Tourism
REFRESH-INTERVAL;VALUE=DURATION:PT1H
X-Robots-Tag:noindex
X-PUBLISHED-TTL:PT1H
BEGIN:VTIMEZONE
TZID:UTC
BEGIN:STANDARD
TZOFFSETFROM:+0000
TZOFFSETTO:+0000
TZNAME:UTC
DTSTART:20230101T000000
END:STANDARD
END:VTIMEZONE
BEGIN:VEVENT
DTSTART;TZID=UTC:20241102T180000
DTEND;TZID=UTC:20241102T200000
DTSTAMP:20260423T060343
CREATED:20240930T181436Z
LAST-MODIFIED:20240930T181436Z
UID:29590-1730570400-1730577600@elkinsrandolphwv.com
SUMMARY:Murder on the Caribbean Isle
DESCRIPTION:Looking for love? Come on board! Who will find their true love\, ignite their ongoing love or JUST LOVE TO KILL! \n\nArrive at 5:30 pm ~ Dinner and show at 6:00 pm  
URL:https://elkinsrandolphwv.com/event/murder-on-the-caribbean-isle-2/
LOCATION:Gandy Dancer Theatre and Conference Center\, 359 Beverly Pike\, Elkins\, WV 26241\, USA\, United States
CATEGORIES:Art & Culture,Community,Entertainment,Food & Drink,Kids & Family
ATTACH;FMTTYPE=image/jpeg:https://elkinsrandolphwv.com/wp-content/uploads/2019/03/Gandy-Logo-1-480x335-e1727185281650.jpg
GEO:38.918641;-79.842607
END:VEVENT
END:VCALENDAR