BEGIN:VCALENDAR
VERSION:2.0
PRODID:-//Elkins-Randolph County Tourism - ECPv6.15.20//NONSGML v1.0//EN
CALSCALE:GREGORIAN
METHOD:PUBLISH
X-ORIGINAL-URL:https://elkinsrandolphwv.com
X-WR-CALDESC:Events for Elkins-Randolph County Tourism
REFRESH-INTERVAL;VALUE=DURATION:PT1H
X-Robots-Tag:noindex
X-PUBLISHED-TTL:PT1H
BEGIN:VTIMEZONE
TZID:UTC
BEGIN:STANDARD
TZOFFSETFROM:+0000
TZOFFSETTO:+0000
TZNAME:UTC
DTSTART:20230101T000000
END:STANDARD
END:VTIMEZONE
BEGIN:VEVENT
DTSTART;TZID=UTC:20241002T190000
DTEND;TZID=UTC:20241002T203000
DTSTAMP:20260423T045051
CREATED:20240912T025057Z
LAST-MODIFIED:20240912T025057Z
UID:29273-1727895600-1727901000@elkinsrandolphwv.com
SUMMARY:Pam Roberts Concert
DESCRIPTION:FREE
URL:https://elkinsrandolphwv.com/event/pam-roberts-concert/
LOCATION:Alexandria on Main\, 119 Third Street\, Elkins\, WV\, 26241\, United States
CATEGORIES:Community,Entertainment,Kids & Family,Music
ATTACH;FMTTYPE=image/png:https://elkinsrandolphwv.com/wp-content/uploads/2024/08/Screenshot-2024-08-21-10.20.00-PM-e1726092562772.png
END:VEVENT
BEGIN:VEVENT
DTSTART;TZID=UTC:20241002T190000
DTEND;TZID=UTC:20241002T210000
DTSTAMP:20260423T045051
CREATED:20240907T000520Z
LAST-MODIFIED:20240907T000520Z
UID:29186-1727895600-1727902800@elkinsrandolphwv.com
SUMMARY:MSFF - Citizens Bank of WV Festival Stage
DESCRIPTION:Boys in the Band – A Tribute to Alabama
URL:https://elkinsrandolphwv.com/event/msff-citizens-bank-of-wv-festival-stage-4/
LOCATION:Rotary Ampitheatre in Elkins Town Square\, 315 Railroad Avenue\, Elkins\, WV\, 26241\, United States\, 2 Railroad Ave\, United States
CATEGORIES:Community,Entertainment,Kids & Family,Music,Outdoors
ATTACH;FMTTYPE=image/jpeg:https://elkinsrandolphwv.com/wp-content/uploads/2019/10/MSFF-e1661781904912.jpg
GEO:38.92313;-79.851004
X-APPLE-STRUCTURED-LOCATION;VALUE=URI;X-ADDRESS=Rotary Ampitheatre in Elkins Town Square 315 Railroad Avenue Elkins WV 26241 United States 2 Railroad Ave United States;X-APPLE-RADIUS=500;X-TITLE=2 Railroad Ave:geo:-79.851004,38.92313
END:VEVENT
BEGIN:VEVENT
DTSTART;TZID=UTC:20241003T070000
DTEND;TZID=UTC:20241003T210000
DTSTAMP:20260423T045051
CREATED:20240911T062540Z
LAST-MODIFIED:20240911T062540Z
UID:29214-1727938800-1727989200@elkinsrandolphwv.com
SUMMARY:MSFF - Citizens Bank of WV Festival Stage
DESCRIPTION:Still Surfin’ – A Tribute to the Beach Boys
URL:https://elkinsrandolphwv.com/event/msff-citizens-bank-of-wv-festival-stage-5/
LOCATION:Rotary Ampitheatre in Elkins Town Square\, 315 Railroad Avenue\, Elkins\, WV\, 26241\, United States\, 2 Railroad Ave\, United States
CATEGORIES:Community,Entertainment,Kids & Family,Music
ATTACH;FMTTYPE=image/jpeg:https://elkinsrandolphwv.com/wp-content/uploads/2019/10/MSFF-e1661781904912.jpg
GEO:38.92313;-79.851004
X-APPLE-STRUCTURED-LOCATION;VALUE=URI;X-ADDRESS=Rotary Ampitheatre in Elkins Town Square 315 Railroad Avenue Elkins WV 26241 United States 2 Railroad Ave United States;X-APPLE-RADIUS=500;X-TITLE=2 Railroad Ave:geo:-79.851004,38.92313
END:VEVENT
BEGIN:VEVENT
DTSTART;TZID=UTC:20241003T180000
DTEND;TZID=UTC:20241003T210000
DTSTAMP:20260423T045051
CREATED:20240924T174801Z
LAST-MODIFIED:20240924T174801Z
UID:29530-1727978400-1727989200@elkinsrandolphwv.com
SUMMARY:Premier Evening Show
DESCRIPTION:After a wonderful plated dinner\, sit back and listen to the fabulous Mountain Memories Show Band as they serve up a 2 hour Branson-style show with music from the 40’s- today featuring Country\, Pop\, Motown\, Gospel\, and Patriotic along with family- friendly comedy and amazing dancers. The Gandy Dancer offers a show that’s guaranteed to have you dancing in your seat\, laughing ‘til you cry\, touch your heart and give you memories that will last a lifetime. \nArrive at 5:30 pm  ~ Dinner at 6:00 pm  ~ Show Only arrive at 6:30 pm  ~ Show at 7:00 pm
URL:https://elkinsrandolphwv.com/event/premier-evening-show/
LOCATION:Gandy Dancer Theatre and Conference Center\, 359 Beverly Pike\, Elkins\, WV 26241\, USA\, United States
CATEGORIES:Art & Culture,Community,Entertainment,Food & Drink,Kids & Family,Music
ATTACH;FMTTYPE=image/jpeg:https://elkinsrandolphwv.com/wp-content/uploads/2019/03/Gandy-Logo-1-480x335-e1727185281650.jpg
GEO:38.918641;-79.842607
END:VEVENT
BEGIN:VEVENT
DTSTART;TZID=UTC:20241003T193000
DTEND;TZID=UTC:20241003T220000
DTSTAMP:20260423T045051
CREATED:20240930T171745Z
LAST-MODIFIED:20240930T171745Z
UID:29572-1727983800-1727992800@elkinsrandolphwv.com
SUMMARY:Live Music at the Oxley House Cocktail Bar
DESCRIPTION:Join us at the Oxley House during the Mountain State Forest Festival week\, Thursday\, October 3rd from 7:30 p.m. – 10:00 p.m. for an evening filled with live music with The Masons!
URL:https://elkinsrandolphwv.com/event/live-music-at-the-oxley-house-cocktail-bar/
LOCATION:Oxley House\, 206 Davis Avenue\, Elkins\, WV
CATEGORIES:Community,Entertainment,Food & Drink,Music
ATTACH;FMTTYPE=image/png:https://elkinsrandolphwv.com/wp-content/uploads/2024/05/Oxley-House-Profile-Pic-e1726534174518.png
ORGANIZER;CN="Tygart Hotel":MAILTO:fd.tygart@taylorhospitality.com
END:VEVENT
BEGIN:VEVENT
DTSTART;TZID=UTC:20241004T160000
DTEND;TZID=UTC:20241004T170000
DTSTAMP:20260423T045051
CREATED:20241003T181151Z
LAST-MODIFIED:20241003T181151Z
UID:29618-1728057600-1728061200@elkinsrandolphwv.com
SUMMARY:Live Music at the Darden Mill | Fair Play
DESCRIPTION:Visit the Appalachian Forest Discovery Center on Friday October 4 at 4:00pm for a special musical performance by Fair Play! The event is free and open to all. The duo will play in the second floor event space of the Darden Mill. \n\nAbout Fair Play:\nEd and Trish Bowes have been playing music together since they first met on the chairlift at Silver Creek ski resort many years ago. They now share their time between their homes in Beverly\, WV and Midlothian\, VA. They have previously performed as “Fair Play” for Beverly Days\, Bucky House dinner concerts\, and other local venues. They are grateful for the opportunity to perform during the 2024 WV Forest Festival.
URL:https://elkinsrandolphwv.com/event/live-music-at-the-darden-mill-fair-play/
LOCATION:Darden Mill Museum\, 2 Railroad Ave\, Elkins\, WV\, 26241\, United States
CATEGORIES:Entertainment,Music
ORGANIZER;CN="Appalachian Forest National Heritage Area":MAILTO:info@appalachianforest.us
END:VEVENT
BEGIN:VEVENT
DTSTART;TZID=UTC:20241004T180000
DTEND;TZID=UTC:20241004T210000
DTSTAMP:20260423T045051
CREATED:20240924T175012Z
LAST-MODIFIED:20240924T175012Z
UID:29532-1728064800-1728075600@elkinsrandolphwv.com
SUMMARY:Tribute to Musical Legends Dinner & Show
DESCRIPTION:Enjoy this amazing show where our performers pay their tribute to such musical legends as Dolly Parton\, Kenny Rogers\, Johnny and June Cash\, Elvis and many more. \nArrive at 5:30 pm  ~ Dinner at 6:00 pm  ~ Show Only arrive at 6:30 pm  ~  \nShow at 7:00 pm
URL:https://elkinsrandolphwv.com/event/tribute-to-musical-legends-dinner-show-2/
LOCATION:Gandy Dancer Theatre and Conference Center\, 359 Beverly Pike\, Elkins\, WV 26241\, USA\, United States
CATEGORIES:Art & Culture,Community,Entertainment,Food & Drink,Kids & Family,Music
ATTACH;FMTTYPE=image/jpeg:https://elkinsrandolphwv.com/wp-content/uploads/2019/03/Gandy-Logo-1-480x335-e1727185281650.jpg
GEO:38.918641;-79.842607
END:VEVENT
BEGIN:VEVENT
DTSTART;TZID=UTC:20241004T200000
DTEND;TZID=UTC:20241004T223000
DTSTAMP:20260423T045051
CREATED:20240930T171938Z
LAST-MODIFIED:20240930T171938Z
UID:29573-1728072000-1728081000@elkinsrandolphwv.com
SUMMARY:Live Music at The Oxley House Cocktail Bar
DESCRIPTION:Join us for an unforgettable evening at Oxley House during the Mountain State Forest Festival week! On Friday\, October 4th\, from 8:00pm to 10:30pm\, immerse yourself in a night of fun at our cocktail bar with Jeff Grable.
URL:https://elkinsrandolphwv.com/event/live-music-at-the-oxley-house-cocktail-bar-2/
LOCATION:Oxley House\, 206 Davis Avenue\, Elkins\, WV
CATEGORIES:Community,Entertainment,Food & Drink,Music
ATTACH;FMTTYPE=image/png:https://elkinsrandolphwv.com/wp-content/uploads/2024/05/Oxley-House-Profile-Pic-e1726534174518.png
ORGANIZER;CN="Tygart Hotel":MAILTO:fd.tygart@taylorhospitality.com
END:VEVENT
BEGIN:VEVENT
DTSTART;TZID=UTC:20241004T210000
DTEND;TZID=UTC:20241004T210000
DTSTAMP:20260423T045051
CREATED:20240917T044015Z
LAST-MODIFIED:20240917T044015Z
UID:29445-1728075600-1728075600@elkinsrandolphwv.com
SUMMARY:Forest Festival Block Party @ El Gran Sabor
DESCRIPTION:See y’all at the El Gran Sabor Forest Festival block party immediately following the Fireman’s Parade! 9:00-12:00. 90s and 00s hits
URL:https://elkinsrandolphwv.com/event/forest-festival-block-party-el-gran-sabor/
LOCATION:El Gran Sabor\, 413 Kerens Ave\, Elkins\, WV 26241\, USA\, 155 Kerens Ave\, United States
CATEGORIES:Community,Entertainment,Food & Drink,Kids & Family,Music
ATTACH;FMTTYPE=image/jpeg:https://elkinsrandolphwv.com/wp-content/uploads/2019/07/el-gran-sabor-e1726104755868.jpg
GEO:38.92349;-79.848286
X-APPLE-STRUCTURED-LOCATION;VALUE=URI;X-ADDRESS=El Gran Sabor 413 Kerens Ave Elkins WV 26241 USA 155 Kerens Ave United States;X-APPLE-RADIUS=500;X-TITLE=155 Kerens Ave:geo:-79.848286,38.92349
END:VEVENT
BEGIN:VEVENT
DTSTART;TZID=UTC:20241005T164500
DTEND;TZID=UTC:20241005T173000
DTSTAMP:20260423T045051
CREATED:20240911T183209Z
LAST-MODIFIED:20240911T183209Z
UID:29252-1728146700-1728149400@elkinsrandolphwv.com
SUMMARY:MSFF - Jack Basil Band Field Show
DESCRIPTION:3:00 PM Gates Open\, The Pride of West Virginia\, Mountaineer March Band
URL:https://elkinsrandolphwv.com/event/msff-jack-basil-band-field-show/
LOCATION:Elkins High School\, 100 Kennedy Dr\, Elkins\, WV 26241\, USA\, 13 Kennedy Dr\, United States
CATEGORIES:Community,Entertainment,Kids & Family,Music
ATTACH;FMTTYPE=image/jpeg:https://elkinsrandolphwv.com/wp-content/uploads/2019/10/MSFF-e1661781904912.jpg
GEO:38.892308;-79.849775
X-APPLE-STRUCTURED-LOCATION;VALUE=URI;X-ADDRESS=Elkins High School 100 Kennedy Dr Elkins WV 26241 USA 13 Kennedy Dr United States;X-APPLE-RADIUS=500;X-TITLE=13 Kennedy Dr:geo:-79.849775,38.892308
END:VEVENT
BEGIN:VEVENT
DTSTART;TZID=UTC:20241005T170000
DTEND;TZID=UTC:20241005T193000
DTSTAMP:20260423T045051
CREATED:20240930T172155Z
LAST-MODIFIED:20240930T172155Z
UID:29574-1728147600-1728156600@elkinsrandolphwv.com
SUMMARY:Forest Festival Saturday event
DESCRIPTION:Join us at the Forest Festival after the parade on Saturday at the Tygart Hotel/Oxley House for live music! 5-7:30.
URL:https://elkinsrandolphwv.com/event/forest-festival-saturday-event/
LOCATION:Oxley House\, 206 Davis Avenue\, Elkins\, WV
CATEGORIES:Community,Entertainment,Food & Drink,Music
ATTACH;FMTTYPE=image/png:https://elkinsrandolphwv.com/wp-content/uploads/2024/05/Oxley-House-Profile-Pic-e1726534174518.png
ORGANIZER;CN="Tygart Hotel":MAILTO:fd.tygart@taylorhospitality.com
END:VEVENT
BEGIN:VEVENT
DTSTART;TZID=UTC:20241005T170000
DTEND;TZID=UTC:20241005T220000
DTSTAMP:20260423T045051
CREATED:20240930T172338Z
LAST-MODIFIED:20240930T172338Z
UID:29575-1728147600-1728165600@elkinsrandolphwv.com
SUMMARY:Live Music at the Oxley House Cocktail Bar
DESCRIPTION:Join us for an exciting evening of live music at the Oxley House Cocktail Bar during the Mountain State Forest Festival! Whether you’re a local or just visiting for the festival\, our lineup promises to deliver a night of great music\, good company\, and delicious cocktails. Don’t miss out on this perfect way to end your Saturday! \nPerformance Schedule:5:00 PM – 7:30 PM: Enjoy the soulful acoustic vibes of Tiffany and Joel.8:00 PM – 10:00 PM: Keep the evening going with the chill tunes of Lauren Starkey.
URL:https://elkinsrandolphwv.com/event/live-music-at-the-oxley-house-cocktail-bar-3/
LOCATION:Oxley House\, 206 Davis Avenue\, Elkins\, WV
CATEGORIES:Community,Entertainment,Food & Drink,Music
ATTACH;FMTTYPE=image/png:https://elkinsrandolphwv.com/wp-content/uploads/2024/05/Oxley-House-Profile-Pic-e1726534174518.png
ORGANIZER;CN="Tygart Hotel":MAILTO:fd.tygart@taylorhospitality.com
END:VEVENT
BEGIN:VEVENT
DTSTART;TZID=UTC:20241005T180000
DTEND;TZID=UTC:20241005T210000
DTSTAMP:20260423T045051
CREATED:20240924T175208Z
LAST-MODIFIED:20240924T175208Z
UID:29533-1728151200-1728162000@elkinsrandolphwv.com
SUMMARY:Premier Evening Show
DESCRIPTION:After a wonderful plated dinner\, sit back and listen to the fabulous Mountain Memories Show Band as they serve up a 2 hour Branson-style show with music from the 40’s- today featuring Country\, Pop\, Motown\, Gospel\, and Patriotic along with family- friendly comedy and amazing dancers. The Gandy Dancer offers a show that’s guaranteed to have you dancing in your seat\, laughing ‘til you cry\, touch your heart and give you memories that will last a lifetime. \nArrive at 5:30 pm  ~ Dinner at 6:00 pm  ~ Show Only arrive at 6:30 pm  ~ Show at 7:00 pm
URL:https://elkinsrandolphwv.com/event/premier-evening-show-2/
LOCATION:Gandy Dancer Theatre and Conference Center\, 359 Beverly Pike\, Elkins\, WV 26241\, USA\, United States
CATEGORIES:Community,Entertainment,Food & Drink,Kids & Family,Music
ATTACH;FMTTYPE=image/jpeg:https://elkinsrandolphwv.com/wp-content/uploads/2019/03/Gandy-Logo-1-480x335-e1727185281650.jpg
GEO:38.918641;-79.842607
END:VEVENT
BEGIN:VEVENT
DTSTART;TZID=UTC:20241010T180000
DTEND;TZID=UTC:20241010T210000
DTSTAMP:20260423T045051
CREATED:20240924T175405Z
LAST-MODIFIED:20240924T175405Z
UID:29534-1728583200-1728594000@elkinsrandolphwv.com
SUMMARY:Premier Evening Show
DESCRIPTION:After a wonderful plated dinner\, sit back and listen to the fabulous Mountain Memories Show Band as they serve up a 2 hour Branson-style show with music from the 40’s- today featuring Country\, Pop\, Motown\, Gospel\, and Patriotic along with family- friendly comedy and amazing dancers. The Gandy Dancer offers a show that’s guaranteed to have you dancing in your seat\, laughing ‘til you cry\, touch your heart and give you memories that will last a lifetime. \nArrive at 5:30 pm  ~ Dinner at 6:00 pm  ~ Show Only arrive at 6:30 pm  ~ Show at 7:00 pm
URL:https://elkinsrandolphwv.com/event/premier-evening-show-3/
LOCATION:Gandy Dancer Theatre and Conference Center\, 359 Beverly Pike\, Elkins\, WV 26241\, USA\, United States
CATEGORIES:Art & Culture,Community,Entertainment,Food & Drink,Kids & Family,Music
ATTACH;FMTTYPE=image/jpeg:https://elkinsrandolphwv.com/wp-content/uploads/2019/03/Gandy-Logo-1-480x335-e1727185281650.jpg
GEO:38.918641;-79.842607
END:VEVENT
BEGIN:VEVENT
DTSTART;TZID=UTC:20241011T180000
DTEND;TZID=UTC:20241011T210000
DTSTAMP:20260423T045051
CREATED:20240924T175543Z
LAST-MODIFIED:20240924T175543Z
UID:29535-1728669600-1728680400@elkinsrandolphwv.com
SUMMARY:Tribute to Musical Legends Dinner & Show
DESCRIPTION:Enjoy this amazing show where our performers pay their tribute to such musical legends as Dolly Parton\, Kenny Rogers\, Johnny and June Cash\, Elvis and many more. \nArrive at 5:30 pm  ~ Dinner at 6:00 pm  ~ Show Only arrive at 6:30 pm  ~  \nShow at 7:00 pm
URL:https://elkinsrandolphwv.com/event/tribute-to-musical-legends-dinner-show-3/
LOCATION:Gandy Dancer Theatre and Conference Center\, 359 Beverly Pike\, Elkins\, WV 26241\, USA\, United States
CATEGORIES:Art & Culture,Community,Entertainment,Food & Drink,Kids & Family,Music
ATTACH;FMTTYPE=image/jpeg:https://elkinsrandolphwv.com/wp-content/uploads/2019/03/Gandy-Logo-1-480x335-e1727185281650.jpg
GEO:38.918641;-79.842607
END:VEVENT
BEGIN:VEVENT
DTSTART;TZID=UTC:20241012T110000
DTEND;TZID=UTC:20241012T180000
DTSTAMP:20260423T045051
CREATED:20240827T183354Z
LAST-MODIFIED:20240827T183354Z
UID:29120-1728730800-1728756000@elkinsrandolphwv.com
SUMMARY:Autumn on the Dryfork
DESCRIPTION:When: Saturday\, October 12\, 2024 @ 11:00am\nWhere: Harman\, WV | Dry Fork Recreation Center (behind the Old Mill\, just off Rt. 32) \nPig Roast & Chicken BBQ Dinners will be available! The meal includes beans\, coleslaw\, roll\, and bottled water. Halves and sandwiches are available. \nHomemade apple butter and apple cider made on the premises will be available for sale. \nFollowing the flag raising ceremony at 11:00am will be fun\, food\, and music all day including vendor tables and a bake sale. \nContact: Rex Vance at (304) 227-4124 \n 
URL:https://elkinsrandolphwv.com/event/autumn-on-the-dryfork/
LOCATION:Dry Fork Recreation Center\, Harman\, WV\, United States
CATEGORIES:Community,Fairs & Festivals,Food & Drink,Kids & Family,Music
END:VEVENT
BEGIN:VEVENT
DTSTART;TZID=UTC:20241016T120000
DTEND;TZID=UTC:20241016T130000
DTSTAMP:20260423T045051
CREATED:20240808T211017Z
LAST-MODIFIED:20240808T211017Z
UID:29064-1729080000-1729083600@elkinsrandolphwv.com
SUMMARY:Brown Bag Concert Series: Chris Lovejoy and Josh Wanstreet
DESCRIPTION:
URL:https://elkinsrandolphwv.com/event/brown-bag-concert-series-chris-lovejoy-and-josh-wanstreet/
LOCATION:The Arts Center\, aka Randolph Co. Community Arts Council\, 2 Park St\, Elkins\, WV\, 26241\, United States
CATEGORIES:Community,Entertainment,Music
ATTACH;FMTTYPE=image/png:https://elkinsrandolphwv.com/wp-content/uploads/2019/03/the-arts-center-e1726534520618.png
GEO:38.924095;-79.850318
X-APPLE-STRUCTURED-LOCATION;VALUE=URI;X-ADDRESS=The Arts Center aka Randolph Co. Community Arts Council 2 Park St Elkins WV 26241 United States;X-APPLE-RADIUS=500;X-TITLE=2 Park St:geo:-79.850318,38.924095
END:VEVENT
BEGIN:VEVENT
DTSTART;TZID=UTC:20241018T180000
DTEND;TZID=UTC:20241018T210000
DTSTAMP:20260423T045051
CREATED:20240924T175702Z
LAST-MODIFIED:20240924T175702Z
UID:29536-1729274400-1729285200@elkinsrandolphwv.com
SUMMARY:Tribute to Musical Legends Dinner & Show
DESCRIPTION:Enjoy this amazing show where our performers pay their tribute to such musical legends as Dolly Parton\, Kenny Rogers\, Johnny and June Cash\, Elvis and many more. \nArrive at 5:30 pm  ~ Dinner at 6:00 pm  ~ Show Only arrive at 6:30 pm  ~  \nShow at 7:00 pm
URL:https://elkinsrandolphwv.com/event/tribute-to-musical-legends-dinner-show-4/
LOCATION:Gandy Dancer Theatre and Conference Center\, 359 Beverly Pike\, Elkins\, WV 26241\, USA\, United States
CATEGORIES:Art & Culture,Community,Entertainment,Food & Drink,Kids & Family,Music
ATTACH;FMTTYPE=image/jpeg:https://elkinsrandolphwv.com/wp-content/uploads/2019/03/Gandy-Logo-1-480x335-e1727185281650.jpg
GEO:38.918641;-79.842607
END:VEVENT
BEGIN:VEVENT
DTSTART;TZID=UTC:20241019T193000
DTEND;TZID=UTC:20241019T220000
DTSTAMP:20260423T045051
CREATED:20240930T172512Z
LAST-MODIFIED:20240930T172512Z
UID:29576-1729366200-1729375200@elkinsrandolphwv.com
SUMMARY:Live Music at the Oxley House Cocktail Bar
DESCRIPTION:Join us at the #OxleyHouse\, Saturday\, October 19th\, from 7:30 p.m. – 10:00 p.m. for an evening filled with live music with Tiffany Elliott.
URL:https://elkinsrandolphwv.com/event/live-music-at-the-oxley-house-cocktail-bar-4/
LOCATION:Oxley House\, 206 Davis Avenue\, Elkins\, WV
CATEGORIES:Community,Entertainment,Food & Drink,Music
ATTACH;FMTTYPE=image/png:https://elkinsrandolphwv.com/wp-content/uploads/2024/05/Oxley-House-Profile-Pic-e1726534174518.png
ORGANIZER;CN="Tygart Hotel":MAILTO:fd.tygart@taylorhospitality.com
END:VEVENT
BEGIN:VEVENT
DTSTART;TZID=UTC:20241022T180000
DTEND;TZID=UTC:20241022T210000
DTSTAMP:20260423T045051
CREATED:20240924T175851Z
LAST-MODIFIED:20240924T175851Z
UID:29537-1729620000-1729630800@elkinsrandolphwv.com
SUMMARY:Premier Evening Show
DESCRIPTION:After a wonderful plated dinner\, sit back and listen to the fabulous Mountain Memories Show Band as they serve up a 2 hour Branson-style show with music from the 40’s- today featuring Country\, Pop\, Motown\, Gospel\, and Patriotic along with family- friendly comedy and amazing dancers. The Gandy Dancer offers a show that’s guaranteed to have you dancing in your seat\, laughing ‘til you cry\, touch your heart and give you memories that will last a lifetime. \nArrive at 5:30 pm  ~ Dinner at 6:00 pm  ~ Show Only arrive at 6:30 pm  ~ Show at 7:00 pm
URL:https://elkinsrandolphwv.com/event/premier-evening-show-4/
LOCATION:Gandy Dancer Theatre and Conference Center\, 359 Beverly Pike\, Elkins\, WV 26241\, USA\, United States
CATEGORIES:Art & Culture,Community,Entertainment,Food & Drink,Kids & Family,Music
ATTACH;FMTTYPE=image/jpeg:https://elkinsrandolphwv.com/wp-content/uploads/2019/03/Gandy-Logo-1-480x335-e1727185281650.jpg
GEO:38.918641;-79.842607
END:VEVENT
BEGIN:VEVENT
DTSTART;TZID=UTC:20241025T190000
DTEND;TZID=UTC:20241025T210000
DTSTAMP:20260423T045051
CREATED:20241024T224206Z
LAST-MODIFIED:20241024T224206Z
UID:29662-1729882800-1729890000@elkinsrandolphwv.com
SUMMARY:Halloween Square Dance | Big Timber Brewing
DESCRIPTION:When: Friday\, October 25th from 7pm – 9pm \nWhere: Big Timber Brewing \nHow Much: $10 for adults\, $5 for students and AmeriCorps\, children 12 and under are FREE. \nMusic by Born Old\, Calling by Tony Minney
URL:https://elkinsrandolphwv.com/event/halloween-square-dance-big-timber-brewing/
LOCATION:Big Timber Brewing\, 2 Davis Avenue\, Elkins\, WV\, 26241\, United States
CATEGORIES:Art & Culture,Community,Entertainment,Food & Drink,Kids & Family,Music
ATTACH;FMTTYPE=image/png:https://elkinsrandolphwv.com/wp-content/uploads/2019/03/augusta-heritage-center-NEW-logo-e1726600108332.png
END:VEVENT
BEGIN:VEVENT
DTSTART;TZID=UTC:20241025T193000
DTEND;TZID=UTC:20241025T220000
DTSTAMP:20260423T045051
CREATED:20240930T172628Z
LAST-MODIFIED:20240930T172628Z
UID:29577-1729884600-1729893600@elkinsrandolphwv.com
SUMMARY:Live Music at the Oxley House Cocktail Bar
DESCRIPTION:Friday\, October 25th\, start the good vibes going into the weekend with the harmonious duo\, Danny & Jamie of the Soda Pop Gypsies. Experience a blend of rhythm and melody that will make your Friday night truly special.
URL:https://elkinsrandolphwv.com/event/live-music-at-the-oxley-house-cocktail-bar-5/
LOCATION:Oxley House\, 206 Davis Avenue\, Elkins\, WV
CATEGORIES:Community,Entertainment,Food & Drink,Music
ATTACH;FMTTYPE=image/png:https://elkinsrandolphwv.com/wp-content/uploads/2024/05/Oxley-House-Profile-Pic-e1726534174518.png
ORGANIZER;CN="Tygart Hotel":MAILTO:fd.tygart@taylorhospitality.com
END:VEVENT
BEGIN:VEVENT
DTSTART;TZID=UTC:20241026T170000
DTEND;TZID=UTC:20241026T230000
DTSTAMP:20260423T045051
CREATED:20240930T175656Z
LAST-MODIFIED:20240930T175656Z
UID:29585-1729962000-1729983600@elkinsrandolphwv.com
SUMMARY:Boos and Brews Bar Crawl
DESCRIPTION:West Virginia Wild and Wonderful Celtic Festival and Highland Games\, Big Timber Brewing Company\, and Kilmaine Saints Presents Boos and Brews Bar Crawl! \nTickets $30 each – include a boos and brews t-shirt that earns you food and drink specials at all the participating bars\, no cover charge at Big Timber\, a $10 cover will be charged without the shirt. A \nmusical treat by Kilmaine Saints! \nFree shuttle within Elkins city limits for those of us who really like to drink. \nPick up your tickets and shirt at Beanders after 4:30pm on Saturday\, October 26th.
URL:https://elkinsrandolphwv.com/event/boos-and-brews-bar-crawl/
LOCATION:Downtown Elkins\, Davis Avenue\, Elkins\, WV\, 26241\, United States\, 101 Davis St\, United States
CATEGORIES:Community,Entertainment,Food & Drink,Music
GEO:38.92227;-79.845372
X-APPLE-STRUCTURED-LOCATION;VALUE=URI;X-ADDRESS=Downtown Elkins Davis Avenue Elkins WV 26241 United States 101 Davis St United States;X-APPLE-RADIUS=500;X-TITLE=101 Davis St:geo:-79.845372,38.92227
END:VEVENT
BEGIN:VEVENT
DTSTART;TZID=UTC:20241026T180000
DTEND;TZID=UTC:20241026T210000
DTSTAMP:20260423T045051
CREATED:20240924T180025Z
LAST-MODIFIED:20240924T180025Z
UID:29538-1729965600-1729976400@elkinsrandolphwv.com
SUMMARY:Premier Evening Show
DESCRIPTION:After a wonderful plated dinner\, sit back and listen to the fabulous Mountain Memories Show Band as they serve up a 2 hour Branson-style show with music from the 40’s- today featuring Country\, Pop\, Motown\, Gospel\, and Patriotic along with family- friendly comedy and amazing dancers. The Gandy Dancer offers a show that’s guaranteed to have you dancing in your seat\, laughing ‘til you cry\, touch your heart and give you memories that will last a lifetime. \nArrive at 5:30 pm  ~ Dinner at 6:00 pm  ~ Show Only arrive at 6:30 pm  ~ Show at 7:00 pm
URL:https://elkinsrandolphwv.com/event/premier-evening-show-5/
LOCATION:Gandy Dancer Theatre and Conference Center\, 359 Beverly Pike\, Elkins\, WV 26241\, USA\, United States
CATEGORIES:Art & Culture,Community,Entertainment,Food & Drink,Kids & Family,Music
ATTACH;FMTTYPE=image/jpeg:https://elkinsrandolphwv.com/wp-content/uploads/2019/03/Gandy-Logo-1-480x335-e1727185281650.jpg
GEO:38.918641;-79.842607
END:VEVENT
BEGIN:VEVENT
DTSTART;TZID=UTC:20241026T190000
DTEND;TZID=UTC:20241026T210000
DTSTAMP:20260423T045051
CREATED:20240917T232438Z
LAST-MODIFIED:20240917T232438Z
UID:29460-1729969200-1729976400@elkinsrandolphwv.com
SUMMARY:Live Music @ Beander's Restaurant and Tavern
DESCRIPTION:Kelsey Jeffries is excited to be playing at one of Elkins’ favorite establishments\, Beander’s Restaurant and Tavern. Come out and support a local West Virginia artist as she performs some of your favorite hit songs as well as some of her originals.
URL:https://elkinsrandolphwv.com/event/live-music-beanders-restaurant-and-tavern/
LOCATION:Beander’s Restaurant & Tavern\, 314 Davis Ave\, Elkins\, WV\, 26241\, United States
CATEGORIES:Community,Food & Drink,Kids & Family,Music
ATTACH;FMTTYPE=image/png:https://elkinsrandolphwv.com/wp-content/uploads/2019/03/main-logo-e1726601056111.png
GEO:38.944536;-79.85025
X-APPLE-STRUCTURED-LOCATION;VALUE=URI;X-ADDRESS=Beander’s Restaurant & Tavern 314 Davis Ave Elkins WV 26241 United States;X-APPLE-RADIUS=500;X-TITLE=314 Davis Ave:geo:-79.85025,38.944536
END:VEVENT
END:VCALENDAR