BEGIN:VCALENDAR
VERSION:2.0
PRODID:-//Elkins-Randolph County Tourism - ECPv6.15.20//NONSGML v1.0//EN
CALSCALE:GREGORIAN
METHOD:PUBLISH
X-WR-CALNAME:Elkins-Randolph County Tourism
X-ORIGINAL-URL:https://elkinsrandolphwv.com
X-WR-CALDESC:Events for Elkins-Randolph County Tourism
REFRESH-INTERVAL;VALUE=DURATION:PT1H
X-Robots-Tag:noindex
X-PUBLISHED-TTL:PT1H
BEGIN:VTIMEZONE
TZID:UTC
BEGIN:STANDARD
TZOFFSETFROM:+0000
TZOFFSETTO:+0000
TZNAME:UTC
DTSTART:20230101T000000
END:STANDARD
END:VTIMEZONE
BEGIN:VEVENT
DTSTART;VALUE=DATE:20240707
DTEND;VALUE=DATE:20240714
DTSTAMP:20260425T114141
CREATED:20240625T154611Z
LAST-MODIFIED:20240625T154611Z
UID:28840-1720317600-1720835999@elkinsrandolphwv.com
SUMMARY:Cajun & Creole Week at Augusta Heritage Center
DESCRIPTION:July 7 – 12 on the scenic campus of Davis & Elkins College! Immerse yourself in Cajun music\, food\, and culture!\nThere’s never a dull moment at Augusta’s Cajun & Creole Week. Learn fiddle\, accordion\, guitar or cooking all day. Dance\, jam\, eat (!) and soak in the culture all night. July 7-12\, 2024 on the scenic campus of Davis and Elkins College in Elkins\, WV.
URL:https://elkinsrandolphwv.com/event/cajun-creole-week-at-augusta-heritage-center/
LOCATION:Davis and Elkins College
CATEGORIES:Art & Culture,Educational,Entertainment,Kids & Family,Music
END:VEVENT
BEGIN:VEVENT
DTSTART;TZID=UTC:20240710T200000
DTEND;TZID=UTC:20240710T200000
DTSTAMP:20260425T114141
CREATED:20240626T201340Z
LAST-MODIFIED:20240626T201340Z
UID:28874-1720641600-1720641600@elkinsrandolphwv.com
SUMMARY:2024 Summer Event Series: Fais Do Do (Gumbo) & Zydeco Dance
DESCRIPTION:
URL:https://elkinsrandolphwv.com/event/2024-summer-event-series-fais-do-do-gumbo-zydeco-dance/
LOCATION:Augusta Heritage Center\, 21 3rd St\, Elkins\, WV\, 26241\, United States
CATEGORIES:Fairs & Festivals,Music
ATTACH;FMTTYPE=image/png:https://elkinsrandolphwv.com/wp-content/uploads/2021/06/augusta-heritage-center-NEW-logo.png
GEO:38.921112;-79.845579
X-APPLE-STRUCTURED-LOCATION;VALUE=URI;X-ADDRESS=Augusta Heritage Center 21 3rd St Elkins WV 26241 United States;X-APPLE-RADIUS=500;X-TITLE=21 3rd St:geo:-79.845579,38.921112
END:VEVENT
END:VCALENDAR