BEGIN:VCALENDAR
VERSION:2.0
PRODID:-//Elkins-Randolph County Tourism - ECPv6.15.20//NONSGML v1.0//EN
CALSCALE:GREGORIAN
METHOD:PUBLISH
X-ORIGINAL-URL:https://elkinsrandolphwv.com
X-WR-CALDESC:Events for Elkins-Randolph County Tourism
REFRESH-INTERVAL;VALUE=DURATION:PT1H
X-Robots-Tag:noindex
X-PUBLISHED-TTL:PT1H
BEGIN:VTIMEZONE
TZID:UTC
BEGIN:STANDARD
TZOFFSETFROM:+0000
TZOFFSETTO:+0000
TZNAME:UTC
DTSTART:20230101T000000
END:STANDARD
END:VTIMEZONE
BEGIN:VEVENT
DTSTART;TZID=UTC:20240726T200000
DTEND;TZID=UTC:20240726T200000
DTSTAMP:20260425T115310
CREATED:20240702T004230Z
LAST-MODIFIED:20240702T004230Z
UID:28916-1722024000-1722024000@elkinsrandolphwv.com
SUMMARY:2024 Summer Concert Series: Square Dance & Blues Dance
DESCRIPTION:
URL:https://elkinsrandolphwv.com/event/2024-summer-concert-series-square-dance-blues-dance/
LOCATION:Augusta Heritage Center\, 21 3rd St\, Elkins\, WV\, 26241\, United States
CATEGORIES:Entertainment,Music
ATTACH;FMTTYPE=image/png:https://elkinsrandolphwv.com/wp-content/uploads/2019/03/augusta-heritage-center-NEW-logo-e1726600108332.png
GEO:38.921112;-79.845579
X-APPLE-STRUCTURED-LOCATION;VALUE=URI;X-ADDRESS=Augusta Heritage Center 21 3rd St Elkins WV 26241 United States;X-APPLE-RADIUS=500;X-TITLE=21 3rd St:geo:-79.845579,38.921112
END:VEVENT
END:VCALENDAR