BEGIN:VCALENDAR
VERSION:2.0
PRODID:-//Elkins-Randolph County Tourism - ECPv6.15.20//NONSGML v1.0//EN
CALSCALE:GREGORIAN
METHOD:PUBLISH
X-WR-CALNAME:Elkins-Randolph County Tourism
X-ORIGINAL-URL:https://elkinsrandolphwv.com
X-WR-CALDESC:Events for Elkins-Randolph County Tourism
REFRESH-INTERVAL;VALUE=DURATION:PT1H
X-Robots-Tag:noindex
X-PUBLISHED-TTL:PT1H
BEGIN:VTIMEZONE
TZID:UTC
BEGIN:STANDARD
TZOFFSETFROM:+0000
TZOFFSETTO:+0000
TZNAME:UTC
DTSTART:20230101T000000
END:STANDARD
END:VTIMEZONE
BEGIN:VEVENT
DTSTART;TZID=UTC:20241002T190000
DTEND;TZID=UTC:20241002T203000
DTSTAMP:20260425T225712
CREATED:20240912T025057Z
LAST-MODIFIED:20240912T025057Z
UID:29273-1727895600-1727901000@elkinsrandolphwv.com
SUMMARY:Pam Roberts Concert
DESCRIPTION:FREE
URL:https://elkinsrandolphwv.com/event/pam-roberts-concert/
LOCATION:Alexandria on Main\, 119 Third Street\, Elkins\, WV\, 26241\, United States
CATEGORIES:Community,Entertainment,Kids & Family,Music
ATTACH;FMTTYPE=image/png:https://elkinsrandolphwv.com/wp-content/uploads/2024/08/Screenshot-2024-08-21-10.20.00-PM-e1726092562772.png
END:VEVENT
BEGIN:VEVENT
DTSTART;TZID=UTC:20241002T190000
DTEND;TZID=UTC:20241002T210000
DTSTAMP:20260425T225712
CREATED:20240907T000520Z
LAST-MODIFIED:20240907T000520Z
UID:29186-1727895600-1727902800@elkinsrandolphwv.com
SUMMARY:MSFF - Citizens Bank of WV Festival Stage
DESCRIPTION:Boys in the Band – A Tribute to Alabama
URL:https://elkinsrandolphwv.com/event/msff-citizens-bank-of-wv-festival-stage-4/
LOCATION:Rotary Ampitheatre in Elkins Town Square\, 315 Railroad Avenue\, Elkins\, WV\, 26241\, United States\, 2 Railroad Ave\, United States
CATEGORIES:Community,Entertainment,Kids & Family,Music,Outdoors
ATTACH;FMTTYPE=image/jpeg:https://elkinsrandolphwv.com/wp-content/uploads/2019/10/MSFF-e1661781904912.jpg
GEO:38.92313;-79.851004
X-APPLE-STRUCTURED-LOCATION;VALUE=URI;X-ADDRESS=Rotary Ampitheatre in Elkins Town Square 315 Railroad Avenue Elkins WV 26241 United States 2 Railroad Ave United States;X-APPLE-RADIUS=500;X-TITLE=2 Railroad Ave:geo:-79.851004,38.92313
END:VEVENT
END:VCALENDAR