BEGIN:VCALENDAR
VERSION:2.0
PRODID:-//Elkins-Randolph County Tourism - ECPv6.15.20//NONSGML v1.0//EN
CALSCALE:GREGORIAN
METHOD:PUBLISH
X-WR-CALNAME:Elkins-Randolph County Tourism
X-ORIGINAL-URL:https://elkinsrandolphwv.com
X-WR-CALDESC:Events for Elkins-Randolph County Tourism
REFRESH-INTERVAL;VALUE=DURATION:PT1H
X-Robots-Tag:noindex
X-PUBLISHED-TTL:PT1H
BEGIN:VTIMEZONE
TZID:UTC
BEGIN:STANDARD
TZOFFSETFROM:+0000
TZOFFSETTO:+0000
TZNAME:UTC
DTSTART:20230101T000000
END:STANDARD
END:VTIMEZONE
BEGIN:VEVENT
DTSTART;TZID=UTC:20241012T110000
DTEND;TZID=UTC:20241012T180000
DTSTAMP:20260425T225722
CREATED:20240827T183354Z
LAST-MODIFIED:20240827T183354Z
UID:29120-1728730800-1728756000@elkinsrandolphwv.com
SUMMARY:Autumn on the Dryfork
DESCRIPTION:When: Saturday\, October 12\, 2024 @ 11:00am\nWhere: Harman\, WV | Dry Fork Recreation Center (behind the Old Mill\, just off Rt. 32) \nPig Roast & Chicken BBQ Dinners will be available! The meal includes beans\, coleslaw\, roll\, and bottled water. Halves and sandwiches are available. \nHomemade apple butter and apple cider made on the premises will be available for sale. \nFollowing the flag raising ceremony at 11:00am will be fun\, food\, and music all day including vendor tables and a bake sale. \nContact: Rex Vance at (304) 227-4124 \n 
URL:https://elkinsrandolphwv.com/event/autumn-on-the-dryfork/
LOCATION:Dry Fork Recreation Center\, Harman\, WV\, United States
CATEGORIES:Community,Fairs & Festivals,Food & Drink,Kids & Family,Music
END:VEVENT
END:VCALENDAR