BEGIN:VCALENDAR
VERSION:2.0
PRODID:-//Elkins-Randolph County Tourism - ECPv6.15.20//NONSGML v1.0//EN
CALSCALE:GREGORIAN
METHOD:PUBLISH
X-WR-CALNAME:Elkins-Randolph County Tourism
X-ORIGINAL-URL:https://elkinsrandolphwv.com
X-WR-CALDESC:Events for Elkins-Randolph County Tourism
REFRESH-INTERVAL;VALUE=DURATION:PT1H
X-Robots-Tag:noindex
X-PUBLISHED-TTL:PT1H
BEGIN:VTIMEZONE
TZID:UTC
BEGIN:STANDARD
TZOFFSETFROM:+0000
TZOFFSETTO:+0000
TZNAME:UTC
DTSTART:20240101T000000
END:STANDARD
END:VTIMEZONE
BEGIN:VTIMEZONE
TZID:America/New_York
BEGIN:DAYLIGHT
TZOFFSETFROM:-0500
TZOFFSETTO:-0400
TZNAME:EDT
DTSTART:20240310T070000
END:DAYLIGHT
BEGIN:STANDARD
TZOFFSETFROM:-0400
TZOFFSETTO:-0500
TZNAME:EST
DTSTART:20241103T060000
END:STANDARD
BEGIN:DAYLIGHT
TZOFFSETFROM:-0500
TZOFFSETTO:-0400
TZNAME:EDT
DTSTART:20250309T070000
END:DAYLIGHT
BEGIN:STANDARD
TZOFFSETFROM:-0400
TZOFFSETTO:-0500
TZNAME:EST
DTSTART:20251102T060000
END:STANDARD
BEGIN:DAYLIGHT
TZOFFSETFROM:-0500
TZOFFSETTO:-0400
TZNAME:EDT
DTSTART:20260308T070000
END:DAYLIGHT
BEGIN:STANDARD
TZOFFSETFROM:-0400
TZOFFSETTO:-0500
TZNAME:EST
DTSTART:20261101T060000
END:STANDARD
END:VTIMEZONE
BEGIN:VEVENT
DTSTART;TZID=UTC:20250711T193000
DTEND;TZID=UTC:20250711T210000
DTSTAMP:20260422T101018
CREATED:20250520T192813Z
LAST-MODIFIED:20250520T193325Z
UID:30762-1752262200-1752267600@elkinsrandolphwv.com
SUMMARY:Our Town Summer Music Concert Series
DESCRIPTION:Our Town’s 2025 Summer Concert Series lineup has officially been announced! Mark your calendars and get ready to spend select summer Friday nights with us at 7:30 pm at the Rotary Amphitheater in Elkins Town Square\, located in downtown Elkins—now with concerts on FRIDAY evenings\, by popular request! Enjoy amazing live music\, beautiful summer evenings\, and the best local vibes—all 100% FREE ADMISSION! Check out the full lineup in the graphic ad and start planning your summer. We’ll see you at the Amphitheater!
URL:https://elkinsrandolphwv.com/event/our-town-summer-music-concert-series/2025-07-11/
LOCATION:Rotary Ampitheatre in Elkins Town Square\, 315 Railroad Avenue\, Elkins\, WV\, 26241\, United States\, 2 Railroad Ave\, United States
CATEGORIES:Community,Kids & Family,Music
GEO:38.92313;-79.851004
X-APPLE-STRUCTURED-LOCATION;VALUE=URI;X-ADDRESS=Rotary Ampitheatre in Elkins Town Square 315 Railroad Avenue Elkins WV 26241 United States 2 Railroad Ave United States;X-APPLE-RADIUS=500;X-TITLE=2 Railroad Ave:geo:-79.851004,38.92313
END:VEVENT
BEGIN:VEVENT
DTSTART;TZID=America/New_York:20250711T193000
DTEND;TZID=America/New_York:20250711T213000
DTSTAMP:20260422T101018
CREATED:20250709T234947Z
LAST-MODIFIED:20250709T234947Z
UID:30958-1752262200-1752269400@elkinsrandolphwv.com
SUMMARY:Crandall Creek at Big Timber Brewing
DESCRIPTION:Join us for live music with Crandall Creek!! Crandall Creek is a dynamic bluegrass ensemble with a blend of exceptional vocalists\, award-winning instrumentalists\, and acclaimed songwriters that creates a unique fusion of tradition and innovation.\nFree Show open to all ages!
URL:https://elkinsrandolphwv.com/event/crandall-creek-at-big-timber-brewing/
LOCATION:Big Timber Brewing\, 2 Davis Avenue\, Elkins\, WV\, 26241\, United States
CATEGORIES:Music
ATTACH;FMTTYPE=image/jpeg:https://elkinsrandolphwv.com/wp-content/uploads/2019/03/big-timber.jpg
END:VEVENT
END:VCALENDAR