BEGIN:VCALENDAR
VERSION:2.0
PRODID:-//Elkins-Randolph County Tourism - ECPv6.15.20//NONSGML v1.0//EN
CALSCALE:GREGORIAN
METHOD:PUBLISH
X-ORIGINAL-URL:https://elkinsrandolphwv.com
X-WR-CALDESC:Events for Elkins-Randolph County Tourism
REFRESH-INTERVAL;VALUE=DURATION:PT1H
X-Robots-Tag:noindex
X-PUBLISHED-TTL:PT1H
BEGIN:VTIMEZONE
TZID:UTC
BEGIN:STANDARD
TZOFFSETFROM:+0000
TZOFFSETTO:+0000
TZNAME:UTC
DTSTART:20240101T000000
END:STANDARD
END:VTIMEZONE
BEGIN:VEVENT
DTSTART;TZID=UTC:20251028T193000
DTEND;TZID=UTC:20251028T213000
DTSTAMP:20260422T105702
CREATED:20251028T215416Z
LAST-MODIFIED:20251028T215416Z
UID:32118-1761679800-1761687000@elkinsrandolphwv.com
SUMMARY:Live Music-Timmy White-Jimbo's
DESCRIPTION:
URL:https://elkinsrandolphwv.com/event/live-music-timmy-white-jimbos/
LOCATION:Jimbo’s Place\, 302 Davis Avenue\, Elkins\, WV\, 26241\, United States
CATEGORIES:Food & Drink,Music
END:VEVENT
END:VCALENDAR