BEGIN:VCALENDAR
VERSION:2.0
PRODID:-//Elkins-Randolph County Tourism - ECPv6.15.20//NONSGML v1.0//EN
CALSCALE:GREGORIAN
METHOD:PUBLISH
X-WR-CALNAME:Elkins-Randolph County Tourism
X-ORIGINAL-URL:https://elkinsrandolphwv.com
X-WR-CALDESC:Events for Elkins-Randolph County Tourism
REFRESH-INTERVAL;VALUE=DURATION:PT1H
X-Robots-Tag:noindex
X-PUBLISHED-TTL:PT1H
BEGIN:VTIMEZONE
TZID:UTC
BEGIN:STANDARD
TZOFFSETFROM:+0000
TZOFFSETTO:+0000
TZNAME:UTC
DTSTART:20240101T000000
END:STANDARD
END:VTIMEZONE
BEGIN:VEVENT
DTSTART;TZID=UTC:20251212T180000
DTEND;TZID=UTC:20251212T210000
DTSTAMP:20260423T154108
CREATED:20251109T203040Z
LAST-MODIFIED:20251109T203040Z
UID:32240-1765562400-1765573200@elkinsrandolphwv.com
SUMMARY:Gandy Dancer Mountain Memories Christmas
DESCRIPTION:Matinee Performance Time: \nLunch 12pm-1pm show \nEvening Performance Time : \nDinner 6pm-Show time 7pm
URL:https://elkinsrandolphwv.com/event/gandy-dancer-mountain-memories-christmas-6/
LOCATION:Gandy Dancer Theatre and Conference Center\, 359 Beverly Pike\, Elkins\, WV 26241\, USA\, United States
CATEGORIES:Community,Food & Drink,Music
GEO:38.918641;-79.842607
END:VEVENT
BEGIN:VEVENT
DTSTART;TZID=UTC:20251212T190000
DTEND;TZID=UTC:20251212T210000
DTSTAMP:20260423T154108
CREATED:20251024T194406Z
LAST-MODIFIED:20251024T194406Z
UID:32060-1765566000-1765573200@elkinsrandolphwv.com
SUMMARY:Live Music: Kelsie Jeffries | Beander's
DESCRIPTION:West Virginia musician and songwriter\, Kelsey Jeffries\, returns to Beander’s Restaurant & Tavern on Friday\, December 12th from 7pm-9pm. Come enjoy some delicious food in Beander’s warm atmosphere while listening to your favorite songs and some of Kelsey’s original songs. \n 
URL:https://elkinsrandolphwv.com/event/live-music-kelsie-jeffries-beanders/
LOCATION:Beander’s Restaurant & Tavern\, 314 Davis Ave\, Elkins\, WV\, 26241\, United States
CATEGORIES:Music
GEO:38.944536;-79.85025
X-APPLE-STRUCTURED-LOCATION;VALUE=URI;X-ADDRESS=Beander’s Restaurant & Tavern 314 Davis Ave Elkins WV 26241 United States;X-APPLE-RADIUS=500;X-TITLE=314 Davis Ave:geo:-79.85025,38.944536
END:VEVENT
BEGIN:VEVENT
DTSTART;TZID=UTC:20251212T210000
DTEND;TZID=UTC:20251212T233000
DTSTAMP:20260423T154108
CREATED:20251113T213810Z
LAST-MODIFIED:20251113T214028Z
UID:32319-1765573200-1765582200@elkinsrandolphwv.com
SUMMARY:Friday Night Party | El Gran Sabor
DESCRIPTION:Friday nights = party nights at El Gran Sabor! \nDJ Jeremy spinning the hottest tracks starting at 9PM \nCome dance the night away at El Gran Sabor as DJ Jeremy spins the best of Latin\, hip hop\, dance music\, and more! 
URL:https://elkinsrandolphwv.com/event/friday-night-party-el-gran-sabor-4/
LOCATION:El Gran Sabor\, 413 Kerens Ave\, Elkins\, WV 26241\, USA\, 155 Kerens Ave\, United States
CATEGORIES:Entertainment,Food & Drink,Music
GEO:38.92349;-79.848286
X-APPLE-STRUCTURED-LOCATION;VALUE=URI;X-ADDRESS=El Gran Sabor 413 Kerens Ave Elkins WV 26241 USA 155 Kerens Ave United States;X-APPLE-RADIUS=500;X-TITLE=155 Kerens Ave:geo:-79.848286,38.92349
END:VEVENT
END:VCALENDAR