BEGIN:VCALENDAR
VERSION:2.0
PRODID:-//Elkins-Randolph County Tourism - ECPv6.15.20//NONSGML v1.0//EN
CALSCALE:GREGORIAN
METHOD:PUBLISH
X-WR-CALNAME:Elkins-Randolph County Tourism
X-ORIGINAL-URL:https://elkinsrandolphwv.com
X-WR-CALDESC:Events for Elkins-Randolph County Tourism
REFRESH-INTERVAL;VALUE=DURATION:PT1H
X-Robots-Tag:noindex
X-PUBLISHED-TTL:PT1H
BEGIN:VTIMEZONE
TZID:UTC
BEGIN:STANDARD
TZOFFSETFROM:+0000
TZOFFSETTO:+0000
TZNAME:UTC
DTSTART:20250101T000000
END:STANDARD
END:VTIMEZONE
BEGIN:VEVENT
DTSTART;TZID=UTC:20260129T193000
DTEND;TZID=UTC:20260129T203000
DTSTAMP:20260422T140016
CREATED:20260107T215153Z
LAST-MODIFIED:20260107T215153Z
UID:32641-1769715000-1769718600@elkinsrandolphwv.com
SUMMARY:Olivia + Clara Concert | The Arts Center
DESCRIPTION:Experience the musical talents of Olivia + Clara! Clara Riedlinger is a singer and fiddler based in Rochester\, NY. Olivia Perske is a singer and guitarist/bassist based in Elkins\, WV. According to family legend\, they both sang before they talked and danced before they walked! \nClara and Olivia grew up singing in church choir\, and share a love of community song and layered harmonies. Meeting in a workshop at the Augusta Heritage Center\, they discovered a “sister harmony”; the duo Clara + Olivia was instant. Olivia’s warm timbre and Clara’s bright timbre meld into a centuries-old sound.
URL:https://elkinsrandolphwv.com/event/olivia-clara-concert-the-arts-center/
LOCATION:WV
CATEGORIES:Art & Culture,Music
END:VEVENT
END:VCALENDAR