BEGIN:VCALENDAR
VERSION:2.0
PRODID:-//Elkins-Randolph County Tourism - ECPv6.15.20//NONSGML v1.0//EN
CALSCALE:GREGORIAN
METHOD:PUBLISH
X-WR-CALNAME:Elkins-Randolph County Tourism
X-ORIGINAL-URL:https://elkinsrandolphwv.com
X-WR-CALDESC:Events for Elkins-Randolph County Tourism
REFRESH-INTERVAL;VALUE=DURATION:PT1H
X-Robots-Tag:noindex
X-PUBLISHED-TTL:PT1H
BEGIN:VTIMEZONE
TZID:UTC
BEGIN:STANDARD
TZOFFSETFROM:+0000
TZOFFSETTO:+0000
TZNAME:UTC
DTSTART:20230101T000000
END:STANDARD
END:VTIMEZONE
BEGIN:VTIMEZONE
TZID:America/New_York
BEGIN:DAYLIGHT
TZOFFSETFROM:-0500
TZOFFSETTO:-0400
TZNAME:EDT
DTSTART:20240310T070000
END:DAYLIGHT
BEGIN:STANDARD
TZOFFSETFROM:-0400
TZOFFSETTO:-0500
TZNAME:EST
DTSTART:20241103T060000
END:STANDARD
BEGIN:DAYLIGHT
TZOFFSETFROM:-0500
TZOFFSETTO:-0400
TZNAME:EDT
DTSTART:20250309T070000
END:DAYLIGHT
BEGIN:STANDARD
TZOFFSETFROM:-0400
TZOFFSETTO:-0500
TZNAME:EST
DTSTART:20251102T060000
END:STANDARD
BEGIN:DAYLIGHT
TZOFFSETFROM:-0500
TZOFFSETTO:-0400
TZNAME:EDT
DTSTART:20260308T070000
END:DAYLIGHT
BEGIN:STANDARD
TZOFFSETFROM:-0400
TZOFFSETTO:-0500
TZNAME:EST
DTSTART:20261101T060000
END:STANDARD
END:VTIMEZONE
BEGIN:VEVENT
DTSTART;TZID=UTC:20241115T180000
DTEND;TZID=UTC:20241115T200000
DTSTAMP:20260425T183903
CREATED:20241017T231336Z
LAST-MODIFIED:20241017T231336Z
UID:29644-1731693600-1731700800@elkinsrandolphwv.com
SUMMARY:The Case of The Dangerous Divas
DESCRIPTION:Info: 304-591-4575
URL:https://elkinsrandolphwv.com/event/the-case-of-the-dangerous-divas-2/
LOCATION:The Lunch Box\, 1513 Harrison Ave\, Elkins\, WV\, 26241
CATEGORIES:Community,Entertainment,Food & Drink,Kids & Family,Music
END:VEVENT
BEGIN:VEVENT
DTSTART;TZID=UTC:20241127T200000
DTEND;TZID=UTC:20241127T220000
DTSTAMP:20260425T183903
CREATED:20241121T031655Z
LAST-MODIFIED:20241121T031655Z
UID:29733-1732737600-1732744800@elkinsrandolphwv.com
SUMMARY:Live Music at El Gran Sabor: Red Hawk
DESCRIPTION:Music begins at 8pm
URL:https://elkinsrandolphwv.com/event/live-music-at-el-gran-sabor-red-hawk/
LOCATION:El Gran Sabor\, 413 Kerens Ave\, Elkins\, WV 26241\, USA\, 155 Kerens Ave\, United States
CATEGORIES:Entertainment,Food & Drink,Music
GEO:38.92349;-79.848286
X-APPLE-STRUCTURED-LOCATION;VALUE=URI;X-ADDRESS=El Gran Sabor 413 Kerens Ave Elkins WV 26241 USA 155 Kerens Ave United States;X-APPLE-RADIUS=500;X-TITLE=155 Kerens Ave:geo:-79.848286,38.92349
END:VEVENT
BEGIN:VEVENT
DTSTART;TZID=UTC:20241213T180000
DTEND;TZID=UTC:20241213T210000
DTSTAMP:20260425T183903
CREATED:20241001T230506Z
LAST-MODIFIED:20241001T230506Z
UID:29605-1734112800-1734123600@elkinsrandolphwv.com
SUMMARY:Mountain Memories Christmas Dinner Show
DESCRIPTION:After a fabulous plated Christmas dinner of teriyaki chicken and ham and all the trimmings\, celebrate the “Reason for the Season” at the Gandy Dancer Theatre! This incredible cast includes talented singers\, beautiful costumed dancers\, comedians and the finest musicians around. \nArrive at 5:30 pm  ~ Dinner at 6:00 pm  ~ Show Only arrive at 6:30 pm  ~ Show at 7:00 pm
URL:https://elkinsrandolphwv.com/event/mountain-memories-christmas-dinner-show-5/
LOCATION:Gandy Dancer Theatre and Conference Center\, 359 Beverly Pike\, Elkins\, WV 26241\, USA\, United States
CATEGORIES:Community,Entertainment,Food & Drink,Kids & Family,Music
ATTACH;FMTTYPE=image/jpeg:https://elkinsrandolphwv.com/wp-content/uploads/2019/03/Gandy-Logo-1-480x335-e1727185281650.jpg
GEO:38.918641;-79.842607
END:VEVENT
BEGIN:VEVENT
DTSTART;TZID=UTC:20241213T200000
DTEND;TZID=UTC:20241213T233000
DTSTAMP:20260425T183903
CREATED:20241010T230551Z
LAST-MODIFIED:20241010T230551Z
UID:29620-1734120000-1734132600@elkinsrandolphwv.com
SUMMARY:90s & 00s Night at Big Timber
DESCRIPTION:It’s 90s & 00s Night at Big Timber featuring MDB!\nMotorcycle Drive By makes their return to Big Timber for a night of all of your favorite 90s and 00s songs along with the one hit wonders you forgot about
URL:https://elkinsrandolphwv.com/event/90s-00s-night-at-big-timber/
LOCATION:Big Timber Brewing\, 2 Davis Avenue\, Elkins\, WV\, 26241\, United States
CATEGORIES:Community,Entertainment,Food & Drink,Music
ATTACH;FMTTYPE=image/jpeg:https://elkinsrandolphwv.com/wp-content/uploads/2019/03/big-timber-1-e1725543945387.jpg
END:VEVENT
BEGIN:VEVENT
DTSTART;TZID=UTC:20241221T180000
DTEND;TZID=UTC:20241221T210000
DTSTAMP:20260425T183903
CREATED:20241001T231853Z
LAST-MODIFIED:20241001T231853Z
UID:29613-1734804000-1734814800@elkinsrandolphwv.com
SUMMARY:Mountain Memories Christmas Dinner Show
DESCRIPTION:After a fabulous plated Christmas dinner of teriyaki chicken and ham and all the trimmings\, celebrate the “Reason for the Season” at the Gandy Dancer Theatre! This incredible cast includes talented singers\, beautiful costumed dancers\, comedians and the finest musicians around. \nArrive at 5:30 pm  ~ Dinner at 6:00 pm  ~ Show Only arrive at 6:30 pm  ~ Show at 7:00 pm
URL:https://elkinsrandolphwv.com/event/mountain-memories-christmas-dinner-show-10/
LOCATION:Gandy Dancer Theatre and Conference Center\, 359 Beverly Pike\, Elkins\, WV 26241\, USA\, United States
CATEGORIES:Community,Entertainment,Food & Drink,Kids & Family,Music
ATTACH;FMTTYPE=image/jpeg:https://elkinsrandolphwv.com/wp-content/uploads/2019/03/Gandy-Logo-1-480x335-e1727185281650.jpg
GEO:38.918641;-79.842607
END:VEVENT
BEGIN:VEVENT
DTSTART;TZID=UTC:20241222T180000
DTEND;TZID=UTC:20241222T210000
DTSTAMP:20260425T183903
CREATED:20241001T232021Z
LAST-MODIFIED:20241001T232021Z
UID:29614-1734890400-1734901200@elkinsrandolphwv.com
SUMMARY:Mountain Memories Christmas Dinner Show
DESCRIPTION:After a fabulous plated Christmas dinner of teriyaki chicken and ham and all the trimmings\, celebrate the “Reason for the Season” at the Gandy Dancer Theatre! This incredible cast includes talented singers\, beautiful costumed dancers\, comedians and the finest musicians around. \nArrive at 5:30 pm  ~ Dinner at 6:00 pm  ~ Show Only arrive at 6:30 pm  ~ Show at 7:00 pm
URL:https://elkinsrandolphwv.com/event/mountain-memories-christmas-dinner-show-11/
LOCATION:Gandy Dancer Theatre and Conference Center\, 359 Beverly Pike\, Elkins\, WV 26241\, USA\, United States
CATEGORIES:Community,Entertainment,Food & Drink,Kids & Family,Music
ATTACH;FMTTYPE=image/jpeg:https://elkinsrandolphwv.com/wp-content/uploads/2019/03/Gandy-Logo-1-480x335-e1727185281650.jpg
GEO:38.918641;-79.842607
END:VEVENT
BEGIN:VEVENT
DTSTART;TZID=UTC:20241231T190000
DTEND;TZID=UTC:20241231T210000
DTSTAMP:20260425T183903
CREATED:20241203T195706Z
LAST-MODIFIED:20241203T195706Z
UID:29765-1735671600-1735678800@elkinsrandolphwv.com
SUMMARY:Ceilidh/Contra/Square Dance @ The Arts Center
DESCRIPTION:Music by the Mud Larks | Calling by Mike Miller | 7:00 – 9:00 p.m.
URL:https://elkinsrandolphwv.com/event/ceilidh-contra-square-dance-the-arts-center/
LOCATION:Randolph County Community Arts Center\, 2 Park Street\, Elkins\, 26241
CATEGORIES:Art & Culture,Community,Entertainment,Kids & Family,Music
END:VEVENT
BEGIN:VEVENT
DTSTART;TZID=UTC:20250516T180000
DTEND;TZID=UTC:20250516T180000
DTSTAMP:20260425T183903
CREATED:20250508T191122Z
LAST-MODIFIED:20250508T191211Z
UID:30629-1747418400-1747418400@elkinsrandolphwv.com
SUMMARY:Gandy Dancer Dinner Theatre "Tribute to Musical Legends"
DESCRIPTION:Enjoy this amazing show where our performers pay their tribute to such musical legends as Dolly Parton\, Kenny Rogers\, Johnny and June Cash\, Elvis and many more. \nArrive at 5:30 pm ~ Dinner at 6:00 pm ~ Show Only arrive at 6:30 pm ~ \nShow at 7:00 pm \nChicken thigh with gravy\, ham\, mashed potatoes\, green beans\, coleslaw\, dinner roll\, beverage and a chocolate cupcake.
URL:https://elkinsrandolphwv.com/event/gandy-dancer-dinner-theatre-tribute-to-musical-legends/2025-05-16/
LOCATION:Gandy Dancer Theatre and Conference Center\, 359 Beverly Pike\, Elkins\, WV 26241\, USA\, United States
CATEGORIES:Entertainment,Music
GEO:38.918641;-79.842607
END:VEVENT
BEGIN:VEVENT
DTSTART;TZID=UTC:20250523T180000
DTEND;TZID=UTC:20250523T180000
DTSTAMP:20260425T183903
CREATED:20250508T191122Z
LAST-MODIFIED:20250508T191122Z
UID:30631-1748023200-1748023200@elkinsrandolphwv.com
SUMMARY:Gandy Dancer Dinner Theatre "Tribute to Musical Legends"
DESCRIPTION:Enjoy this amazing show where our performers pay their tribute to such musical legends as Dolly Parton\, Kenny Rogers\, Johnny and June Cash\, Elvis and many more. \nArrive at 5:30 pm ~ Dinner at 6:00 pm ~ Show Only arrive at 6:30 pm ~ \nShow at 7:00 pm \nChicken thigh with gravy\, ham\, mashed potatoes\, green beans\, coleslaw\, dinner roll\, beverage and a chocolate cupcake.
URL:https://elkinsrandolphwv.com/event/gandy-dancer-dinner-theatre-tribute-to-musical-legends/2025-05-23/
LOCATION:Gandy Dancer Theatre and Conference Center\, 359 Beverly Pike\, Elkins\, WV 26241\, USA\, United States
CATEGORIES:Entertainment,Music
GEO:38.918641;-79.842607
END:VEVENT
BEGIN:VEVENT
DTSTART;TZID=UTC:20250530T180000
DTEND;TZID=UTC:20250530T180000
DTSTAMP:20260425T183903
CREATED:20250508T191122Z
LAST-MODIFIED:20250508T191122Z
UID:30632-1748628000-1748628000@elkinsrandolphwv.com
SUMMARY:Gandy Dancer Dinner Theatre "Tribute to Musical Legends"
DESCRIPTION:Enjoy this amazing show where our performers pay their tribute to such musical legends as Dolly Parton\, Kenny Rogers\, Johnny and June Cash\, Elvis and many more. \nArrive at 5:30 pm ~ Dinner at 6:00 pm ~ Show Only arrive at 6:30 pm ~ \nShow at 7:00 pm \nChicken thigh with gravy\, ham\, mashed potatoes\, green beans\, coleslaw\, dinner roll\, beverage and a chocolate cupcake.
URL:https://elkinsrandolphwv.com/event/gandy-dancer-dinner-theatre-tribute-to-musical-legends/2025-05-30/
LOCATION:Gandy Dancer Theatre and Conference Center\, 359 Beverly Pike\, Elkins\, WV 26241\, USA\, United States
CATEGORIES:Entertainment,Music
GEO:38.918641;-79.842607
END:VEVENT
BEGIN:VEVENT
DTSTART;TZID=UTC:20250606T180000
DTEND;TZID=UTC:20250606T180000
DTSTAMP:20260425T183903
CREATED:20250508T191122Z
LAST-MODIFIED:20250508T191122Z
UID:30633-1749232800-1749232800@elkinsrandolphwv.com
SUMMARY:Gandy Dancer Dinner Theatre "Tribute to Musical Legends"
DESCRIPTION:Enjoy this amazing show where our performers pay their tribute to such musical legends as Dolly Parton\, Kenny Rogers\, Johnny and June Cash\, Elvis and many more. \nArrive at 5:30 pm ~ Dinner at 6:00 pm ~ Show Only arrive at 6:30 pm ~ \nShow at 7:00 pm \nChicken thigh with gravy\, ham\, mashed potatoes\, green beans\, coleslaw\, dinner roll\, beverage and a chocolate cupcake.
URL:https://elkinsrandolphwv.com/event/gandy-dancer-dinner-theatre-tribute-to-musical-legends/2025-06-06/
LOCATION:Gandy Dancer Theatre and Conference Center\, 359 Beverly Pike\, Elkins\, WV 26241\, USA\, United States
CATEGORIES:Entertainment,Music
GEO:38.918641;-79.842607
END:VEVENT
BEGIN:VEVENT
DTSTART;TZID=UTC:20250613T180000
DTEND;TZID=UTC:20250613T180000
DTSTAMP:20260425T183903
CREATED:20250508T191122Z
LAST-MODIFIED:20250508T191122Z
UID:30634-1749837600-1749837600@elkinsrandolphwv.com
SUMMARY:Gandy Dancer Dinner Theatre "Tribute to Musical Legends"
DESCRIPTION:Enjoy this amazing show where our performers pay their tribute to such musical legends as Dolly Parton\, Kenny Rogers\, Johnny and June Cash\, Elvis and many more. \nArrive at 5:30 pm ~ Dinner at 6:00 pm ~ Show Only arrive at 6:30 pm ~ \nShow at 7:00 pm \nChicken thigh with gravy\, ham\, mashed potatoes\, green beans\, coleslaw\, dinner roll\, beverage and a chocolate cupcake.
URL:https://elkinsrandolphwv.com/event/gandy-dancer-dinner-theatre-tribute-to-musical-legends/2025-06-13/
LOCATION:Gandy Dancer Theatre and Conference Center\, 359 Beverly Pike\, Elkins\, WV 26241\, USA\, United States
CATEGORIES:Entertainment,Music
GEO:38.918641;-79.842607
END:VEVENT
BEGIN:VEVENT
DTSTART;TZID=UTC:20250613T193000
DTEND;TZID=UTC:20250613T210000
DTSTAMP:20260425T183903
CREATED:20250520T192813Z
LAST-MODIFIED:20250520T193317Z
UID:30759-1749843000-1749848400@elkinsrandolphwv.com
SUMMARY:Our Town Summer Music Concert Series
DESCRIPTION:Our Town’s 2025 Summer Concert Series lineup has officially been announced! Mark your calendars and get ready to spend select summer Friday nights with us at 7:30 pm at the Rotary Amphitheater in Elkins Town Square\, located in downtown Elkins—now with concerts on FRIDAY evenings\, by popular request! Enjoy amazing live music\, beautiful summer evenings\, and the best local vibes—all 100% FREE ADMISSION! Check out the full lineup in the graphic ad and start planning your summer. We’ll see you at the Amphitheater!
URL:https://elkinsrandolphwv.com/event/our-town-summer-music-concert-series/2025-06-13/
LOCATION:Rotary Ampitheatre in Elkins Town Square\, 315 Railroad Avenue\, Elkins\, WV\, 26241\, United States\, 2 Railroad Ave\, United States
CATEGORIES:Community,Kids & Family,Music
GEO:38.92313;-79.851004
X-APPLE-STRUCTURED-LOCATION;VALUE=URI;X-ADDRESS=Rotary Ampitheatre in Elkins Town Square 315 Railroad Avenue Elkins WV 26241 United States 2 Railroad Ave United States;X-APPLE-RADIUS=500;X-TITLE=2 Railroad Ave:geo:-79.851004,38.92313
END:VEVENT
BEGIN:VEVENT
DTSTART;TZID=UTC:20250620T180000
DTEND;TZID=UTC:20250620T180000
DTSTAMP:20260425T183903
CREATED:20250508T191122Z
LAST-MODIFIED:20250508T191122Z
UID:30635-1750442400-1750442400@elkinsrandolphwv.com
SUMMARY:Gandy Dancer Dinner Theatre "Tribute to Musical Legends"
DESCRIPTION:Enjoy this amazing show where our performers pay their tribute to such musical legends as Dolly Parton\, Kenny Rogers\, Johnny and June Cash\, Elvis and many more. \nArrive at 5:30 pm ~ Dinner at 6:00 pm ~ Show Only arrive at 6:30 pm ~ \nShow at 7:00 pm \nChicken thigh with gravy\, ham\, mashed potatoes\, green beans\, coleslaw\, dinner roll\, beverage and a chocolate cupcake.
URL:https://elkinsrandolphwv.com/event/gandy-dancer-dinner-theatre-tribute-to-musical-legends/2025-06-20/
LOCATION:Gandy Dancer Theatre and Conference Center\, 359 Beverly Pike\, Elkins\, WV 26241\, USA\, United States
CATEGORIES:Entertainment,Music
GEO:38.918641;-79.842607
END:VEVENT
BEGIN:VEVENT
DTSTART;TZID=UTC:20250627T193000
DTEND;TZID=UTC:20250627T210000
DTSTAMP:20260425T183903
CREATED:20250520T192813Z
LAST-MODIFIED:20250520T193320Z
UID:30760-1751052600-1751058000@elkinsrandolphwv.com
SUMMARY:Our Town Summer Music Concert Series
DESCRIPTION:Our Town’s 2025 Summer Concert Series lineup has officially been announced! Mark your calendars and get ready to spend select summer Friday nights with us at 7:30 pm at the Rotary Amphitheater in Elkins Town Square\, located in downtown Elkins—now with concerts on FRIDAY evenings\, by popular request! Enjoy amazing live music\, beautiful summer evenings\, and the best local vibes—all 100% FREE ADMISSION! Check out the full lineup in the graphic ad and start planning your summer. We’ll see you at the Amphitheater!
URL:https://elkinsrandolphwv.com/event/our-town-summer-music-concert-series/2025-06-27/
LOCATION:Rotary Ampitheatre in Elkins Town Square\, 315 Railroad Avenue\, Elkins\, WV\, 26241\, United States\, 2 Railroad Ave\, United States
CATEGORIES:Community,Kids & Family,Music
GEO:38.92313;-79.851004
X-APPLE-STRUCTURED-LOCATION;VALUE=URI;X-ADDRESS=Rotary Ampitheatre in Elkins Town Square 315 Railroad Avenue Elkins WV 26241 United States 2 Railroad Ave United States;X-APPLE-RADIUS=500;X-TITLE=2 Railroad Ave:geo:-79.851004,38.92313
END:VEVENT
BEGIN:VEVENT
DTSTART;TZID=UTC:20250628T193000
DTEND;TZID=UTC:20250628T220000
DTSTAMP:20260425T183903
CREATED:20250624T182753Z
LAST-MODIFIED:20250624T182753Z
UID:30828-1751139000-1751148000@elkinsrandolphwv.com
SUMMARY:Live Music at the Oxley House : Joshua Luongo
DESCRIPTION:
URL:https://elkinsrandolphwv.com/event/live-music-at-the-oxley-house-joshua-luongo/
LOCATION:Oxley House\, 206 Davis Avenue\, Elkins\, WV
CATEGORIES:Entertainment,Food & Drink,Music
ORGANIZER;CN="Tygart Hotel":MAILTO:fd.tygart@taylorhospitality.com
END:VEVENT
BEGIN:VEVENT
DTSTART;TZID=UTC:20250704T193000
DTEND;TZID=UTC:20250704T210000
DTSTAMP:20260425T183903
CREATED:20250520T192813Z
LAST-MODIFIED:20250520T193323Z
UID:30761-1751657400-1751662800@elkinsrandolphwv.com
SUMMARY:Our Town Summer Music Concert Series
DESCRIPTION:Our Town’s 2025 Summer Concert Series lineup has officially been announced! Mark your calendars and get ready to spend select summer Friday nights with us at 7:30 pm at the Rotary Amphitheater in Elkins Town Square\, located in downtown Elkins—now with concerts on FRIDAY evenings\, by popular request! Enjoy amazing live music\, beautiful summer evenings\, and the best local vibes—all 100% FREE ADMISSION! Check out the full lineup in the graphic ad and start planning your summer. We’ll see you at the Amphitheater!
URL:https://elkinsrandolphwv.com/event/our-town-summer-music-concert-series/2025-07-04/
LOCATION:Rotary Ampitheatre in Elkins Town Square\, 315 Railroad Avenue\, Elkins\, WV\, 26241\, United States\, 2 Railroad Ave\, United States
CATEGORIES:Community,Kids & Family,Music
GEO:38.92313;-79.851004
X-APPLE-STRUCTURED-LOCATION;VALUE=URI;X-ADDRESS=Rotary Ampitheatre in Elkins Town Square 315 Railroad Avenue Elkins WV 26241 United States 2 Railroad Ave United States;X-APPLE-RADIUS=500;X-TITLE=2 Railroad Ave:geo:-79.851004,38.92313
END:VEVENT
BEGIN:VEVENT
DTSTART;TZID=UTC:20250707T200000
DTEND;TZID=UTC:20250707T220000
DTSTAMP:20260425T183903
CREATED:20250701T220421Z
LAST-MODIFIED:20250701T220421Z
UID:30894-1751918400-1751925600@elkinsrandolphwv.com
SUMMARY:Cajun Dance | Augusta
DESCRIPTION:
URL:https://elkinsrandolphwv.com/event/cajun-dance-augusta/
LOCATION:Davis and Elkins College / Augusta Dance Pavilion
CATEGORIES:Art & Culture,Entertainment,Music
END:VEVENT
BEGIN:VEVENT
DTSTART;TZID=UTC:20250708T193000
DTEND;TZID=UTC:20250708T213000
DTSTAMP:20260425T183903
CREATED:20250701T220902Z
LAST-MODIFIED:20250701T220902Z
UID:30896-1752003000-1752010200@elkinsrandolphwv.com
SUMMARY:Country & Cajun Concert @ Harper McNeeley Auditorium
DESCRIPTION:
URL:https://elkinsrandolphwv.com/event/country-cajun-concert-harper-mcneeley-auditorium/
LOCATION:Davis and Elkins College / Augusta Dance Pavilion
CATEGORIES:Art & Culture,Entertainment,Kids & Family,Music
END:VEVENT
BEGIN:VEVENT
DTSTART;TZID=UTC:20250708T213000
DTEND;TZID=UTC:20250708T223000
DTSTAMP:20260425T183903
CREATED:20250701T221135Z
LAST-MODIFIED:20250701T221135Z
UID:30898-1752010200-1752013800@elkinsrandolphwv.com
SUMMARY:Creole Lala Dance @ Augusta Dance Pavilion
DESCRIPTION:
URL:https://elkinsrandolphwv.com/event/creole-lala-dance-augusta-dance-pavilion/
LOCATION:Davis and Elkins College / Augusta Dance Pavilion
CATEGORIES:Entertainment,Music,Outdoor Activities
END:VEVENT
BEGIN:VEVENT
DTSTART;TZID=UTC:20250709T200000
DTEND;TZID=UTC:20250709T220000
DTSTAMP:20260425T183903
CREATED:20250701T221444Z
LAST-MODIFIED:20250701T221444Z
UID:30900-1752091200-1752098400@elkinsrandolphwv.com
SUMMARY:Fais Do-Do ( Cajun gumbo & music party) @ Halliehurst Porch
DESCRIPTION:
URL:https://elkinsrandolphwv.com/event/fais-do-do-cajun-gumbo-music-party-halliehurst-porch/
LOCATION:Davis & Elkins College
CATEGORIES:Entertainment,Music
END:VEVENT
BEGIN:VEVENT
DTSTART;TZID=UTC:20250710T193000
DTEND;TZID=UTC:20250710T213000
DTSTAMP:20260425T183903
CREATED:20250701T221758Z
LAST-MODIFIED:20250701T222132Z
UID:30902-1752175800-1752183000@elkinsrandolphwv.com
SUMMARY:Country & Cajun Concert @ Harper McNeeley Auditorium
DESCRIPTION:
URL:https://elkinsrandolphwv.com/event/country-cajun-concert-harper-mcneeley-auditorium-2/
LOCATION:Davis & Elkins College
CATEGORIES:Art & Culture,Music
END:VEVENT
BEGIN:VEVENT
DTSTART;TZID=UTC:20250710T213000
DTEND;TZID=UTC:20250710T223000
DTSTAMP:20260425T183903
CREATED:20250701T222351Z
LAST-MODIFIED:20250701T222351Z
UID:30905-1752183000-1752186600@elkinsrandolphwv.com
SUMMARY:Honkey-Tonk Dance @ Augusta Dance Pavilion
DESCRIPTION:
URL:https://elkinsrandolphwv.com/event/honkey-tonk-dance-augusta-dance-pavilion/
LOCATION:Davis and Elkins College / Augusta Dance Pavilion
CATEGORIES:Entertainment,Music
END:VEVENT
BEGIN:VEVENT
DTSTART;TZID=UTC:20250711T193000
DTEND;TZID=UTC:20250711T210000
DTSTAMP:20260425T183903
CREATED:20250520T192813Z
LAST-MODIFIED:20250520T193325Z
UID:30762-1752262200-1752267600@elkinsrandolphwv.com
SUMMARY:Our Town Summer Music Concert Series
DESCRIPTION:Our Town’s 2025 Summer Concert Series lineup has officially been announced! Mark your calendars and get ready to spend select summer Friday nights with us at 7:30 pm at the Rotary Amphitheater in Elkins Town Square\, located in downtown Elkins—now with concerts on FRIDAY evenings\, by popular request! Enjoy amazing live music\, beautiful summer evenings\, and the best local vibes—all 100% FREE ADMISSION! Check out the full lineup in the graphic ad and start planning your summer. We’ll see you at the Amphitheater!
URL:https://elkinsrandolphwv.com/event/our-town-summer-music-concert-series/2025-07-11/
LOCATION:Rotary Ampitheatre in Elkins Town Square\, 315 Railroad Avenue\, Elkins\, WV\, 26241\, United States\, 2 Railroad Ave\, United States
CATEGORIES:Community,Kids & Family,Music
GEO:38.92313;-79.851004
X-APPLE-STRUCTURED-LOCATION;VALUE=URI;X-ADDRESS=Rotary Ampitheatre in Elkins Town Square 315 Railroad Avenue Elkins WV 26241 United States 2 Railroad Ave United States;X-APPLE-RADIUS=500;X-TITLE=2 Railroad Ave:geo:-79.851004,38.92313
END:VEVENT
BEGIN:VEVENT
DTSTART;TZID=America/New_York:20250711T193000
DTEND;TZID=America/New_York:20250711T213000
DTSTAMP:20260425T183903
CREATED:20250709T234947Z
LAST-MODIFIED:20250709T234947Z
UID:30958-1752262200-1752269400@elkinsrandolphwv.com
SUMMARY:Crandall Creek at Big Timber Brewing
DESCRIPTION:Join us for live music with Crandall Creek!! Crandall Creek is a dynamic bluegrass ensemble with a blend of exceptional vocalists\, award-winning instrumentalists\, and acclaimed songwriters that creates a unique fusion of tradition and innovation.\nFree Show open to all ages!
URL:https://elkinsrandolphwv.com/event/crandall-creek-at-big-timber-brewing/
LOCATION:Big Timber Brewing\, 2 Davis Avenue\, Elkins\, WV\, 26241\, United States
CATEGORIES:Music
ATTACH;FMTTYPE=image/jpeg:https://elkinsrandolphwv.com/wp-content/uploads/2019/03/big-timber.jpg
END:VEVENT
BEGIN:VEVENT
DTSTART;TZID=UTC:20250712T160000
DTEND;TZID=UTC:20250712T220000
DTSTAMP:20260425T183903
CREATED:20250624T183307Z
LAST-MODIFIED:20250624T183307Z
UID:30830-1752336000-1752357600@elkinsrandolphwv.com
SUMMARY:Tiki Tides & Island Vibes | Hawaiian Seafood Celebration -The Oxley House
DESCRIPTION:Specialty Dinner and Live Music
URL:https://elkinsrandolphwv.com/event/tiki-tides-island-vibes-hawaiian-seafood-celebration-the-oxley-house/
LOCATION:Oxley House\, 206 Davis Avenue\, Elkins\, WV
CATEGORIES:Educational,Food & Drink,Music
ORGANIZER;CN="Tygart Hotel":MAILTO:fd.tygart@taylorhospitality.com
END:VEVENT
BEGIN:VEVENT
DTSTART;TZID=America/New_York:20250712T210000
DTEND;TZID=America/New_York:20250712T210000
DTSTAMP:20260425T183903
CREATED:20250709T231022Z
LAST-MODIFIED:20250709T231022Z
UID:30950-1752354000-1752354000@elkinsrandolphwv.com
SUMMARY:Total Recall at Beander's
DESCRIPTION:
URL:https://elkinsrandolphwv.com/event/total-recall-at-beanders/
LOCATION:Beander’s Restaurant & Tavern\, 314 Davis Ave\, Elkins\, WV\, 26241\, United States
CATEGORIES:Entertainment,Music
ATTACH;FMTTYPE=image/png:https://elkinsrandolphwv.com/wp-content/uploads/2019/03/main-logo-e1726601056111.png
GEO:38.944536;-79.85025
X-APPLE-STRUCTURED-LOCATION;VALUE=URI;X-ADDRESS=Beander’s Restaurant & Tavern 314 Davis Ave Elkins WV 26241 United States;X-APPLE-RADIUS=500;X-TITLE=314 Davis Ave:geo:-79.85025,38.944536
END:VEVENT
BEGIN:VEVENT
DTSTART;TZID=UTC:20250717T193000
DTEND;TZID=UTC:20250717T213000
DTSTAMP:20260425T183903
CREATED:20250716T193040Z
LAST-MODIFIED:20250716T193242Z
UID:30972-1752780600-1752787800@elkinsrandolphwv.com
SUMMARY:Bluegrass Extravaganza Concert
DESCRIPTION:
URL:https://elkinsrandolphwv.com/event/bluegrass-extravaganza-concert/
LOCATION:Davis & Elkins College\, 100 Campus Dr\, Elkins\, WV 26241\, USA – Harper McNeeley Auditorium\, United States
CATEGORIES:Entertainment,Music
GEO:38.921503;-79.844583
END:VEVENT
BEGIN:VEVENT
DTSTART;TZID=UTC:20250717T213000
DTEND;TZID=UTC:20250717T223000
DTSTAMP:20260425T183903
CREATED:20250716T193503Z
LAST-MODIFIED:20250716T193503Z
UID:30977-1752787800-1752791400@elkinsrandolphwv.com
SUMMARY:Square Dance
DESCRIPTION:
URL:https://elkinsrandolphwv.com/event/square-dance-2/
LOCATION:Davis and Elkins College / Augusta Dance Pavilion
CATEGORIES:Entertainment,Music,Outdoors
END:VEVENT
BEGIN:VEVENT
DTSTART;TZID=America/New_York:20250718T180000
DTEND;TZID=America/New_York:20250718T203000
DTSTAMP:20260425T183903
CREATED:20250716T002600Z
LAST-MODIFIED:20250716T002600Z
UID:30965-1752861600-1752870600@elkinsrandolphwv.com
SUMMARY:Blues in the Rain at Beander's
DESCRIPTION:Blues in the Rain\, visiting from the Washington D.C. area\, plays a mix of upbeat blues\, rag time and jazz\, with a little bit of Neville Brothers snuck in.
URL:https://elkinsrandolphwv.com/event/blues-in-the-rain-at-beanders/
LOCATION:WV
CATEGORIES:Music
ATTACH;FMTTYPE=image/png:https://elkinsrandolphwv.com/wp-content/uploads/2019/03/main-logo-e1726601056111.png
END:VEVENT
END:VCALENDAR