BEGIN:VCALENDAR
VERSION:2.0
PRODID:-//Elkins-Randolph County Tourism - ECPv6.15.17.1//NONSGML v1.0//EN
CALSCALE:GREGORIAN
METHOD:PUBLISH
X-WR-CALNAME:Elkins-Randolph County Tourism
X-ORIGINAL-URL:https://elkinsrandolphwv.com
X-WR-CALDESC:Events for Elkins-Randolph County Tourism
REFRESH-INTERVAL;VALUE=DURATION:PT1H
X-Robots-Tag:noindex
X-PUBLISHED-TTL:PT1H
BEGIN:VTIMEZONE
TZID:UTC
BEGIN:STANDARD
TZOFFSETFROM:+0000
TZOFFSETTO:+0000
TZNAME:UTC
DTSTART:20240101T000000
END:STANDARD
END:VTIMEZONE
BEGIN:VEVENT
DTSTART;TZID=UTC:20250903T180000
DTEND;TZID=UTC:20250903T200000
DTSTAMP:20260420T055713
CREATED:20250827T220436Z
LAST-MODIFIED:20250827T220616Z
UID:31342-1756922400-1756929600@elkinsrandolphwv.com
SUMMARY:Wine Down Wednesday- Graceland Inn | Nick Patella
DESCRIPTION:
URL:https://elkinsrandolphwv.com/event/wind-down-wednesday-graceland-inn-nick-patella/
LOCATION:Graceland Inn and Restaurant\, 100 Campus Drive\, Elkins\, WV\, 26241\, United States
CATEGORIES:Davis & Elkins College,Entertainment,Food & Drink,Music
END:VEVENT
BEGIN:VEVENT
DTSTART;TZID=UTC:20250906T200000
DTEND;TZID=UTC:20250906T220000
DTSTAMP:20260420T055713
CREATED:20250903T180724Z
LAST-MODIFIED:20250903T190345Z
UID:31401-1757188800-1757196000@elkinsrandolphwv.com
SUMMARY:Karaoke Night @ Beander's
DESCRIPTION:
URL:https://elkinsrandolphwv.com/event/karaoke-night-beanders/
LOCATION:Beander’s Restaurant & Tavern\, 314 Davis Ave\, Elkins\, WV\, 26241\, United States
CATEGORIES:Food & Drink,Music
ATTACH;FMTTYPE=image/png:https://elkinsrandolphwv.com/wp-content/uploads/2019/03/main-logo-e1726601056111.png
GEO:38.944536;-79.85025
X-APPLE-STRUCTURED-LOCATION;VALUE=URI;X-ADDRESS=Beander’s Restaurant & Tavern 314 Davis Ave Elkins WV 26241 United States;X-APPLE-RADIUS=500;X-TITLE=314 Davis Ave:geo:-79.85025,38.944536
END:VEVENT
BEGIN:VEVENT
DTSTART;TZID=UTC:20250908T190000
DTEND;TZID=UTC:20250908T213000
DTSTAMP:20260420T055713
CREATED:20250903T202032Z
LAST-MODIFIED:20250903T202032Z
UID:31436-1757358000-1757367000@elkinsrandolphwv.com
SUMMARY:Karaoke-Fox Hops Brewery
DESCRIPTION:
URL:https://elkinsrandolphwv.com/event/karaoke-fox-hops-brewery-5/
LOCATION:Fox Hops Brewery\, 25 Bowstring Lane\, Elkins\, WV\, 26241\, United States
CATEGORIES:Food & Drink,Music
END:VEVENT
BEGIN:VEVENT
DTSTART;TZID=UTC:20250910T163000
DTEND;TZID=UTC:20250910T203000
DTSTAMP:20260420T055713
CREATED:20250909T210143Z
LAST-MODIFIED:20250909T210732Z
UID:31589-1757521800-1757536200@elkinsrandolphwv.com
SUMMARY:Wednesday Pickin' | The Arts Center
DESCRIPTION:The weekly traditional music jam sessions sponsored by Augusta Heritage Center\, formerly taking place outdoors in Elkins City Park\, have moved indoors to the Community Arts Center\, beginning with the month of September. The country music jams are from 4:30 to 6:30 p.m.\, followed by the old-time music jams from 6:30 to 8:30 p.m. Anyone is welcome to participate (no sound systems or amplifiers) and all instruments and levels are welcome. There will be signage at the rear entrance to the Arts Center and well as in the parking lots. For more information\, call 304-614-9527.
URL:https://elkinsrandolphwv.com/event/wednesday-pickin-the-arts-center/
LOCATION:The Arts Center\, aka Randolph Co. Community Arts Council\, 2 Park St\, Elkins\, WV\, 26241\, United States
CATEGORIES:Music
GEO:38.924095;-79.850318
X-APPLE-STRUCTURED-LOCATION;VALUE=URI;X-ADDRESS=The Arts Center aka Randolph Co. Community Arts Council 2 Park St Elkins WV 26241 United States;X-APPLE-RADIUS=500;X-TITLE=2 Park St:geo:-79.850318,38.924095
END:VEVENT
BEGIN:VEVENT
DTSTART;TZID=UTC:20250910T180000
DTEND;TZID=UTC:20250910T200000
DTSTAMP:20260420T055713
CREATED:20250827T220813Z
LAST-MODIFIED:20250827T220813Z
UID:31344-1757527200-1757534400@elkinsrandolphwv.com
SUMMARY:Wine Down Wednesday-Jamie & Danny Kittle-Graceland Inn
DESCRIPTION:
URL:https://elkinsrandolphwv.com/event/wine-down-wednesday-jamie-danny-kittle-graceland-inn/
LOCATION:Graceland Inn and Restaurant\, 100 Campus Drive\, Elkins\, WV\, 26241\, United States
CATEGORIES:Davis & Elkins College,Entertainment,Food & Drink,Music
END:VEVENT
BEGIN:VEVENT
DTSTART;TZID=UTC:20250912T190000
DTEND;TZID=UTC:20250912T210000
DTSTAMP:20260420T055713
CREATED:20250829T003408Z
LAST-MODIFIED:20250829T003408Z
UID:31366-1757703600-1757710800@elkinsrandolphwv.com
SUMMARY:Live Music: Suzy & Eric Thompson | Old Brick Playhouse
DESCRIPTION:We are proud to present a concert with Suzy & Eric Thompson on September 12 at the Old Brick Playhouse.Suzy and Eric are monster musicians with exceedingly impressive resumes. Amongst many other claims to fame\, Suzy was a founding member of the cult-favorite all-women supergroup the Any Old Time String Band (with Elkins’ own Val Mindel!). Eric had a band with Jerry Garcia before he started that other band…Doors at 6:30 p.m.\, Concert at 7:00 p.m. Tickets for sale at the door ($18)_______________________________________________________More about the musicians:Suzy and Eric Thompson\, from Berkeley CA\, have been performing music together for over 50 years\, in bands including the California Cajun Orchestra with Danny Poullard (2 award-winning albums on Arhoolie)\, Blue Flame Stringband\, the Todalo Shakers\, the Bluegrass Intentions\, etc. as well as in their duo and also in Thompsonia with daughter Allegra. During the 90s and early 21st century\, they were on staff at Augusta’s Cajun-Creole and Old Time weeks\, and they look forward to returning to Elkins after a long absence.Over the years\, Eric and Suzy have worked with everyone from Jerry Garcia (Eric\, in the pre-Grateful Dead bluegrass/jug band days) to Cajun fiddle legends Dewey Balfa and Ann Savoy (Suzy) to David Grisman (Eric\, beginning in their teenage bluegrass years) to Jim Kweskin and Geoff Muldaur (Suzy\, including Geoff Muldaur’s “Texas Sheiks”.)They’ll play a mix of Cajun\, blues and old-time music\, plus material from Suzy’s recent “Suzy Sings Siebel” (a collection of songs by 1970s songwriter Paul Siebel – his most famous song was “Louise”\, famously covered by Bonnie Raitt\, Leo Kottke and many others)
URL:https://elkinsrandolphwv.com/event/live-music-suzy-eric-thompson-old-brick-playhouse/
LOCATION:The Old Brick Playhouse\, 4 Davis Avenue\, Elkins\, WV\, 26241\, United States
CATEGORIES:Music
ATTACH;FMTTYPE=image/png:https://elkinsrandolphwv.com/wp-content/uploads/2021/06/augusta-heritage-center-NEW-logo.png
END:VEVENT
BEGIN:VEVENT
DTSTART;TZID=UTC:20250913T190000
DTEND;TZID=UTC:20250913T210000
DTSTAMP:20260420T055713
CREATED:20250910T173511Z
LAST-MODIFIED:20250910T173511Z
UID:31620-1757790000-1757797200@elkinsrandolphwv.com
SUMMARY:Live Music: Wyatt Turner | Beander's
DESCRIPTION:
URL:https://elkinsrandolphwv.com/event/live-music-wyatt-turner-beanders/
LOCATION:Beander’s Restaurant & Tavern\, 314 Davis Ave\, Elkins\, WV\, 26241\, United States
CATEGORIES:Music
GEO:38.944536;-79.85025
X-APPLE-STRUCTURED-LOCATION;VALUE=URI;X-ADDRESS=Beander’s Restaurant & Tavern 314 Davis Ave Elkins WV 26241 United States;X-APPLE-RADIUS=500;X-TITLE=314 Davis Ave:geo:-79.85025,38.944536
END:VEVENT
BEGIN:VEVENT
DTSTART;TZID=UTC:20250913T190000
DTEND;TZID=UTC:20250913T213000
DTSTAMP:20260420T055713
CREATED:20250906T232405Z
LAST-MODIFIED:20250906T232405Z
UID:31531-1757790000-1757799000@elkinsrandolphwv.com
SUMMARY:Live Music with Manny- El Toro Steakhouse
DESCRIPTION:
URL:https://elkinsrandolphwv.com/event/live-music-with-manny-el-toro-steakhouse/
LOCATION:El Toro Steakhouse\, 2064 Beverly Pike\, Elkins\, WV\, 26241\, United States
CATEGORIES:Food & Drink,Music
END:VEVENT
BEGIN:VEVENT
DTSTART;TZID=UTC:20250915T190000
DTEND;TZID=UTC:20250915T213000
DTSTAMP:20260420T055713
CREATED:20250903T202314Z
LAST-MODIFIED:20250903T202314Z
UID:31438-1757962800-1757971800@elkinsrandolphwv.com
SUMMARY:Karaoke-Fox Hops Brewery
DESCRIPTION:
URL:https://elkinsrandolphwv.com/event/karaoke-fox-hops-brewery-6/
LOCATION:Fox Hops Brewery\, 25 Bowstring Lane\, Elkins\, WV\, 26241\, United States
CATEGORIES:Food & Drink,Music
END:VEVENT
BEGIN:VEVENT
DTSTART;TZID=UTC:20250917T163000
DTEND;TZID=UTC:20250917T203000
DTSTAMP:20260420T055713
CREATED:20250909T210221Z
LAST-MODIFIED:20250909T210232Z
UID:31591-1758126600-1758141000@elkinsrandolphwv.com
SUMMARY:Wednesday Pickin' | The Arts Center
DESCRIPTION:The weekly traditional music jam sessions sponsored by Augusta Heritage Center\, formerly taking place outdoors in Elkins City Park\, have moved indoors to the Community Arts Center\, beginning with the month of September. The country music jams are from 4:30 to 6:30 p.m.\, followed by the old-time music jams from 6:30 to 8:30 p.m. Anyone is welcome to participate (no sound systems or amplifiers) and all instruments and levels are welcome. There will be signage at the rear entrance to the Arts Center and well as in the parking lots. For more information\, call 304-614-9527.
URL:https://elkinsrandolphwv.com/event/wednesday-pickin-the-arts-center-2/
LOCATION:The Arts Center\, aka Randolph Co. Community Arts Council\, 2 Park St\, Elkins\, WV\, 26241\, United States
CATEGORIES:Music
GEO:38.924095;-79.850318
X-APPLE-STRUCTURED-LOCATION;VALUE=URI;X-ADDRESS=The Arts Center aka Randolph Co. Community Arts Council 2 Park St Elkins WV 26241 United States;X-APPLE-RADIUS=500;X-TITLE=2 Park St:geo:-79.850318,38.924095
END:VEVENT
BEGIN:VEVENT
DTSTART;TZID=UTC:20250917T180000
DTEND;TZID=UTC:20250917T200000
DTSTAMP:20260420T055713
CREATED:20250827T221035Z
LAST-MODIFIED:20250827T221035Z
UID:31347-1758132000-1758139200@elkinsrandolphwv.com
SUMMARY:Wine Down Wednesday-Tiffany & Joel-Graceland Inn
DESCRIPTION:
URL:https://elkinsrandolphwv.com/event/wine-down-wednesday-tiffany-joel-graceland-inn/
LOCATION:Graceland Inn and Restaurant\, 100 Campus Drive\, Elkins\, WV\, 26241\, United States
CATEGORIES:Davis & Elkins College,Entertainment,Food & Drink,Music
END:VEVENT
BEGIN:VEVENT
DTSTART;TZID=UTC:20250919T200000
DTEND;TZID=UTC:20250919T230000
DTSTAMP:20260420T055713
CREATED:20250917T215007Z
LAST-MODIFIED:20250917T215007Z
UID:31696-1758312000-1758322800@elkinsrandolphwv.com
SUMMARY:Live Music: Checkierboard Sky | El Gran Sabor
DESCRIPTION: Live Music Friday\, Sept 19! Checkierboard Sky will be performing original music at El Gran Sabor!Come hang out\, enjoy the vibes\, and treat yourself to fresh & authentic Venezuelan food
URL:https://elkinsrandolphwv.com/event/live-music-checkierboard-sky-el-gran-sabor/
LOCATION:El Gran Sabor\, 413 Kerens Ave\, Elkins\, WV 26241\, USA\, 155 Kerens Ave\, United States
CATEGORIES:Music
GEO:38.92349;-79.848286
X-APPLE-STRUCTURED-LOCATION;VALUE=URI;X-ADDRESS=El Gran Sabor 413 Kerens Ave Elkins WV 26241 USA 155 Kerens Ave United States;X-APPLE-RADIUS=500;X-TITLE=155 Kerens Ave:geo:-79.848286,38.92349
END:VEVENT
BEGIN:VEVENT
DTSTART;TZID=UTC:20250920T160000
DTEND;TZID=UTC:20250920T223000
DTSTAMP:20260420T055713
CREATED:20250826T185527Z
LAST-MODIFIED:20250917T194258Z
UID:31329-1758384000-1758407400@elkinsrandolphwv.com
SUMMARY:Davisson Brothers Band | Citizens Bank Amphitheater
DESCRIPTION:The Davisson Brothers Band will be having a Davisson Brothers Birthday Bash at Davis & Elkins College in Elkins\, West Virginia on September 20th\, 2025.
URL:https://elkinsrandolphwv.com/event/davisson-brothers-band-citizens-bank-amphitheater/
LOCATION:Citizens Bank of WV Amphitheater\, Davis & Elkins College\, 100 Campus Dr\, Elkins\, WV\, 26241
CATEGORIES:Music
END:VEVENT
BEGIN:VEVENT
DTSTART;TZID=UTC:20250920T193000
DTEND;TZID=UTC:20250920T220000
DTSTAMP:20260420T055713
CREATED:20250826T175043Z
LAST-MODIFIED:20250826T175043Z
UID:31315-1758396600-1758405600@elkinsrandolphwv.com
SUMMARY:Live Music: Tiffany & Joel | Oxley House
DESCRIPTION:Join us Saturday\, September 20th\, from 7:30 p.m. to 10:00 p.m. with Tiffany & Joel of “Duet Better”! \nTiffany & Joel\, “Duet Better” by creating an entertaining musical experience. Whether performing gospel\, jazz\, blues\, pop or country\, their tight harmonies and heartfelt delivery resonate deeply with audiences. Known for their authenticity and passion\, this duo is winning hearts and creating moments that linger long after the final note.\nBring your friends and experience live music at its finest! 
URL:https://elkinsrandolphwv.com/event/live-music-tiffany-joel-oxley-house/
LOCATION:Oxley House\, 206 Davis Avenue\, Elkins\, WV
CATEGORIES:Food & Drink,Music
ATTACH;FMTTYPE=image/png:https://elkinsrandolphwv.com/wp-content/uploads/2024/05/Oxley-House-Profile-Pic-e1726534174518.png
END:VEVENT
BEGIN:VEVENT
DTSTART;TZID=UTC:20250921T120000
DTEND;TZID=UTC:20250921T140000
DTSTAMP:20260420T055713
CREATED:20250916T235732Z
LAST-MODIFIED:20250917T000139Z
UID:31689-1758456000-1758463200@elkinsrandolphwv.com
SUMMARY:Brunch & Bubbles | Graceland Inn & Restaurant
DESCRIPTION: Brunch & Bubbles at Graceland Inn  A delicious brunch buffet in the charm of our historic setting Make your Sunday extra special with great food\, bubbles\, and music in the mountains of West Virginia! Call 304-637-1600 today to reserve your spot. Visit us at www.gracelandinn.com \n 
URL:https://elkinsrandolphwv.com/event/brunch-bubbles-graceland-inn-restaurant-2/
LOCATION:Graceland Inn and Restaurant\, 100 Campus Drive\, Elkins\, WV\, 26241\, United States
CATEGORIES:Food & Drink,Music
ATTACH;FMTTYPE=image/jpeg:https://elkinsrandolphwv.com/wp-content/uploads/2025/08/graceland-logo-borderless.jpg
END:VEVENT
BEGIN:VEVENT
DTSTART;TZID=UTC:20250924T180000
DTEND;TZID=UTC:20250924T200000
DTSTAMP:20260420T055713
CREATED:20250827T224714Z
LAST-MODIFIED:20250827T224714Z
UID:31350-1758736800-1758744000@elkinsrandolphwv.com
SUMMARY:Wine Down Wednesday-Tiffani Green-Graceland Inn
DESCRIPTION:
URL:https://elkinsrandolphwv.com/event/wine-down-wednesday-tiffani-green-graceland-inn/
LOCATION:Graceland Inn and Restaurant\, 100 Campus Drive\, Elkins\, WV\, 26241\, United States
CATEGORIES:Davis & Elkins College,Entertainment,Food & Drink,Music
END:VEVENT
BEGIN:VEVENT
DTSTART;VALUE=DATE:20250927
DTEND;VALUE=DATE:20251007
DTSTAMP:20260420T055713
CREATED:20250903T171353Z
LAST-MODIFIED:20250903T171353Z
UID:31385-1758938400-1759715999@elkinsrandolphwv.com
SUMMARY:87th Mountain State Forest Festival
DESCRIPTION:
URL:https://elkinsrandolphwv.com/event/87th-mountain-state-forest-festival/
LOCATION:Elkins Main Street\, 204 Davis Avenue\, Elkins\, WV\, 26241\, United States
CATEGORIES:Community,Fairs & Festivals,Food & Drink,Kids & Family,Music,Outdoor Activities,Spruce Knob
END:VEVENT
BEGIN:VEVENT
DTSTART;TZID=UTC:20250928T190000
DTEND;TZID=UTC:20250928T210000
DTSTAMP:20260420T055713
CREATED:20250903T182114Z
LAST-MODIFIED:20250909T215205Z
UID:31417-1759086000-1759093200@elkinsrandolphwv.com
SUMMARY:The Hoppers
DESCRIPTION:*Inclement Weather Location for all Downtown Stage Events: Elkins High School
URL:https://elkinsrandolphwv.com/event/the-hoppers/
LOCATION:Elkins Town Square Ampitheatre\, 315 Railroad Avenue\, Elkins\, WV\, 26241\, United States
CATEGORIES:Community,Entertainment,Health and Wellness,Music
END:VEVENT
BEGIN:VEVENT
DTSTART;TZID=UTC:20250929T180000
DTEND;TZID=UTC:20250929T200000
DTSTAMP:20260420T055713
CREATED:20250929T174150Z
LAST-MODIFIED:20250929T174150Z
UID:31745-1759168800-1759176000@elkinsrandolphwv.com
SUMMARY:Live Music: Lynnlee Shearer | Beander's
DESCRIPTION:
URL:https://elkinsrandolphwv.com/event/live-music-lynnlee-shearer-beanders/
LOCATION:Beander’s Restaurant & Tavern\, 314 Davis Ave\, Elkins\, WV\, 26241\, United States
CATEGORIES:Food & Drink,Music
GEO:38.944536;-79.85025
X-APPLE-STRUCTURED-LOCATION;VALUE=URI;X-ADDRESS=Beander’s Restaurant & Tavern 314 Davis Ave Elkins WV 26241 United States;X-APPLE-RADIUS=500;X-TITLE=314 Davis Ave:geo:-79.85025,38.944536
END:VEVENT
BEGIN:VEVENT
DTSTART;TZID=UTC:20250929T190000
DTEND;TZID=UTC:20250929T210000
DTSTAMP:20260420T055713
CREATED:20250903T183039Z
LAST-MODIFIED:20250903T183039Z
UID:31424-1759172400-1759179600@elkinsrandolphwv.com
SUMMARY:Carson Peters & Iron Mountain
DESCRIPTION:
URL:https://elkinsrandolphwv.com/event/carson-peters-iron-mountain/
LOCATION:Elkins Town Square Ampitheatre\, 315 Railroad Avenue\, Elkins\, WV\, 26241\, United States
CATEGORIES:Community,Music
END:VEVENT
BEGIN:VEVENT
DTSTART;TZID=UTC:20250930T190000
DTEND;TZID=UTC:20250930T210000
DTSTAMP:20260420T055713
CREATED:20250903T183820Z
LAST-MODIFIED:20250903T183820Z
UID:31430-1759258800-1759266000@elkinsrandolphwv.com
SUMMARY:Elkins' Got Talent
DESCRIPTION:
URL:https://elkinsrandolphwv.com/event/elkins-got-talent/
LOCATION:Elkins Town Square Ampitheatre\, 315 Railroad Avenue\, Elkins\, WV\, 26241\, United States
CATEGORIES:Community,Music,Outdoors
END:VEVENT
BEGIN:VEVENT
DTSTART;TZID=UTC:20250930T193000
DTEND;TZID=UTC:20250930T213000
DTSTAMP:20260420T055713
CREATED:20250929T174309Z
LAST-MODIFIED:20250929T174309Z
UID:31748-1759260600-1759267800@elkinsrandolphwv.com
SUMMARY:Live Music: Wilma Cutlip & Tim White | Beander's
DESCRIPTION:
URL:https://elkinsrandolphwv.com/event/live-music-wilma-cutlip-tim-white-beanders/
LOCATION:Beander’s Restaurant & Tavern\, 314 Davis Ave\, Elkins\, WV\, 26241\, United States
CATEGORIES:Food & Drink,Music
GEO:38.944536;-79.85025
X-APPLE-STRUCTURED-LOCATION;VALUE=URI;X-ADDRESS=Beander’s Restaurant & Tavern 314 Davis Ave Elkins WV 26241 United States;X-APPLE-RADIUS=500;X-TITLE=314 Davis Ave:geo:-79.85025,38.944536
END:VEVENT
BEGIN:VEVENT
DTSTART;TZID=UTC:20251001T180000
DTEND;TZID=UTC:20251001T200000
DTSTAMP:20260420T055713
CREATED:20250929T174452Z
LAST-MODIFIED:20250929T174452Z
UID:31750-1759341600-1759348800@elkinsrandolphwv.com
SUMMARY:Live Music: Kristen Federer | Beander's
DESCRIPTION:
URL:https://elkinsrandolphwv.com/event/live-music-kristen-federer-beanders/
LOCATION:Beander’s Restaurant & Tavern\, 314 Davis Ave\, Elkins\, WV\, 26241\, United States
CATEGORIES:Food & Drink,Music
GEO:38.944536;-79.85025
X-APPLE-STRUCTURED-LOCATION;VALUE=URI;X-ADDRESS=Beander’s Restaurant & Tavern 314 Davis Ave Elkins WV 26241 United States;X-APPLE-RADIUS=500;X-TITLE=314 Davis Ave:geo:-79.85025,38.944536
END:VEVENT
BEGIN:VEVENT
DTSTART;TZID=UTC:20251002T193000
DTEND;TZID=UTC:20251002T213000
DTSTAMP:20260420T055713
CREATED:20250929T174635Z
LAST-MODIFIED:20251001T173535Z
UID:31752-1759433400-1759440600@elkinsrandolphwv.com
SUMMARY:Live Music: Tim White & J.B. Stalnaker | Beander's
DESCRIPTION:
URL:https://elkinsrandolphwv.com/event/live-music-time-white-j-b-stalnaker-beanders/
LOCATION:Beander’s Restaurant & Tavern\, 314 Davis Ave\, Elkins\, WV\, 26241\, United States
CATEGORIES:Food & Drink,Music
GEO:38.944536;-79.85025
X-APPLE-STRUCTURED-LOCATION;VALUE=URI;X-ADDRESS=Beander’s Restaurant & Tavern 314 Davis Ave Elkins WV 26241 United States;X-APPLE-RADIUS=500;X-TITLE=314 Davis Ave:geo:-79.85025,38.944536
END:VEVENT
BEGIN:VEVENT
DTSTART;TZID=UTC:20251003T130000
DTEND;TZID=UTC:20251003T130000
DTSTAMP:20260420T055713
CREATED:20250906T194115Z
LAST-MODIFIED:20250906T194115Z
UID:31517-1759496400-1759496400@elkinsrandolphwv.com
SUMMARY:Pre-Coronation Music & Entertainment
DESCRIPTION:
URL:https://elkinsrandolphwv.com/event/pre-coronation-music-entertainment-3/
LOCATION:Citizens Bank of WV Amphitheater\, Davis & Elkins College\, 100 Campus Dr\, Elkins\, WV\, 26241
CATEGORIES:Community,Davis & Elkins College,Music
END:VEVENT
BEGIN:VEVENT
DTSTART;TZID=UTC:20251003T170000
DTEND;TZID=UTC:20251003T220000
DTSTAMP:20260420T055713
CREATED:20250917T000522Z
LAST-MODIFIED:20251002T195551Z
UID:31691-1759510800-1759528800@elkinsrandolphwv.com
SUMMARY:Live Music: Wyatt Turner & Total Recall | Beander's
DESCRIPTION:Starting immediately after Fireman Parade
URL:https://elkinsrandolphwv.com/event/total-recall/
LOCATION:Beander’s Restaurant & Tavern\, 314 Davis Ave\, Elkins\, WV\, 26241\, United States
CATEGORIES:Food & Drink,Music
GEO:38.944536;-79.85025
X-APPLE-STRUCTURED-LOCATION;VALUE=URI;X-ADDRESS=Beander’s Restaurant & Tavern 314 Davis Ave Elkins WV 26241 United States;X-APPLE-RADIUS=500;X-TITLE=314 Davis Ave:geo:-79.85025,38.944536
END:VEVENT
BEGIN:VEVENT
DTSTART;TZID=UTC:20251003T173000
DTEND;TZID=UTC:20251003T220000
DTSTAMP:20260420T055713
CREATED:20250624T183850Z
LAST-MODIFIED:20250917T220320Z
UID:30832-1759512600-1759528800@elkinsrandolphwv.com
SUMMARY:Live Music | Oxley House
DESCRIPTION:Friday\, October 3rd  Kelsey Jefferies | 5:30 – 8:00 PMA rising WV singer-songwriter bringing heartfelt originals and fan-favorite covers.\n Tiffany\, Joel & Seth | 9:00 – 11:00 PMTight harmonies\, soulful delivery\, and rich acoustic sound.\nKelsey Jeffries\, a West Virginia musician\, is making her Oxley House debut on Friday\, October 3rd. She will be performing from 5:30pm-8:00pm. Come out and listen to some local music while enjoying some delicious cocktails and food from one of Elkins’ newest establishments that’s become a community favorite.
URL:https://elkinsrandolphwv.com/event/live-music-at-the-oxley-house-kelsey-jeffries/
LOCATION:Oxley House\, 206 Davis Avenue\, Elkins\, WV
CATEGORIES:Entertainment,Food & Drink,Music
ORGANIZER;CN="Tygart Hotel":MAILTO:fd.tygart@taylorhospitality.com
END:VEVENT
BEGIN:VEVENT
DTSTART;TZID=UTC:20251003T210000
DTEND;TZID=UTC:20251003T233000
DTSTAMP:20260420T055713
CREATED:20250909T221302Z
LAST-MODIFIED:20250909T221302Z
UID:31617-1759525200-1759534200@elkinsrandolphwv.com
SUMMARY:Live Music: Ask Alice | Dibella's
DESCRIPTION:We will be Live at Dibella’s during the Forrest Festival! Be sure to come check us out! Show starts at 9:00pm! 
URL:https://elkinsrandolphwv.com/event/live-music-ask-alice-dibellas/
LOCATION:DiBella’s 3rd Street Bar n Grill\, 305 3rd Street\, Elkins\, WV\, 26241\, United States
CATEGORIES:Music
END:VEVENT
BEGIN:VEVENT
DTSTART;TZID=UTC:20251004T110000
DTEND;TZID=UTC:20251004T170000
DTSTAMP:20260420T055713
CREATED:20250910T233836Z
LAST-MODIFIED:20250910T233836Z
UID:31628-1759575600-1759597200@elkinsrandolphwv.com
SUMMARY:Parade Watch Party | Big Timber
DESCRIPTION:
URL:https://elkinsrandolphwv.com/event/parade-watch-party-big-timber/
LOCATION:Big Timber Brewing\, 2 Davis Avenue\, Elkins\, WV\, 26241\, United States
CATEGORIES:Food & Drink,Music
END:VEVENT
BEGIN:VEVENT
DTSTART;TZID=UTC:20251004T133000
DTEND;TZID=UTC:20251004T153000
DTSTAMP:20260420T055713
CREATED:20250907T175556Z
LAST-MODIFIED:20250907T175556Z
UID:31547-1759584600-1759591800@elkinsrandolphwv.com
SUMMARY:Grand Feature Parade
DESCRIPTION:
URL:https://elkinsrandolphwv.com/event/grand-feature-parade-3/
LOCATION:12th Street & S.Davis Ave\, Elkins\, West Virginia\, 26241
CATEGORIES:Community,Fairs & Festivals,Kids & Family,Music
END:VEVENT
END:VCALENDAR