BEGIN:VCALENDAR
VERSION:2.0
PRODID:-//Elkins-Randolph County Tourism - ECPv6.15.20//NONSGML v1.0//EN
CALSCALE:GREGORIAN
METHOD:PUBLISH
X-ORIGINAL-URL:https://elkinsrandolphwv.com
X-WR-CALDESC:Events for Elkins-Randolph County Tourism
REFRESH-INTERVAL;VALUE=DURATION:PT1H
X-Robots-Tag:noindex
X-PUBLISHED-TTL:PT1H
BEGIN:VTIMEZONE
TZID:UTC
BEGIN:STANDARD
TZOFFSETFROM:+0000
TZOFFSETTO:+0000
TZNAME:UTC
DTSTART:20240101T000000
END:STANDARD
END:VTIMEZONE
BEGIN:VTIMEZONE
TZID:America/New_York
BEGIN:DAYLIGHT
TZOFFSETFROM:-0500
TZOFFSETTO:-0400
TZNAME:EDT
DTSTART:20240310T070000
END:DAYLIGHT
BEGIN:STANDARD
TZOFFSETFROM:-0400
TZOFFSETTO:-0500
TZNAME:EST
DTSTART:20241103T060000
END:STANDARD
BEGIN:DAYLIGHT
TZOFFSETFROM:-0500
TZOFFSETTO:-0400
TZNAME:EDT
DTSTART:20250309T070000
END:DAYLIGHT
BEGIN:STANDARD
TZOFFSETFROM:-0400
TZOFFSETTO:-0500
TZNAME:EST
DTSTART:20251102T060000
END:STANDARD
BEGIN:DAYLIGHT
TZOFFSETFROM:-0500
TZOFFSETTO:-0400
TZNAME:EDT
DTSTART:20260308T070000
END:DAYLIGHT
BEGIN:STANDARD
TZOFFSETFROM:-0400
TZOFFSETTO:-0500
TZNAME:EST
DTSTART:20261101T060000
END:STANDARD
END:VTIMEZONE
BEGIN:VEVENT
DTSTART;TZID=UTC:20250710T193000
DTEND;TZID=UTC:20250710T213000
DTSTAMP:20260425T094133
CREATED:20250701T221758Z
LAST-MODIFIED:20250701T222132Z
UID:30902-1752175800-1752183000@elkinsrandolphwv.com
SUMMARY:Country & Cajun Concert @ Harper McNeeley Auditorium
DESCRIPTION:
URL:https://elkinsrandolphwv.com/event/country-cajun-concert-harper-mcneeley-auditorium-2/
LOCATION:Davis & Elkins College
CATEGORIES:Art & Culture,Music
END:VEVENT
BEGIN:VEVENT
DTSTART;TZID=UTC:20250710T213000
DTEND;TZID=UTC:20250710T223000
DTSTAMP:20260425T094133
CREATED:20250701T222351Z
LAST-MODIFIED:20250701T222351Z
UID:30905-1752183000-1752186600@elkinsrandolphwv.com
SUMMARY:Honkey-Tonk Dance @ Augusta Dance Pavilion
DESCRIPTION:
URL:https://elkinsrandolphwv.com/event/honkey-tonk-dance-augusta-dance-pavilion/
LOCATION:Davis and Elkins College / Augusta Dance Pavilion
CATEGORIES:Entertainment,Music
END:VEVENT
BEGIN:VEVENT
DTSTART;TZID=UTC:20250711T193000
DTEND;TZID=UTC:20250711T210000
DTSTAMP:20260425T094133
CREATED:20250520T192813Z
LAST-MODIFIED:20250520T193325Z
UID:30762-1752262200-1752267600@elkinsrandolphwv.com
SUMMARY:Our Town Summer Music Concert Series
DESCRIPTION:Our Town’s 2025 Summer Concert Series lineup has officially been announced! Mark your calendars and get ready to spend select summer Friday nights with us at 7:30 pm at the Rotary Amphitheater in Elkins Town Square\, located in downtown Elkins—now with concerts on FRIDAY evenings\, by popular request! Enjoy amazing live music\, beautiful summer evenings\, and the best local vibes—all 100% FREE ADMISSION! Check out the full lineup in the graphic ad and start planning your summer. We’ll see you at the Amphitheater!
URL:https://elkinsrandolphwv.com/event/our-town-summer-music-concert-series/2025-07-11/
LOCATION:Rotary Ampitheatre in Elkins Town Square\, 315 Railroad Avenue\, Elkins\, WV\, 26241\, United States\, 2 Railroad Ave\, United States
CATEGORIES:Community,Kids & Family,Music
GEO:38.92313;-79.851004
X-APPLE-STRUCTURED-LOCATION;VALUE=URI;X-ADDRESS=Rotary Ampitheatre in Elkins Town Square 315 Railroad Avenue Elkins WV 26241 United States 2 Railroad Ave United States;X-APPLE-RADIUS=500;X-TITLE=2 Railroad Ave:geo:-79.851004,38.92313
END:VEVENT
BEGIN:VEVENT
DTSTART;TZID=America/New_York:20250711T193000
DTEND;TZID=America/New_York:20250711T213000
DTSTAMP:20260425T094133
CREATED:20250709T234947Z
LAST-MODIFIED:20250709T234947Z
UID:30958-1752262200-1752269400@elkinsrandolphwv.com
SUMMARY:Crandall Creek at Big Timber Brewing
DESCRIPTION:Join us for live music with Crandall Creek!! Crandall Creek is a dynamic bluegrass ensemble with a blend of exceptional vocalists\, award-winning instrumentalists\, and acclaimed songwriters that creates a unique fusion of tradition and innovation.\nFree Show open to all ages!
URL:https://elkinsrandolphwv.com/event/crandall-creek-at-big-timber-brewing/
LOCATION:Big Timber Brewing\, 2 Davis Avenue\, Elkins\, WV\, 26241\, United States
CATEGORIES:Music
ATTACH;FMTTYPE=image/jpeg:https://elkinsrandolphwv.com/wp-content/uploads/2019/03/big-timber.jpg
END:VEVENT
BEGIN:VEVENT
DTSTART;TZID=UTC:20250712T160000
DTEND;TZID=UTC:20250712T220000
DTSTAMP:20260425T094133
CREATED:20250624T183307Z
LAST-MODIFIED:20250624T183307Z
UID:30830-1752336000-1752357600@elkinsrandolphwv.com
SUMMARY:Tiki Tides & Island Vibes | Hawaiian Seafood Celebration -The Oxley House
DESCRIPTION:Specialty Dinner and Live Music
URL:https://elkinsrandolphwv.com/event/tiki-tides-island-vibes-hawaiian-seafood-celebration-the-oxley-house/
LOCATION:Oxley House\, 206 Davis Avenue\, Elkins\, WV
CATEGORIES:Educational,Food & Drink,Music
ORGANIZER;CN="Tygart Hotel":MAILTO:fd.tygart@taylorhospitality.com
END:VEVENT
BEGIN:VEVENT
DTSTART;TZID=America/New_York:20250712T210000
DTEND;TZID=America/New_York:20250712T210000
DTSTAMP:20260425T094133
CREATED:20250709T231022Z
LAST-MODIFIED:20250709T231022Z
UID:30950-1752354000-1752354000@elkinsrandolphwv.com
SUMMARY:Total Recall at Beander's
DESCRIPTION:
URL:https://elkinsrandolphwv.com/event/total-recall-at-beanders/
LOCATION:Beander’s Restaurant & Tavern\, 314 Davis Ave\, Elkins\, WV\, 26241\, United States
CATEGORIES:Entertainment,Music
ATTACH;FMTTYPE=image/png:https://elkinsrandolphwv.com/wp-content/uploads/2019/03/main-logo-e1726601056111.png
GEO:38.944536;-79.85025
X-APPLE-STRUCTURED-LOCATION;VALUE=URI;X-ADDRESS=Beander’s Restaurant & Tavern 314 Davis Ave Elkins WV 26241 United States;X-APPLE-RADIUS=500;X-TITLE=314 Davis Ave:geo:-79.85025,38.944536
END:VEVENT
BEGIN:VEVENT
DTSTART;TZID=UTC:20250717T193000
DTEND;TZID=UTC:20250717T213000
DTSTAMP:20260425T094133
CREATED:20250716T193040Z
LAST-MODIFIED:20250716T193242Z
UID:30972-1752780600-1752787800@elkinsrandolphwv.com
SUMMARY:Bluegrass Extravaganza Concert
DESCRIPTION:
URL:https://elkinsrandolphwv.com/event/bluegrass-extravaganza-concert/
LOCATION:Davis & Elkins College\, 100 Campus Dr\, Elkins\, WV 26241\, USA – Harper McNeeley Auditorium\, United States
CATEGORIES:Entertainment,Music
GEO:38.921503;-79.844583
END:VEVENT
BEGIN:VEVENT
DTSTART;TZID=UTC:20250717T213000
DTEND;TZID=UTC:20250717T223000
DTSTAMP:20260425T094133
CREATED:20250716T193503Z
LAST-MODIFIED:20250716T193503Z
UID:30977-1752787800-1752791400@elkinsrandolphwv.com
SUMMARY:Square Dance
DESCRIPTION:
URL:https://elkinsrandolphwv.com/event/square-dance-2/
LOCATION:Davis and Elkins College / Augusta Dance Pavilion
CATEGORIES:Entertainment,Music,Outdoors
END:VEVENT
BEGIN:VEVENT
DTSTART;TZID=America/New_York:20250718T180000
DTEND;TZID=America/New_York:20250718T203000
DTSTAMP:20260425T094133
CREATED:20250716T002600Z
LAST-MODIFIED:20250716T002600Z
UID:30965-1752861600-1752870600@elkinsrandolphwv.com
SUMMARY:Blues in the Rain at Beander's
DESCRIPTION:Blues in the Rain\, visiting from the Washington D.C. area\, plays a mix of upbeat blues\, rag time and jazz\, with a little bit of Neville Brothers snuck in.
URL:https://elkinsrandolphwv.com/event/blues-in-the-rain-at-beanders/
LOCATION:WV
CATEGORIES:Music
ATTACH;FMTTYPE=image/png:https://elkinsrandolphwv.com/wp-content/uploads/2019/03/main-logo-e1726601056111.png
END:VEVENT
BEGIN:VEVENT
DTSTART;TZID=UTC:20250718T200000
DTEND;TZID=UTC:20250718T220000
DTSTAMP:20260425T094133
CREATED:20250716T193745Z
LAST-MODIFIED:20250716T193831Z
UID:30979-1752868800-1752876000@elkinsrandolphwv.com
SUMMARY:US Navy Band Country Current
DESCRIPTION:
URL:https://elkinsrandolphwv.com/event/us-navy-band-country-current/
LOCATION:Davis and Elkins College / Augusta Dance Pavilion
CATEGORIES:Entertainment,Music,Outdoors
END:VEVENT
BEGIN:VEVENT
DTSTART;TZID=UTC:20250720T210000
DTEND;TZID=UTC:20250720T230000
DTSTAMP:20260425T094133
CREATED:20250716T194009Z
LAST-MODIFIED:20250716T194009Z
UID:30981-1753045200-1753052400@elkinsrandolphwv.com
SUMMARY:Square Dance & Blues Dance
DESCRIPTION:
URL:https://elkinsrandolphwv.com/event/square-dance-blues-dance/
LOCATION:Davis and Elkins College / Augusta Dance Pavilion
CATEGORIES:Entertainment,Music
END:VEVENT
BEGIN:VEVENT
DTSTART;TZID=UTC:20250721T203000
DTEND;TZID=UTC:20250721T223000
DTSTAMP:20260425T094133
CREATED:20250716T194154Z
LAST-MODIFIED:20250716T194154Z
UID:30983-1753129800-1753137000@elkinsrandolphwv.com
SUMMARY:Square Dance
DESCRIPTION:
URL:https://elkinsrandolphwv.com/event/square-dance-3/
LOCATION:Davis and Elkins College / Augusta Dance Pavilion
CATEGORIES:Entertainment,Music
END:VEVENT
BEGIN:VEVENT
DTSTART;TZID=UTC:20250722T193000
DTEND;TZID=UTC:20250722T213000
DTSTAMP:20260425T094133
CREATED:20250716T194604Z
LAST-MODIFIED:20250716T194604Z
UID:30986-1753212600-1753219800@elkinsrandolphwv.com
SUMMARY:Blues & Old-Time Concert
DESCRIPTION:
URL:https://elkinsrandolphwv.com/event/blues-old-time-concert/
LOCATION:Davis & Elkins College\, 100 Campus Dr\, Elkins\, WV 26241\, USA – Harper McNeeley Auditorium\, United States
CATEGORIES:Entertainment,Music
GEO:38.921503;-79.844583
END:VEVENT
BEGIN:VEVENT
DTSTART;TZID=UTC:20250722T214500
DTEND;TZID=UTC:20250722T224500
DTSTAMP:20260425T094133
CREATED:20250716T194805Z
LAST-MODIFIED:20250716T194805Z
UID:30988-1753220700-1753224300@elkinsrandolphwv.com
SUMMARY:House Party Blues Dance
DESCRIPTION:
URL:https://elkinsrandolphwv.com/event/house-party-blues-dance/
LOCATION:Davis and Elkins College / Augusta Dance Pavilion
CATEGORIES:Entertainment,Music,Outdoors
END:VEVENT
BEGIN:VEVENT
DTSTART;TZID=UTC:20250723T193000
DTEND;TZID=UTC:20250723T213000
DTSTAMP:20260425T094133
CREATED:20250716T195440Z
LAST-MODIFIED:20250716T195933Z
UID:30990-1753299000-1753306200@elkinsrandolphwv.com
SUMMARY:Blues House Party Jam & Gathering
DESCRIPTION:
URL:https://elkinsrandolphwv.com/event/blues-house-party-jam-gathering/
LOCATION:Davis & Elkins College
CATEGORIES:Entertainment,Music,Outdoors
END:VEVENT
BEGIN:VEVENT
DTSTART;TZID=UTC:20250724T193000
DTEND;TZID=UTC:20250724T213000
DTSTAMP:20260425T094133
CREATED:20250722T214754Z
LAST-MODIFIED:20250722T214754Z
UID:31024-1753385400-1753392600@elkinsrandolphwv.com
SUMMARY:Blues & Old-Time Concert
DESCRIPTION:
URL:https://elkinsrandolphwv.com/event/blues-old-time-concert-2/
LOCATION:Davis and Elkins College Harper McNeeley Audiorium
CATEGORIES:Music
END:VEVENT
BEGIN:VEVENT
DTSTART;TZID=UTC:20250724T220000
DTEND;TZID=UTC:20250724T230000
DTSTAMP:20260425T094133
CREATED:20250709T220514Z
LAST-MODIFIED:20250723T192406Z
UID:30928-1753394400-1753398000@elkinsrandolphwv.com
SUMMARY:Live Music at DiBella's: Killy Killette | 10pm
DESCRIPTION:Every Thursday we will be having live music by Killy Killette at 10 pm. This is a free event open to the public.
URL:https://elkinsrandolphwv.com/event/live-music-at-dibellas-killy-killette-10pm/
LOCATION:DiBella’s 3rd Street Bar n Grill\, 305 3rd Street\, Elkins\, WV\, 26241\, United States
CATEGORIES:Music
END:VEVENT
BEGIN:VEVENT
DTSTART;TZID=UTC:20250725T193000
DTEND;TZID=UTC:20250725T210000
DTSTAMP:20260425T094133
CREATED:20250520T192813Z
LAST-MODIFIED:20250520T193328Z
UID:30763-1753471800-1753477200@elkinsrandolphwv.com
SUMMARY:Our Town Summer Music Concert Series
DESCRIPTION:Our Town’s 2025 Summer Concert Series lineup has officially been announced! Mark your calendars and get ready to spend select summer Friday nights with us at 7:30 pm at the Rotary Amphitheater in Elkins Town Square\, located in downtown Elkins—now with concerts on FRIDAY evenings\, by popular request! Enjoy amazing live music\, beautiful summer evenings\, and the best local vibes—all 100% FREE ADMISSION! Check out the full lineup in the graphic ad and start planning your summer. We’ll see you at the Amphitheater!
URL:https://elkinsrandolphwv.com/event/our-town-summer-music-concert-series/2025-07-25/
LOCATION:Rotary Ampitheatre in Elkins Town Square\, 315 Railroad Avenue\, Elkins\, WV\, 26241\, United States\, 2 Railroad Ave\, United States
CATEGORIES:Community,Kids & Family,Music
GEO:38.92313;-79.851004
X-APPLE-STRUCTURED-LOCATION;VALUE=URI;X-ADDRESS=Rotary Ampitheatre in Elkins Town Square 315 Railroad Avenue Elkins WV 26241 United States 2 Railroad Ave United States;X-APPLE-RADIUS=500;X-TITLE=2 Railroad Ave:geo:-79.851004,38.92313
END:VEVENT
BEGIN:VEVENT
DTSTART;TZID=UTC:20250730T180000
DTEND;TZID=UTC:20250730T200000
DTSTAMP:20260425T094133
CREATED:20250722T221243Z
LAST-MODIFIED:20250728T222637Z
UID:31032-1753898400-1753905600@elkinsrandolphwv.com
SUMMARY:Wine Down Wednesday | Graceland Inn & Restaurant
DESCRIPTION:We at Graceland are proud to announce the musical stylings of Tiffany Elliott and Joel Franks will be returning this week for our Wine Down Wednesday! So make sure to drop by and see us this week!For reservations call 304-637-1600 \n \n 
URL:https://elkinsrandolphwv.com/event/wine-down-wednesday-graceland-inn-restaurant/
LOCATION:Graceland Inn and Restaurant\, 100 Campus Drive\, Elkins\, WV\, 26241\, United States
CATEGORIES:Entertainment,Food & Drink,Music
END:VEVENT
BEGIN:VEVENT
DTSTART;TZID=UTC:20250802T193000
DTEND;TZID=UTC:20250802T220000
DTSTAMP:20260425T094133
CREATED:20250725T225842Z
LAST-MODIFIED:20250725T225842Z
UID:31074-1754163000-1754172000@elkinsrandolphwv.com
SUMMARY:Live Music: Josh Folmsbee
DESCRIPTION:Get ready for a night of acoustic rock with Josh Folmsbee on Saturday\, August 2nd! Grab a drink\, enjoy some delicious bites\, and vibe to an unforgettable live performance.\n Saturday\, August 2nd 7:30 PM – 10:00 PM Oxley House | Inside the Tygart Hotel\nNo cover—just great music\, craft cocktails\, and a good time. See you there! 
URL:https://elkinsrandolphwv.com/event/live-music-josh-folmsbee/
LOCATION:Oxley House\, 206 Davis Avenue\, Elkins\, WV
CATEGORIES:Music
ATTACH;FMTTYPE=image/png:https://elkinsrandolphwv.com/wp-content/uploads/2024/05/Oxley-House-Profile-Pic-e1726534174518.png
END:VEVENT
BEGIN:VEVENT
DTSTART;TZID=UTC:20250808T193000
DTEND;TZID=UTC:20250808T210000
DTSTAMP:20260425T094133
CREATED:20250520T192813Z
LAST-MODIFIED:20250520T193330Z
UID:30764-1754681400-1754686800@elkinsrandolphwv.com
SUMMARY:Our Town Summer Music Concert Series
DESCRIPTION:Our Town’s 2025 Summer Concert Series lineup has officially been announced! Mark your calendars and get ready to spend select summer Friday nights with us at 7:30 pm at the Rotary Amphitheater in Elkins Town Square\, located in downtown Elkins—now with concerts on FRIDAY evenings\, by popular request! Enjoy amazing live music\, beautiful summer evenings\, and the best local vibes—all 100% FREE ADMISSION! Check out the full lineup in the graphic ad and start planning your summer. We’ll see you at the Amphitheater!
URL:https://elkinsrandolphwv.com/event/our-town-summer-music-concert-series/2025-08-08/
LOCATION:Rotary Ampitheatre in Elkins Town Square\, 315 Railroad Avenue\, Elkins\, WV\, 26241\, United States\, 2 Railroad Ave\, United States
CATEGORIES:Community,Kids & Family,Music
GEO:38.92313;-79.851004
X-APPLE-STRUCTURED-LOCATION;VALUE=URI;X-ADDRESS=Rotary Ampitheatre in Elkins Town Square 315 Railroad Avenue Elkins WV 26241 United States 2 Railroad Ave United States;X-APPLE-RADIUS=500;X-TITLE=2 Railroad Ave:geo:-79.851004,38.92313
END:VEVENT
BEGIN:VEVENT
DTSTART;TZID=UTC:20250809T193000
DTEND;TZID=UTC:20250809T220000
DTSTAMP:20260425T094133
CREATED:20250725T225554Z
LAST-MODIFIED:20250725T225554Z
UID:31072-1754767800-1754776800@elkinsrandolphwv.com
SUMMARY:Live Music: Cole Davidson | Oxley House
DESCRIPTION:Join us for a Saturday night of live music with singer-songwriter Cole Davidson — blending folk\, indie\, and acoustic rock.\n Saturday\, August 9th 7:30 PM – 10:00 PM The Oxley House at the Tygart Hotel\, Elkins\, WV\n Full bar |  Dinner menu available Free admission | Walk-ins welcome\nCome for the music\, stay for the vibe.
URL:https://elkinsrandolphwv.com/event/live-music-cole-davidson-oxley-house/
LOCATION:Oxley House\, 206 Davis Avenue\, Elkins\, WV
CATEGORIES:Music
ATTACH;FMTTYPE=image/png:https://elkinsrandolphwv.com/wp-content/uploads/2024/05/Oxley-House-Profile-Pic-e1726534174518.png
END:VEVENT
BEGIN:VEVENT
DTSTART;TZID=UTC:20250815T200000
DTEND;TZID=UTC:20250815T220000
DTSTAMP:20260425T094133
CREATED:20250812T224402Z
LAST-MODIFIED:20250813T191807Z
UID:31179-1755288000-1755295200@elkinsrandolphwv.com
SUMMARY:Live Music with E11EVEN | Big Timber Brewing
DESCRIPTION:Come join us for live music with our friends from E11EVEN!! Music kicks off at 8pm and BUNS pizza will be serving starting at 5pm!!\nCome hang out!! No Cover!!
URL:https://elkinsrandolphwv.com/event/live-music-with-e11even/
LOCATION:Big Timber Brewing\, 2 Davis Avenue\, Elkins\, WV\, 26241\, United States
CATEGORIES:Music
ATTACH;FMTTYPE=image/jpeg:https://elkinsrandolphwv.com/wp-content/uploads/2019/03/big-timber.jpg
END:VEVENT
BEGIN:VEVENT
DTSTART;TZID=UTC:20250816T130000
DTEND;TZID=UTC:20250816T160000
DTSTAMP:20260425T094133
CREATED:20250805T182722Z
LAST-MODIFIED:20250805T182722Z
UID:31154-1755349200-1755360000@elkinsrandolphwv.com
SUMMARY:Pours 4 Paws | Smoke on the Water
DESCRIPTION:Mark your calendars!Our next Pours 4 Paws stop is Smoke on the Water – and you won’t want to miss it! Saturday\, August 16 1 to 4 pmCome out for an afternoon of live music from local favorite Kristin Federer\, adoptable pets\, RCHS merch\, and another chance to grab your Fat Cat Raffle tickets! Plus\, Smoke on the Water is generously donating 20% of all proceeds to RCHS to help animals in need. So come enjoy a tasty meal\, a cold drink\, and support a paws-itively great cause! 
URL:https://elkinsrandolphwv.com/event/pours-4-paws-smoke-on-the-water/
LOCATION:Smoke on the Water\, Rt 33 East\, 1455 Allegheny Highway\, Elkins\, WV 26241\, USA\, 1 US Rte 33\, United States
CATEGORIES:Food & Drink,Music
ATTACH;FMTTYPE=image/png:https://elkinsrandolphwv.com/wp-content/uploads/2019/05/randolph-county-humane-society.png
GEO:38.92145;-79.841852
X-APPLE-STRUCTURED-LOCATION;VALUE=URI;X-ADDRESS=Smoke on the Water Rt 33 East 1455 Allegheny Highway Elkins WV 26241 USA 1 US Rte 33 United States;X-APPLE-RADIUS=500;X-TITLE=1 US Rte 33:geo:-79.841852,38.92145
END:VEVENT
BEGIN:VEVENT
DTSTART;TZID=UTC:20250816T193000
DTEND;TZID=UTC:20250816T220000
DTSTAMP:20260425T094133
CREATED:20250725T184656Z
LAST-MODIFIED:20250725T184656Z
UID:31069-1755372600-1755381600@elkinsrandolphwv.com
SUMMARY:Live Music: Morgan & Cody | Oxley House
DESCRIPTION:Join us for an evening of live music with Morgan & Cody\, a talented duet bringing heartfelt vocals\, harmonies\, and classic favorites to the Oxley House. Whether you’re here for dinner\, drinks\, or just the tunes — it’s the perfect way to spend your Saturday night. \n Saturday\, August 16th 7:30 PM – 10:00 PM The Oxley House at the Tygart Hotel\, Elkins\, WV\n Full bar |  Dinner menu available Free admission | Walk-ins welcome\nTag your friends and make it a night out in downtown Elkins!
URL:https://elkinsrandolphwv.com/event/live-music-morgan-cody-oxley-house/
LOCATION:Oxley House\, 206 Davis Avenue\, Elkins\, WV
CATEGORIES:Music
ATTACH;FMTTYPE=image/png:https://elkinsrandolphwv.com/wp-content/uploads/2024/05/Oxley-House-Profile-Pic-e1726534174518.png
END:VEVENT
BEGIN:VEVENT
DTSTART;TZID=UTC:20250820T180000
DTEND;TZID=UTC:20250820T200000
DTSTAMP:20260425T094133
CREATED:20250820T174555Z
LAST-MODIFIED:20250820T174555Z
UID:31274-1755712800-1755720000@elkinsrandolphwv.com
SUMMARY:Winedown Wednesday | Graceland Inn & Restaurant
DESCRIPTION:Join us as we host the incredibly talented Tiffani Green\, a local gem known for their soulful voice and signature ukulele sound. Her acoustic style blends perfectly with a laid-back evening of delicious food\, signature wine\, and great company.For reservations call (304) 637-1600
URL:https://elkinsrandolphwv.com/event/winedown-wednesday-graceland-inn-restaurant/
LOCATION:Graceland Inn and Restaurant\, 100 Campus Drive\, Elkins\, WV\, 26241\, United States
CATEGORIES:Food & Drink,Music
ATTACH;FMTTYPE=image/jpeg:https://elkinsrandolphwv.com/wp-content/uploads/2025/08/graceland-logo-borderless.jpg
END:VEVENT
BEGIN:VEVENT
DTSTART;TZID=UTC:20250821T220000
DTEND;TZID=UTC:20250821T230000
DTSTAMP:20260425T094133
CREATED:20250817T190816Z
LAST-MODIFIED:20250817T190816Z
UID:31214-1755813600-1755817200@elkinsrandolphwv.com
SUMMARY:Live Music at DiBella's : Killy Killette
DESCRIPTION:
URL:https://elkinsrandolphwv.com/event/live-music-at-dibellas-killy-killette/
LOCATION:DiBella’s 3rd Street Bar n Grill\, 305 3rd Street\, Elkins\, WV\, 26241\, United States
CATEGORIES:Music
END:VEVENT
BEGIN:VEVENT
DTSTART;TZID=UTC:20250822T193000
DTEND;TZID=UTC:20250822T210000
DTSTAMP:20260425T094133
CREATED:20250520T192813Z
LAST-MODIFIED:20250520T193333Z
UID:30765-1755891000-1755896400@elkinsrandolphwv.com
SUMMARY:Our Town Summer Music Concert Series
DESCRIPTION:Our Town’s 2025 Summer Concert Series lineup has officially been announced! Mark your calendars and get ready to spend select summer Friday nights with us at 7:30 pm at the Rotary Amphitheater in Elkins Town Square\, located in downtown Elkins—now with concerts on FRIDAY evenings\, by popular request! Enjoy amazing live music\, beautiful summer evenings\, and the best local vibes—all 100% FREE ADMISSION! Check out the full lineup in the graphic ad and start planning your summer. We’ll see you at the Amphitheater!
URL:https://elkinsrandolphwv.com/event/our-town-summer-music-concert-series/2025-08-22/
LOCATION:Rotary Ampitheatre in Elkins Town Square\, 315 Railroad Avenue\, Elkins\, WV\, 26241\, United States\, 2 Railroad Ave\, United States
CATEGORIES:Community,Kids & Family,Music
GEO:38.92313;-79.851004
X-APPLE-STRUCTURED-LOCATION;VALUE=URI;X-ADDRESS=Rotary Ampitheatre in Elkins Town Square 315 Railroad Avenue Elkins WV 26241 United States 2 Railroad Ave United States;X-APPLE-RADIUS=500;X-TITLE=2 Railroad Ave:geo:-79.851004,38.92313
END:VEVENT
BEGIN:VEVENT
DTSTART;TZID=UTC:20250823T110000
DTEND;TZID=UTC:20250823T140000
DTSTAMP:20260425T094133
CREATED:20250818T221213Z
LAST-MODIFIED:20250819T231532Z
UID:31251-1755946800-1755957600@elkinsrandolphwv.com
SUMMARY:Elkins Band Corn Roast | Elkins City Park
DESCRIPTION:Join us for the Annual Corn Roast on August 23rd in the City Park!-Pork BBQ from Campbell’s-Live Music by our middle and high school bands
URL:https://elkinsrandolphwv.com/event/elkins-band-corn-roast-elkins-city-park/
LOCATION:Elkins City Park\, Elkins\, WV 26241\, USA\, 101 Elkins Ave\, United States
CATEGORIES:Food,Music
GEO:38.945377;-79.854602
X-APPLE-STRUCTURED-LOCATION;VALUE=URI;X-ADDRESS=Elkins City Park Elkins WV 26241 USA 101 Elkins Ave United States;X-APPLE-RADIUS=500;X-TITLE=101 Elkins Ave:geo:-79.854602,38.945377
END:VEVENT
BEGIN:VEVENT
DTSTART;TZID=UTC:20250823T173000
DTEND;TZID=UTC:20250823T193000
DTSTAMP:20260425T094133
CREATED:20250701T215635Z
LAST-MODIFIED:20250701T215635Z
UID:30890-1755970200-1755977400@elkinsrandolphwv.com
SUMMARY:Beverly Heritage Center- Live on the Lawn : Crandall Creek
DESCRIPTION:
URL:https://elkinsrandolphwv.com/event/beverly-heritage-center-live-on-the-lawn-crandall-creek/
LOCATION:Beverly Heritage Center\, 4 Court Street\, Beverly\, WV\, 26253\, United States
CATEGORIES:Entertainment,Kids & Family,Music
ORGANIZER;CN="Beverly Heritage Center":MAILTO:info@beverlyheritagecenter.org
GEO:38.8405774458;-79.8751789914
X-APPLE-STRUCTURED-LOCATION;VALUE=URI;X-ADDRESS=Beverly Heritage Center 4 Court Street Beverly WV 26253 United States;X-APPLE-RADIUS=500;X-TITLE=4 Court Street:geo:-79.8751789914,38.8405774458
END:VEVENT
END:VCALENDAR