BEGIN:VCALENDAR
VERSION:2.0
PRODID:-//Elkins-Randolph County Tourism - ECPv6.15.17.1//NONSGML v1.0//EN
CALSCALE:GREGORIAN
METHOD:PUBLISH
X-ORIGINAL-URL:https://elkinsrandolphwv.com
X-WR-CALDESC:Events for Elkins-Randolph County Tourism
REFRESH-INTERVAL;VALUE=DURATION:PT1H
X-Robots-Tag:noindex
X-PUBLISHED-TTL:PT1H
BEGIN:VTIMEZONE
TZID:America/New_York
BEGIN:DAYLIGHT
TZOFFSETFROM:-0500
TZOFFSETTO:-0400
TZNAME:EDT
DTSTART:20250309T070000
END:DAYLIGHT
BEGIN:STANDARD
TZOFFSETFROM:-0400
TZOFFSETTO:-0500
TZNAME:EST
DTSTART:20251102T060000
END:STANDARD
BEGIN:DAYLIGHT
TZOFFSETFROM:-0500
TZOFFSETTO:-0400
TZNAME:EDT
DTSTART:20260308T070000
END:DAYLIGHT
BEGIN:STANDARD
TZOFFSETFROM:-0400
TZOFFSETTO:-0500
TZNAME:EST
DTSTART:20261101T060000
END:STANDARD
BEGIN:DAYLIGHT
TZOFFSETFROM:-0500
TZOFFSETTO:-0400
TZNAME:EDT
DTSTART:20270314T070000
END:DAYLIGHT
BEGIN:STANDARD
TZOFFSETFROM:-0400
TZOFFSETTO:-0500
TZNAME:EST
DTSTART:20271107T060000
END:STANDARD
END:VTIMEZONE
BEGIN:VTIMEZONE
TZID:UTC
BEGIN:STANDARD
TZOFFSETFROM:+0000
TZOFFSETTO:+0000
TZNAME:UTC
DTSTART:20250101T000000
END:STANDARD
END:VTIMEZONE
BEGIN:VEVENT
DTSTART;TZID=America/New_York:20260515T190000
DTEND;TZID=America/New_York:20260515T210000
DTSTAMP:20260419T210959
CREATED:20260414T152508Z
LAST-MODIFIED:20260414T152508Z
UID:34037-1778871600-1778878800@elkinsrandolphwv.com
SUMMARY:Open Mic | Brewstel
DESCRIPTION:Open mic hosted by the Infamous Art Collective at the Brewstel in Elkins\, WV.\n\n\nWhen? Friday\, May 15th with sign-ups beginning at 6pm and first act going on at 7pm.\n\n\nBring your  or your  or just yourself!
URL:https://elkinsrandolphwv.com/event/open-mic-brewstel/
LOCATION:Brewstel Brew Shop and Hostel\, 120 Davis Ave\, Elkins\, WV 26241\, USA\, United States
CATEGORIES:Art & Culture,Entertainment,Music
GEO:38.91402;-79.854877
END:VEVENT
BEGIN:VEVENT
DTSTART;TZID=UTC:20260516T173000
DTEND;TZID=UTC:20260516T193000
DTSTAMP:20260419T210959
CREATED:20260302T213826Z
LAST-MODIFIED:20260302T213826Z
UID:33097-1778952600-1778959800@elkinsrandolphwv.com
SUMMARY:Live on the Lawn: Jason Hall | Beverly Heritage Center
DESCRIPTION:Join us for Live on the Lawn featuring Jason Hall! Jason is a soulful acoustic musician with a knack for incorporating his flair into Country & Americana classics. With warm\, raspy vocals\, Jason delivers an intimate\, down-to-earth sound that resonates with audiences of all kinds. Drawing inspiration from legends like Johnny Cash and John Prine\, to contemporary artists like Tyler Childers and Zach Bryan\, Jason brings a genuine love of music and connection to every performance. The free event takes place outdoors on the 1841 Jailhouse lawn. Bring chairs\, snacks\, friends and family for a great time! Rain or Shine.
URL:https://elkinsrandolphwv.com/event/live-on-the-lawn-jason-hall-beverly-heritage-center-4/
LOCATION:1841 County Jailhouse\, 1913 E Walnut St.\, Beverly\, WV\, 26253
CATEGORIES:Music
ORGANIZER;CN="Beverly Heritage Center":MAILTO:info@beverlyheritagecenter.org
END:VEVENT
BEGIN:VEVENT
DTSTART;TZID=America/New_York:20260520T203000
DTEND;TZID=America/New_York:20260520T223000
DTSTAMP:20260419T210959
CREATED:20260408T144311Z
LAST-MODIFIED:20260408T144311Z
UID:33692-1779309000-1779316200@elkinsrandolphwv.com
SUMMARY:Karaoke | Jimbo's Place
DESCRIPTION:Karaoke from 8pm-10:30pm every Wednesday hosted by Tim Gibson
URL:https://elkinsrandolphwv.com/event/karaoke-jimbos-place/2026-05-20/
LOCATION:Jimbo’s Place\, 302 Davis Avenue\, Elkins\, WV\, 26241\, United States
CATEGORIES:Entertainment,Food & Drink,Music
END:VEVENT
BEGIN:VEVENT
DTSTART;TZID=America/New_York:20260527T203000
DTEND;TZID=America/New_York:20260527T223000
DTSTAMP:20260419T210959
CREATED:20260408T144311Z
LAST-MODIFIED:20260408T144311Z
UID:33693-1779913800-1779921000@elkinsrandolphwv.com
SUMMARY:Karaoke | Jimbo's Place
DESCRIPTION:Karaoke from 8pm-10:30pm every Wednesday hosted by Tim Gibson
URL:https://elkinsrandolphwv.com/event/karaoke-jimbos-place/2026-05-27/
LOCATION:Jimbo’s Place\, 302 Davis Avenue\, Elkins\, WV\, 26241\, United States
CATEGORIES:Entertainment,Food & Drink,Music
END:VEVENT
BEGIN:VEVENT
DTSTART;VALUE=DATE:20260529
DTEND;VALUE=DATE:20260602
DTSTAMP:20260419T210959
CREATED:20260204T013539Z
LAST-MODIFIED:20260204T013539Z
UID:32841-1780020000-1780279199@elkinsrandolphwv.com
SUMMARY:Helvetia Hoot
DESCRIPTION:Helvetia Hoot is on for another round\, May 29-31 2026. Campout party (weekend after memorial day and before Mt Airy). Catch the best elder WV square dance callers\, jam all night and get puffed with fresh biscuits. Early bird tickets are available through March 1st.
URL:https://elkinsrandolphwv.com/event/helvetia-hoot-2/
LOCATION:Helvetia\, WV 26234\, USA\, 100 Old Helvetia Rd\, United States
CATEGORIES:Art & Culture,Music
GEO:38.760148;-80.25278
X-APPLE-STRUCTURED-LOCATION;VALUE=URI;X-ADDRESS=Helvetia WV 26234 USA 100 Old Helvetia Rd United States;X-APPLE-RADIUS=500;X-TITLE=100 Old Helvetia Rd:geo:-80.25278,38.760148
END:VEVENT
BEGIN:VEVENT
DTSTART;TZID=America/New_York:20260529T180000
DTEND;TZID=America/New_York:20260529T210000
DTSTAMP:20260419T210959
CREATED:20260412T135852Z
LAST-MODIFIED:20260412T135852Z
UID:33786-1780077600-1780088400@elkinsrandolphwv.com
SUMMARY:Gandy Dancer-Musical Legends
DESCRIPTION:Our Tribute dinner show salutes the performers that we all love and remember. Featuring entertainers such as Kenny Rogers\, Dolly Parton\, Waylon and Willie\, The Judds\, Tina Turner\, Elvis and many more.\nDinner included.\nDoors open at 5:30pm\nDinner Served at 6:00pm\nShow begins at 7:00pm\n\n\nContact information\n\n\n\n\n\n\n\n\n\n\n\n+1 304-636-4935\n\n\n\n\ninfo@gandydancertheatre.com
URL:https://elkinsrandolphwv.com/event/gandy-dancer-musical-legends/
LOCATION:Gandy Dancer Theatre and Conference Center\, 359 Beverly Pike\, Elkins\, WV 26241\, USA\, United States
CATEGORIES:Community,Entertainment,Food & Drink,Music
GEO:38.918641;-79.842607
END:VEVENT
BEGIN:VEVENT
DTSTART;TZID=America/New_York:20260530T180000
DTEND;TZID=America/New_York:20260530T210000
DTSTAMP:20260419T210959
CREATED:20260412T142614Z
LAST-MODIFIED:20260412T142732Z
UID:33807-1780164000-1780174800@elkinsrandolphwv.com
SUMMARY:Gandy Dancer -Premier Dinner Show
DESCRIPTION:Our featured two hour Premier Show offers a Branson-style dinner show with music ranging from the 50’s to today including country\, gospel\, patriotic plus family-friendly comedy. \nEnjoy fabulous entertainment\, beautiful dancers\, amazing performers and delicious food.
URL:https://elkinsrandolphwv.com/event/gandy-dancer-premier-dinner-show/
LOCATION:Gandy Dancer Theatre and Conference Center\, 359 Beverly Pike\, Elkins\, WV 26241\, USA\, United States
CATEGORIES:Community,Entertainment,Food & Drink,Music
GEO:38.918641;-79.842607
END:VEVENT
BEGIN:VEVENT
DTSTART;TZID=America/New_York:20260603T203000
DTEND;TZID=America/New_York:20260603T223000
DTSTAMP:20260419T210959
CREATED:20260408T144311Z
LAST-MODIFIED:20260408T144311Z
UID:33694-1780518600-1780525800@elkinsrandolphwv.com
SUMMARY:Karaoke | Jimbo's Place
DESCRIPTION:Karaoke from 8pm-10:30pm every Wednesday hosted by Tim Gibson
URL:https://elkinsrandolphwv.com/event/karaoke-jimbos-place/2026-06-03/
LOCATION:Jimbo’s Place\, 302 Davis Avenue\, Elkins\, WV\, 26241\, United States
CATEGORIES:Entertainment,Food & Drink,Music
END:VEVENT
BEGIN:VEVENT
DTSTART;TZID=America/New_York:20260605T180000
DTEND;TZID=America/New_York:20260605T210000
DTSTAMP:20260419T210959
CREATED:20260412T140058Z
LAST-MODIFIED:20260412T140058Z
UID:33789-1780682400-1780693200@elkinsrandolphwv.com
SUMMARY:Gandy Dancer-Musical Legends
DESCRIPTION:Our Tribute dinner show salutes the performers that we all love and remember. Featuring entertainers such as Kenny Rogers\, Dolly Parton\, Waylon and Willie\, The Judds\, Tina Turner\, Elvis and many more.\nDinner included.\nDoors open at 5:30pm\nDinner Served at 6:00pm\nShow begins at 7:00pm\n\n\nContact information\n\n\n\n\n\n\n\n\n\n\n\n+1 304-636-4935\n\n\n\n\ninfo@gandydancertheatre.com
URL:https://elkinsrandolphwv.com/event/gandy-dancer-musical-legends-2/2026-06-05/
LOCATION:Gandy Dancer Theatre and Conference Center\, 359 Beverly Pike\, Elkins\, WV 26241\, USA\, United States
CATEGORIES:Community,Entertainment,Food & Drink,Music
GEO:38.918641;-79.842607
END:VEVENT
BEGIN:VEVENT
DTSTART;TZID=UTC:20260606T130000
DTEND;TZID=UTC:20260606T230000
DTSTAMP:20260419T210959
CREATED:20260419T194244Z
LAST-MODIFIED:20260419T194600Z
UID:34087-1780750800-1780786800@elkinsrandolphwv.com
SUMMARY:Tacos\, Tats\, & Taps 2026 - Mini Music Festival
DESCRIPTION:Join us June 6 for our first ever Tacos\, Tats\, & Taps Mini Music FestivalFeaturing:•Bands•Vendors•Beer Truck•Flash Tattoos @ 3rd St. Tattoos•Taco Eating Contest•Food from Clementine’s Cantina& more!\nFREE ENTRY!21 to drink @ 122 Davis Ave\, Elkins(The Block In front of Clementine’s Cantina) \nMusic and Vendor Lineup will be announced soon!For information on becoming a vendor for this event\, please message Clementine’s Cantina.  Hosted by 3rd Street Tattoos and Clementine’s Cantina
URL:https://elkinsrandolphwv.com/event/tacos-tats-taps-2026-mini-music-festival/
LOCATION:Clementine’s Cantina\, 112 Davis Avenue\, Elkins\, WV
CATEGORIES:Entertainment,Fairs & Festivals,Food & Drink,Music,Outdoor Activities
END:VEVENT
BEGIN:VEVENT
DTSTART;TZID=America/New_York:20260610T180000
DTEND;TZID=America/New_York:20260610T210000
DTSTAMP:20260419T210959
CREATED:20260412T140058Z
LAST-MODIFIED:20260412T140058Z
UID:33790-1781114400-1781125200@elkinsrandolphwv.com
SUMMARY:Gandy Dancer-Musical Legends
DESCRIPTION:Our Tribute dinner show salutes the performers that we all love and remember. Featuring entertainers such as Kenny Rogers\, Dolly Parton\, Waylon and Willie\, The Judds\, Tina Turner\, Elvis and many more.\nDinner included.\nDoors open at 5:30pm\nDinner Served at 6:00pm\nShow begins at 7:00pm\n\n\nContact information\n\n\n\n\n\n\n\n\n\n\n\n+1 304-636-4935\n\n\n\n\ninfo@gandydancertheatre.com
URL:https://elkinsrandolphwv.com/event/gandy-dancer-musical-legends-2/2026-06-10/
LOCATION:Gandy Dancer Theatre and Conference Center\, 359 Beverly Pike\, Elkins\, WV 26241\, USA\, United States
CATEGORIES:Community,Entertainment,Food & Drink,Music
GEO:38.918641;-79.842607
END:VEVENT
BEGIN:VEVENT
DTSTART;TZID=America/New_York:20260610T203000
DTEND;TZID=America/New_York:20260610T223000
DTSTAMP:20260419T210959
CREATED:20260408T144311Z
LAST-MODIFIED:20260408T144311Z
UID:33695-1781123400-1781130600@elkinsrandolphwv.com
SUMMARY:Karaoke | Jimbo's Place
DESCRIPTION:Karaoke from 8pm-10:30pm every Wednesday hosted by Tim Gibson
URL:https://elkinsrandolphwv.com/event/karaoke-jimbos-place/2026-06-10/
LOCATION:Jimbo’s Place\, 302 Davis Avenue\, Elkins\, WV\, 26241\, United States
CATEGORIES:Entertainment,Food & Drink,Music
END:VEVENT
BEGIN:VEVENT
DTSTART;TZID=America/New_York:20260612T180000
DTEND;TZID=America/New_York:20260612T210000
DTSTAMP:20260419T210959
CREATED:20260412T140058Z
LAST-MODIFIED:20260412T140058Z
UID:33791-1781287200-1781298000@elkinsrandolphwv.com
SUMMARY:Gandy Dancer-Musical Legends
DESCRIPTION:Our Tribute dinner show salutes the performers that we all love and remember. Featuring entertainers such as Kenny Rogers\, Dolly Parton\, Waylon and Willie\, The Judds\, Tina Turner\, Elvis and many more.\nDinner included.\nDoors open at 5:30pm\nDinner Served at 6:00pm\nShow begins at 7:00pm\n\n\nContact information\n\n\n\n\n\n\n\n\n\n\n\n+1 304-636-4935\n\n\n\n\ninfo@gandydancertheatre.com
URL:https://elkinsrandolphwv.com/event/gandy-dancer-musical-legends-2/2026-06-12/
LOCATION:Gandy Dancer Theatre and Conference Center\, 359 Beverly Pike\, Elkins\, WV 26241\, USA\, United States
CATEGORIES:Community,Entertainment,Food & Drink,Music
GEO:38.918641;-79.842607
END:VEVENT
BEGIN:VEVENT
DTSTART;TZID=America/New_York:20260617T180000
DTEND;TZID=America/New_York:20260617T210000
DTSTAMP:20260419T210959
CREATED:20260412T140058Z
LAST-MODIFIED:20260412T140058Z
UID:33792-1781719200-1781730000@elkinsrandolphwv.com
SUMMARY:Gandy Dancer-Musical Legends
DESCRIPTION:Our Tribute dinner show salutes the performers that we all love and remember. Featuring entertainers such as Kenny Rogers\, Dolly Parton\, Waylon and Willie\, The Judds\, Tina Turner\, Elvis and many more.\nDinner included.\nDoors open at 5:30pm\nDinner Served at 6:00pm\nShow begins at 7:00pm\n\n\nContact information\n\n\n\n\n\n\n\n\n\n\n\n+1 304-636-4935\n\n\n\n\ninfo@gandydancertheatre.com
URL:https://elkinsrandolphwv.com/event/gandy-dancer-musical-legends-2/2026-06-17/
LOCATION:Gandy Dancer Theatre and Conference Center\, 359 Beverly Pike\, Elkins\, WV 26241\, USA\, United States
CATEGORIES:Community,Entertainment,Food & Drink,Music
GEO:38.918641;-79.842607
END:VEVENT
BEGIN:VEVENT
DTSTART;TZID=America/New_York:20260617T203000
DTEND;TZID=America/New_York:20260617T223000
DTSTAMP:20260419T210959
CREATED:20260408T144311Z
LAST-MODIFIED:20260408T144311Z
UID:33696-1781728200-1781735400@elkinsrandolphwv.com
SUMMARY:Karaoke | Jimbo's Place
DESCRIPTION:Karaoke from 8pm-10:30pm every Wednesday hosted by Tim Gibson
URL:https://elkinsrandolphwv.com/event/karaoke-jimbos-place/2026-06-17/
LOCATION:Jimbo’s Place\, 302 Davis Avenue\, Elkins\, WV\, 26241\, United States
CATEGORIES:Entertainment,Food & Drink,Music
END:VEVENT
BEGIN:VEVENT
DTSTART;TZID=America/New_York:20260619T180000
DTEND;TZID=America/New_York:20260619T210000
DTSTAMP:20260419T210959
CREATED:20260412T140058Z
LAST-MODIFIED:20260412T140058Z
UID:33793-1781892000-1781902800@elkinsrandolphwv.com
SUMMARY:Gandy Dancer-Musical Legends
DESCRIPTION:Our Tribute dinner show salutes the performers that we all love and remember. Featuring entertainers such as Kenny Rogers\, Dolly Parton\, Waylon and Willie\, The Judds\, Tina Turner\, Elvis and many more.\nDinner included.\nDoors open at 5:30pm\nDinner Served at 6:00pm\nShow begins at 7:00pm\n\n\nContact information\n\n\n\n\n\n\n\n\n\n\n\n+1 304-636-4935\n\n\n\n\ninfo@gandydancertheatre.com
URL:https://elkinsrandolphwv.com/event/gandy-dancer-musical-legends-2/2026-06-19/
LOCATION:Gandy Dancer Theatre and Conference Center\, 359 Beverly Pike\, Elkins\, WV 26241\, USA\, United States
CATEGORIES:Community,Entertainment,Food & Drink,Music
GEO:38.918641;-79.842607
END:VEVENT
BEGIN:VEVENT
DTSTART;TZID=America/New_York:20260624T180000
DTEND;TZID=America/New_York:20260624T210000
DTSTAMP:20260419T210959
CREATED:20260412T140058Z
LAST-MODIFIED:20260412T140058Z
UID:33794-1782324000-1782334800@elkinsrandolphwv.com
SUMMARY:Gandy Dancer-Musical Legends
DESCRIPTION:Our Tribute dinner show salutes the performers that we all love and remember. Featuring entertainers such as Kenny Rogers\, Dolly Parton\, Waylon and Willie\, The Judds\, Tina Turner\, Elvis and many more.\nDinner included.\nDoors open at 5:30pm\nDinner Served at 6:00pm\nShow begins at 7:00pm\n\n\nContact information\n\n\n\n\n\n\n\n\n\n\n\n+1 304-636-4935\n\n\n\n\ninfo@gandydancertheatre.com
URL:https://elkinsrandolphwv.com/event/gandy-dancer-musical-legends-2/2026-06-24/
LOCATION:Gandy Dancer Theatre and Conference Center\, 359 Beverly Pike\, Elkins\, WV 26241\, USA\, United States
CATEGORIES:Community,Entertainment,Food & Drink,Music
GEO:38.918641;-79.842607
END:VEVENT
BEGIN:VEVENT
DTSTART;TZID=America/New_York:20260624T203000
DTEND;TZID=America/New_York:20260624T223000
DTSTAMP:20260419T210959
CREATED:20260408T144311Z
LAST-MODIFIED:20260408T144311Z
UID:33698-1782333000-1782340200@elkinsrandolphwv.com
SUMMARY:Karaoke | Jimbo's Place
DESCRIPTION:Karaoke from 8pm-10:30pm every Wednesday hosted by Tim Gibson
URL:https://elkinsrandolphwv.com/event/karaoke-jimbos-place/2026-06-24/
LOCATION:Jimbo’s Place\, 302 Davis Avenue\, Elkins\, WV\, 26241\, United States
CATEGORIES:Entertainment,Food & Drink,Music
END:VEVENT
BEGIN:VEVENT
DTSTART;TZID=America/New_York:20260626T180000
DTEND;TZID=America/New_York:20260626T210000
DTSTAMP:20260419T210959
CREATED:20260412T140058Z
LAST-MODIFIED:20260412T140058Z
UID:33795-1782496800-1782507600@elkinsrandolphwv.com
SUMMARY:Gandy Dancer-Musical Legends
DESCRIPTION:Our Tribute dinner show salutes the performers that we all love and remember. Featuring entertainers such as Kenny Rogers\, Dolly Parton\, Waylon and Willie\, The Judds\, Tina Turner\, Elvis and many more.\nDinner included.\nDoors open at 5:30pm\nDinner Served at 6:00pm\nShow begins at 7:00pm\n\n\nContact information\n\n\n\n\n\n\n\n\n\n\n\n+1 304-636-4935\n\n\n\n\ninfo@gandydancertheatre.com
URL:https://elkinsrandolphwv.com/event/gandy-dancer-musical-legends-2/2026-06-26/
LOCATION:Gandy Dancer Theatre and Conference Center\, 359 Beverly Pike\, Elkins\, WV 26241\, USA\, United States
CATEGORIES:Community,Entertainment,Food & Drink,Music
GEO:38.918641;-79.842607
END:VEVENT
BEGIN:VEVENT
DTSTART;TZID=America/New_York:20260701T203000
DTEND;TZID=America/New_York:20260701T223000
DTSTAMP:20260419T210959
CREATED:20260408T144311Z
LAST-MODIFIED:20260408T144311Z
UID:33699-1782937800-1782945000@elkinsrandolphwv.com
SUMMARY:Karaoke | Jimbo's Place
DESCRIPTION:Karaoke from 8pm-10:30pm every Wednesday hosted by Tim Gibson
URL:https://elkinsrandolphwv.com/event/karaoke-jimbos-place/2026-07-01/
LOCATION:Jimbo’s Place\, 302 Davis Avenue\, Elkins\, WV\, 26241\, United States
CATEGORIES:Entertainment,Food & Drink,Music
END:VEVENT
BEGIN:VEVENT
DTSTART;TZID=America/New_York:20260708T180000
DTEND;TZID=America/New_York:20260708T210000
DTSTAMP:20260419T210959
CREATED:20260412T140311Z
LAST-MODIFIED:20260412T140311Z
UID:33797-1783533600-1783544400@elkinsrandolphwv.com
SUMMARY:Gandy Dancer-Musical Legends
DESCRIPTION:Our Tribute dinner show salutes the performers that we all love and remember. Featuring entertainers such as Kenny Rogers\, Dolly Parton\, Waylon and Willie\, The Judds\, Tina Turner\, Elvis and many more.\nDinner included.\nDoors open at 5:30pm\nDinner Served at 6:00pm\nShow begins at 7:00pm\n\n\nContact information\n\n\n\n\n\n\n\n\n\n\n\n+1 304-636-4935\n\n\n\n\ninfo@gandydancertheatre.com
URL:https://elkinsrandolphwv.com/event/gandy-dancer-musical-legends-3/
LOCATION:Gandy Dancer Theatre and Conference Center\, 359 Beverly Pike\, Elkins\, WV 26241\, USA\, United States
CATEGORIES:Community,Entertainment,Food & Drink,Music
GEO:38.918641;-79.842607
END:VEVENT
BEGIN:VEVENT
DTSTART;TZID=America/New_York:20260708T203000
DTEND;TZID=America/New_York:20260708T223000
DTSTAMP:20260419T210959
CREATED:20260408T144311Z
LAST-MODIFIED:20260408T144311Z
UID:33700-1783542600-1783549800@elkinsrandolphwv.com
SUMMARY:Karaoke | Jimbo's Place
DESCRIPTION:Karaoke from 8pm-10:30pm every Wednesday hosted by Tim Gibson
URL:https://elkinsrandolphwv.com/event/karaoke-jimbos-place/2026-07-08/
LOCATION:Jimbo’s Place\, 302 Davis Avenue\, Elkins\, WV\, 26241\, United States
CATEGORIES:Entertainment,Food & Drink,Music
END:VEVENT
BEGIN:VEVENT
DTSTART;TZID=America/New_York:20260709T180000
DTEND;TZID=America/New_York:20260709T210000
DTSTAMP:20260419T210959
CREATED:20260412T143128Z
LAST-MODIFIED:20260412T143347Z
UID:33810-1783620000-1783630800@elkinsrandolphwv.com
SUMMARY:Gandy Dancer -Premier Dinner Show
DESCRIPTION:Our featured two hour Premier Show offers a Branson-style dinner show with music ranging from the 50’s to today including country\, gospel\, patriotic plus family-friendly comedy. \nEnjoy fabulous entertainment\, beautiful dancers\, amazing performers and delicious food.
URL:https://elkinsrandolphwv.com/event/gandy-dancer-premier-dinner-show-2/2026-07-09/
LOCATION:Gandy Dancer Theatre and Conference Center\, 359 Beverly Pike\, Elkins\, WV 26241\, USA\, United States
CATEGORIES:Community,Entertainment,Food & Drink,Music
GEO:38.918641;-79.842607
END:VEVENT
BEGIN:VEVENT
DTSTART;TZID=America/New_York:20260709T193000
DTEND;TZID=America/New_York:20260709T213000
DTSTAMP:20260419T210959
CREATED:20260313T182541Z
LAST-MODIFIED:20260313T182541Z
UID:33247-1783625400-1783632600@elkinsrandolphwv.com
SUMMARY:Augusta Concert Series:  Cajun and Country Concert
DESCRIPTION:Augusta events summer ’26
URL:https://elkinsrandolphwv.com/event/augusta-concert-series-cajun-and-country-concert-2/
LOCATION:Rotary Ampitheatre in Elkins Town Square\, 315 Railroad Avenue\, Elkins\, WV\, 26241\, United States\, 2 Railroad Ave\, United States
CATEGORIES:Community,Music,Outdoors
GEO:38.92313;-79.851004
X-APPLE-STRUCTURED-LOCATION;VALUE=URI;X-ADDRESS=Rotary Ampitheatre in Elkins Town Square 315 Railroad Avenue Elkins WV 26241 United States 2 Railroad Ave United States;X-APPLE-RADIUS=500;X-TITLE=2 Railroad Ave:geo:-79.851004,38.92313
END:VEVENT
BEGIN:VEVENT
DTSTART;TZID=America/New_York:20260710T180000
DTEND;TZID=America/New_York:20260710T210000
DTSTAMP:20260419T210959
CREATED:20260412T140541Z
LAST-MODIFIED:20260412T140541Z
UID:33799-1783706400-1783717200@elkinsrandolphwv.com
SUMMARY:Gandy Dancer-Musical Legends
DESCRIPTION:Our Tribute dinner show salutes the performers that we all love and remember. Featuring entertainers such as Kenny Rogers\, Dolly Parton\, Waylon and Willie\, The Judds\, Tina Turner\, Elvis and many more.\nDinner included.\nDoors open at 5:30pm\nDinner Served at 6:00pm\nShow begins at 7:00pm\n\n\nContact information\n\n\n\n\n\n\n\n\n\n\n\n+1 304-636-4935\n\n\n\n\ninfo@gandydancertheatre.com
URL:https://elkinsrandolphwv.com/event/gandy-dancer-musical-legends-4/
LOCATION:Gandy Dancer Theatre and Conference Center\, 359 Beverly Pike\, Elkins\, WV 26241\, USA\, United States
CATEGORIES:Community,Entertainment,Food & Drink,Music
GEO:38.918641;-79.842607
END:VEVENT
BEGIN:VEVENT
DTSTART;TZID=America/New_York:20260711T180000
DTEND;TZID=America/New_York:20260711T210000
DTSTAMP:20260419T210959
CREATED:20260412T143128Z
LAST-MODIFIED:20260412T143128Z
UID:33819-1783792800-1783803600@elkinsrandolphwv.com
SUMMARY:Gandy Dancer -Premier Dinner Show
DESCRIPTION:Our featured two hour Premier Show offers a Branson-style dinner show with music ranging from the 50’s to today including country\, gospel\, patriotic plus family-friendly comedy. \nEnjoy fabulous entertainment\, beautiful dancers\, amazing performers and delicious food.
URL:https://elkinsrandolphwv.com/event/gandy-dancer-premier-dinner-show-2/2026-07-11/
LOCATION:Gandy Dancer Theatre and Conference Center\, 359 Beverly Pike\, Elkins\, WV 26241\, USA\, United States
CATEGORIES:Community,Entertainment,Food & Drink,Music
GEO:38.918641;-79.842607
END:VEVENT
BEGIN:VEVENT
DTSTART;TZID=America/New_York:20260715T120000
DTEND;TZID=America/New_York:20260715T130000
DTSTAMP:20260419T210959
CREATED:20260409T150833Z
LAST-MODIFIED:20260409T150833Z
UID:33773-1784116800-1784120400@elkinsrandolphwv.com
SUMMARY:Brown Bag Concert ft. Doug Spears | The Arts Center
DESCRIPTION:Wednesday\, July 15th\, from 12-1PM- July Brown Bag Concert ft. Doug Spears\nWith sand in his blood and orange blossom honey in his soul\, Doug Spears is a fifth-generation Florida native whose songs often reflect the backroads and deep-rooted stories of his rural heritage. For more than 30 years\, Doug has brought his distinctive blend of storytelling\, songwriting\, and musicianship to listening rooms\, house concerts\, festivals\, and concert venues across the country.  That touring led him through northern WV where he fell in love with its natural beauty and the kind\, generous folks that call it home.\n Rooted in the Americana and folk traditions\, Doug’s warm acoustic sound draws comparisons to iconic singer-songwriters like Gordon Lightfoot\, John Denver\, and James Taylor.   His music is marked by thoughtful lyrics\, memorable melodies\, and a natural ease on stage that invites audiences to lean in and listen.  Doug’s original songs have been heard on independent radio throughout the United States\, Canada\, Australia\, and Europe\, earning him a loyal following wherever he travels.  In every performance he delivers songs that feel both deeply personal and universally familiar—music rooted in place\, shaped by time\, and carried by a storyteller who knows exactly where he comes from.  Doug and his wife\, Judy\, make their homes in Flagler Beach\, Florida\, and Parsons\, West Virginia. Free to attend thanks to our sponsor\, Davis Trust Company. 
URL:https://elkinsrandolphwv.com/event/brown-bag-concert-ft-doug-spears-the-arts-center/
LOCATION:The Arts Center\, aka Randolph Co. Community Arts Council\, 2 Park St\, Elkins\, WV\, 26241\, United States
CATEGORIES:Music
GEO:38.924095;-79.850318
X-APPLE-STRUCTURED-LOCATION;VALUE=URI;X-ADDRESS=The Arts Center aka Randolph Co. Community Arts Council 2 Park St Elkins WV 26241 United States;X-APPLE-RADIUS=500;X-TITLE=2 Park St:geo:-79.850318,38.924095
END:VEVENT
BEGIN:VEVENT
DTSTART;TZID=America/New_York:20260715T203000
DTEND;TZID=America/New_York:20260715T223000
DTSTAMP:20260419T210959
CREATED:20260408T144311Z
LAST-MODIFIED:20260408T144311Z
UID:33701-1784147400-1784154600@elkinsrandolphwv.com
SUMMARY:Karaoke | Jimbo's Place
DESCRIPTION:Karaoke from 8pm-10:30pm every Wednesday hosted by Tim Gibson
URL:https://elkinsrandolphwv.com/event/karaoke-jimbos-place/2026-07-15/
LOCATION:Jimbo’s Place\, 302 Davis Avenue\, Elkins\, WV\, 26241\, United States
CATEGORIES:Entertainment,Food & Drink,Music
END:VEVENT
BEGIN:VEVENT
DTSTART;TZID=America/New_York:20260716T180000
DTEND;TZID=America/New_York:20260716T210000
DTSTAMP:20260419T210959
CREATED:20260412T143128Z
LAST-MODIFIED:20260412T143128Z
UID:33820-1784224800-1784235600@elkinsrandolphwv.com
SUMMARY:Gandy Dancer -Premier Dinner Show
DESCRIPTION:Our featured two hour Premier Show offers a Branson-style dinner show with music ranging from the 50’s to today including country\, gospel\, patriotic plus family-friendly comedy. \nEnjoy fabulous entertainment\, beautiful dancers\, amazing performers and delicious food.
URL:https://elkinsrandolphwv.com/event/gandy-dancer-premier-dinner-show-2/2026-07-16/
LOCATION:Gandy Dancer Theatre and Conference Center\, 359 Beverly Pike\, Elkins\, WV 26241\, USA\, United States
CATEGORIES:Community,Entertainment,Food & Drink,Music
GEO:38.918641;-79.842607
END:VEVENT
BEGIN:VEVENT
DTSTART;TZID=America/New_York:20260716T193000
DTEND;TZID=America/New_York:20260716T213000
DTSTAMP:20260419T210959
CREATED:20260313T181935Z
LAST-MODIFIED:20260313T182334Z
UID:33242-1784230200-1784237400@elkinsrandolphwv.com
SUMMARY:Augusta Concert Series: Blues Concert
DESCRIPTION:Augusta events summer ’26
URL:https://elkinsrandolphwv.com/event/augusta-concert-series-cajun-and-country-concert/
LOCATION:Rotary Ampitheatre in Elkins Town Square\, 315 Railroad Avenue\, Elkins\, WV\, 26241\, United States\, 2 Railroad Ave\, United States
CATEGORIES:Community,Music,Outdoors
GEO:38.92313;-79.851004
X-APPLE-STRUCTURED-LOCATION;VALUE=URI;X-ADDRESS=Rotary Ampitheatre in Elkins Town Square 315 Railroad Avenue Elkins WV 26241 United States 2 Railroad Ave United States;X-APPLE-RADIUS=500;X-TITLE=2 Railroad Ave:geo:-79.851004,38.92313
END:VEVENT
END:VCALENDAR