BEGIN:VCALENDAR
VERSION:2.0
PRODID:-//Elkins-Randolph County Tourism - ECPv6.15.17.1//NONSGML v1.0//EN
CALSCALE:GREGORIAN
METHOD:PUBLISH
X-WR-CALNAME:Elkins-Randolph County Tourism
X-ORIGINAL-URL:https://elkinsrandolphwv.com
X-WR-CALDESC:Events for Elkins-Randolph County Tourism
REFRESH-INTERVAL;VALUE=DURATION:PT1H
X-Robots-Tag:noindex
X-PUBLISHED-TTL:PT1H
BEGIN:VTIMEZONE
TZID:UTC
BEGIN:STANDARD
TZOFFSETFROM:+0000
TZOFFSETTO:+0000
TZNAME:UTC
DTSTART:20250101T000000
END:STANDARD
END:VTIMEZONE
BEGIN:VTIMEZONE
TZID:America/New_York
BEGIN:DAYLIGHT
TZOFFSETFROM:-0500
TZOFFSETTO:-0400
TZNAME:EDT
DTSTART:20250309T070000
END:DAYLIGHT
BEGIN:STANDARD
TZOFFSETFROM:-0400
TZOFFSETTO:-0500
TZNAME:EST
DTSTART:20251102T060000
END:STANDARD
BEGIN:DAYLIGHT
TZOFFSETFROM:-0500
TZOFFSETTO:-0400
TZNAME:EDT
DTSTART:20260308T070000
END:DAYLIGHT
BEGIN:STANDARD
TZOFFSETFROM:-0400
TZOFFSETTO:-0500
TZNAME:EST
DTSTART:20261101T060000
END:STANDARD
BEGIN:DAYLIGHT
TZOFFSETFROM:-0500
TZOFFSETTO:-0400
TZNAME:EDT
DTSTART:20270314T070000
END:DAYLIGHT
BEGIN:STANDARD
TZOFFSETFROM:-0400
TZOFFSETTO:-0500
TZNAME:EST
DTSTART:20271107T060000
END:STANDARD
END:VTIMEZONE
BEGIN:VEVENT
DTSTART;TZID=UTC:20260401T170000
DTEND;TZID=UTC:20260401T210000
DTSTAMP:20260419T123158
CREATED:20260401T190101Z
LAST-MODIFIED:20260401T190101Z
UID:33519-1775062800-1775077200@elkinsrandolphwv.com
SUMMARY:Wine Down Wednesday- Graceland Inn
DESCRIPTION:
URL:https://elkinsrandolphwv.com/event/wine-down-wednesday-graceland-inn-19/2026-04-01/
LOCATION:Graceland Inn and Restaurant\, 100 Campus Drive\, Elkins\, WV\, 26241\, United States
CATEGORIES:Food & Drink,Music
END:VEVENT
BEGIN:VEVENT
DTSTART;TZID=America/New_York:20260403T190000
DTEND;TZID=America/New_York:20260403T220000
DTSTAMP:20260419T123158
CREATED:20260330T134700Z
LAST-MODIFIED:20260330T134739Z
UID:33401-1775242800-1775253600@elkinsrandolphwv.com
SUMMARY:Live Music: Echoes from the Fire | Big Timber Brewing
DESCRIPTION:May we have your attention!!! Echoes from the Fire will be playing Big Timber Brewing Friday April 3\, 2026 🔥. 7:00 pm until 10 pm.
URL:https://elkinsrandolphwv.com/event/live-music-echoes-from-the-fire-big-timber-brewing/
LOCATION:Big Timber Brewing\, 2 Davis Avenue\, Elkins\, WV\, 26241\, United States
CATEGORIES:Music
END:VEVENT
BEGIN:VEVENT
DTSTART;TZID=America/New_York:20260404T193000
DTEND;TZID=America/New_York:20260404T220000
DTSTAMP:20260419T123158
CREATED:20260330T135358Z
LAST-MODIFIED:20260330T135358Z
UID:33404-1775331000-1775340000@elkinsrandolphwv.com
SUMMARY:Live Music: Tiffany & Joel | Oxley House
DESCRIPTION:Tiffany & Joel\, “Duet Better” by creating an entertaining musical experience. Whether performing gospel\, jazz\, blues\, pop or country\, their tight harmonies and heartfelt delivery resonate deeply with audiences. Known for their authenticity and passion\, this duo is winning hearts and creating moments that linger long after the final note.\n🎤 Saturday\, April 4th\, 2026\n✨ 7:30 – 10:00 p.m.\n📍Oxley House Cocktail Bar inside the Tygart Hotel
URL:https://elkinsrandolphwv.com/event/live-music-tiffany-joel-oxley-house-2/
LOCATION:Oxley House\, 206 Davis Avenue\, Elkins\, WV
CATEGORIES:Music
END:VEVENT
BEGIN:VEVENT
DTSTART;TZID=UTC:20260405T110000
DTEND;TZID=UTC:20260405T143000
DTSTAMP:20260419T123158
CREATED:20260401T190253Z
LAST-MODIFIED:20260401T190253Z
UID:33525-1775386800-1775399400@elkinsrandolphwv.com
SUMMARY:Brunch & Bubbles | Graceland Inn & Restaurant
DESCRIPTION:Brunch & Bubbles Today! \n\n\nJoin us today at Graceland Inn & Restaurant for a relaxing late-morning escape filled with delicious flavors\, sparkling drinks\, and great music.\n\n\nEnjoy our brunch buffet from 11:00 AM – 2:30 PM\, featuring a variety of chef-prepared favorites perfect for a leisurely Sunday. Then sit back\, sip your mimosas\, and take in live music 12:00 PM – 2:00 PM — the perfect soundtrack to a cozy afternoon on the hill.\n\n\nBring your friends\, bring your appetite\, and let us make your Sunday special. \n\n\n Reservations: 304.637.1600\n Reserve Online: gracelandinnrestaurant.com\n\n\n#BrunchAndBubbles #GracelandInn #SundayBrunch #ElkinsWV #DavisAndElkins #AlmostHeaven #WestVirginiaEats #SupportLocal #BrunchVibes #LiveMusic #MountainStateMoments #wvtourism #ElkinsRandolph #unexpectedlycool
URL:https://elkinsrandolphwv.com/event/brunch-bubbles-graceland-inn-restaurant-18/2026-04-05/
LOCATION:Graceland Inn and Restaurant\, 100 Campus Drive\, Elkins\, WV\, 26241\, United States
CATEGORIES:Entertainment,Food & Drink,Music
END:VEVENT
BEGIN:VEVENT
DTSTART;TZID=UTC:20260408T170000
DTEND;TZID=UTC:20260408T210000
DTSTAMP:20260419T123158
CREATED:20260401T190101Z
LAST-MODIFIED:20260401T190101Z
UID:33520-1775667600-1775682000@elkinsrandolphwv.com
SUMMARY:Wine Down Wednesday- Graceland Inn
DESCRIPTION:
URL:https://elkinsrandolphwv.com/event/wine-down-wednesday-graceland-inn-19/2026-04-08/
LOCATION:Graceland Inn and Restaurant\, 100 Campus Drive\, Elkins\, WV\, 26241\, United States
CATEGORIES:Food & Drink,Music
END:VEVENT
BEGIN:VEVENT
DTSTART;TZID=America/New_York:20260408T203000
DTEND;TZID=America/New_York:20260408T223000
DTSTAMP:20260419T123158
CREATED:20260408T144311Z
LAST-MODIFIED:20260408T144311Z
UID:33685-1775680200-1775687400@elkinsrandolphwv.com
SUMMARY:Karaoke | Jimbo's Place
DESCRIPTION:Karaoke from 8pm-10:30pm every Wednesday hosted by Tim Gibson
URL:https://elkinsrandolphwv.com/event/karaoke-jimbos-place/2026-04-08/
LOCATION:Jimbo’s Place\, 302 Davis Avenue\, Elkins\, WV\, 26241\, United States
CATEGORIES:Entertainment,Food & Drink,Music
END:VEVENT
BEGIN:VEVENT
DTSTART;TZID=America/New_York:20260411T193000
DTEND;TZID=America/New_York:20260411T220000
DTSTAMP:20260419T123158
CREATED:20260330T135557Z
LAST-MODIFIED:20260330T135557Z
UID:33406-1775935800-1775944800@elkinsrandolphwv.com
SUMMARY:Live Music: JP Chandler | Oxley House
DESCRIPTION:Join us for an evening with JP Chandler\, a seasoned singer-songwriter with over 35 years of experience captivating audiences across West Virginia and Ohio.\nBlending country\, rock\, southern rock\, folk\, and pop\, JP delivers a dynamic mix of originals and covers—paired with storytelling that brings every song to life. With performances spanning major regional events and countless venues\, his music resonates with a wide range of listeners.\n🎸 Saturday\, April 11\, 2026\n🕢 7:30 – 10:00 PM\n📍 Oxley House Cocktail Bar & Restaurant
URL:https://elkinsrandolphwv.com/event/live-music-jp-chandler-oxley-house/
LOCATION:Oxley House\, 206 Davis Avenue\, Elkins\, WV
CATEGORIES:Music
END:VEVENT
BEGIN:VEVENT
DTSTART;TZID=UTC:20260412T110000
DTEND;TZID=UTC:20260412T143000
DTSTAMP:20260419T123158
CREATED:20260401T190253Z
LAST-MODIFIED:20260401T190253Z
UID:33526-1775991600-1776004200@elkinsrandolphwv.com
SUMMARY:Brunch & Bubbles | Graceland Inn & Restaurant
DESCRIPTION:Brunch & Bubbles Today! \n\n\nJoin us today at Graceland Inn & Restaurant for a relaxing late-morning escape filled with delicious flavors\, sparkling drinks\, and great music.\n\n\nEnjoy our brunch buffet from 11:00 AM – 2:30 PM\, featuring a variety of chef-prepared favorites perfect for a leisurely Sunday. Then sit back\, sip your mimosas\, and take in live music 12:00 PM – 2:00 PM — the perfect soundtrack to a cozy afternoon on the hill.\n\n\nBring your friends\, bring your appetite\, and let us make your Sunday special. \n\n\n Reservations: 304.637.1600\n Reserve Online: gracelandinnrestaurant.com\n\n\n#BrunchAndBubbles #GracelandInn #SundayBrunch #ElkinsWV #DavisAndElkins #AlmostHeaven #WestVirginiaEats #SupportLocal #BrunchVibes #LiveMusic #MountainStateMoments #wvtourism #ElkinsRandolph #unexpectedlycool
URL:https://elkinsrandolphwv.com/event/brunch-bubbles-graceland-inn-restaurant-18/2026-04-12/
LOCATION:Graceland Inn and Restaurant\, 100 Campus Drive\, Elkins\, WV\, 26241\, United States
CATEGORIES:Entertainment,Food & Drink,Music
END:VEVENT
BEGIN:VEVENT
DTSTART;TZID=UTC:20260415T170000
DTEND;TZID=UTC:20260415T210000
DTSTAMP:20260419T123158
CREATED:20260401T190101Z
LAST-MODIFIED:20260401T190101Z
UID:33521-1776272400-1776286800@elkinsrandolphwv.com
SUMMARY:Wine Down Wednesday- Graceland Inn
DESCRIPTION:
URL:https://elkinsrandolphwv.com/event/wine-down-wednesday-graceland-inn-19/2026-04-15/
LOCATION:Graceland Inn and Restaurant\, 100 Campus Drive\, Elkins\, WV\, 26241\, United States
CATEGORIES:Food & Drink,Music
END:VEVENT
BEGIN:VEVENT
DTSTART;TZID=America/New_York:20260415T203000
DTEND;TZID=America/New_York:20260415T223000
DTSTAMP:20260419T123158
CREATED:20260408T144311Z
LAST-MODIFIED:20260408T144311Z
UID:33687-1776285000-1776292200@elkinsrandolphwv.com
SUMMARY:Karaoke | Jimbo's Place
DESCRIPTION:Karaoke from 8pm-10:30pm every Wednesday hosted by Tim Gibson
URL:https://elkinsrandolphwv.com/event/karaoke-jimbos-place/2026-04-15/
LOCATION:Jimbo’s Place\, 302 Davis Avenue\, Elkins\, WV\, 26241\, United States
CATEGORIES:Entertainment,Food & Drink,Music
END:VEVENT
BEGIN:VEVENT
DTSTART;TZID=America/New_York:20260417T190000
DTEND;TZID=America/New_York:20260417T210000
DTSTAMP:20260419T123158
CREATED:20260409T142157Z
LAST-MODIFIED:20260409T142157Z
UID:33766-1776452400-1776459600@elkinsrandolphwv.com
SUMMARY:Cajun Dance | Big Timber Brewing
DESCRIPTION:
URL:https://elkinsrandolphwv.com/event/cajun-dance-big-timber-brewing/
LOCATION:Big Timber Brewing\, 2 Davis Avenue\, Elkins\, WV\, 26241\, United States
CATEGORIES:Art & Culture,Food & Drink,Music
END:VEVENT
BEGIN:VEVENT
DTSTART;TZID=UTC:20260418T173000
DTEND;TZID=UTC:20260418T193000
DTSTAMP:20260419T123158
CREATED:20260302T213709Z
LAST-MODIFIED:20260414T153825Z
UID:33095-1776533400-1776540600@elkinsrandolphwv.com
SUMMARY:Live in the Lodge: Grayson Samples | Beverly Heritage Center
DESCRIPTION:Grayson Samples has been a WV performer for over 30 years.  His style of Appalachian musical influences intertwine with other genres to create his own sound. With original music and many other styles\, this show will leave you smiling and tapping your toes! Saturday\, April 18th from 5:30-7:30 PM. Outdoors on the historic 1841 Jail House lawn (weather permitting). Rain venue is the Beverly IOOF Great Hall (across the street from the Beverly Heritage Center). Guests are encouraged to bring a lawn chair and refreshments. FREE! Thanks to Davis Trust Company for sponsoring this concert.
URL:https://elkinsrandolphwv.com/event/live-on-the-lawn-grayson-samples-beverly-heritage-center/
LOCATION:Beverly I.O.O.F. Building\, 718 Main St\, Beverly\, WV\, 26253\, United States
CATEGORIES:Music
ORGANIZER;CN="Beverly Heritage Center":MAILTO:info@beverlyheritagecenter.org
END:VEVENT
BEGIN:VEVENT
DTSTART;TZID=America/New_York:20260418T200000
DTEND;TZID=America/New_York:20260418T233000
DTSTAMP:20260419T123158
CREATED:20260414T182840Z
LAST-MODIFIED:20260414T182840Z
UID:34045-1776542400-1776555000@elkinsrandolphwv.com
SUMMARY:Country Music Dance Night | Jimbo's Place
DESCRIPTION:DJ Shane Flanagan is ready to bring it this Saturday Night with our 1st Ever All Country Music Night. Dress in your favorite country outfits and dance the night away. We will see you soon!!
URL:https://elkinsrandolphwv.com/event/country-music-dance-night-jimbos-place/
LOCATION:Jimbo’s Place\, 302 Davis Avenue\, Elkins\, WV\, 26241\, United States
CATEGORIES:Entertainment,Food & Drink,Music
END:VEVENT
BEGIN:VEVENT
DTSTART;TZID=UTC:20260419T110000
DTEND;TZID=UTC:20260419T143000
DTSTAMP:20260419T123158
CREATED:20260401T190253Z
LAST-MODIFIED:20260401T190253Z
UID:33527-1776596400-1776609000@elkinsrandolphwv.com
SUMMARY:Brunch & Bubbles | Graceland Inn & Restaurant
DESCRIPTION:Brunch & Bubbles Today! \n\n\nJoin us today at Graceland Inn & Restaurant for a relaxing late-morning escape filled with delicious flavors\, sparkling drinks\, and great music.\n\n\nEnjoy our brunch buffet from 11:00 AM – 2:30 PM\, featuring a variety of chef-prepared favorites perfect for a leisurely Sunday. Then sit back\, sip your mimosas\, and take in live music 12:00 PM – 2:00 PM — the perfect soundtrack to a cozy afternoon on the hill.\n\n\nBring your friends\, bring your appetite\, and let us make your Sunday special. \n\n\n Reservations: 304.637.1600\n Reserve Online: gracelandinnrestaurant.com\n\n\n#BrunchAndBubbles #GracelandInn #SundayBrunch #ElkinsWV #DavisAndElkins #AlmostHeaven #WestVirginiaEats #SupportLocal #BrunchVibes #LiveMusic #MountainStateMoments #wvtourism #ElkinsRandolph #unexpectedlycool
URL:https://elkinsrandolphwv.com/event/brunch-bubbles-graceland-inn-restaurant-18/2026-04-19/
LOCATION:Graceland Inn and Restaurant\, 100 Campus Drive\, Elkins\, WV\, 26241\, United States
CATEGORIES:Entertainment,Food & Drink,Music
END:VEVENT
BEGIN:VEVENT
DTSTART;TZID=UTC:20260422T170000
DTEND;TZID=UTC:20260422T210000
DTSTAMP:20260419T123158
CREATED:20260401T190101Z
LAST-MODIFIED:20260401T190101Z
UID:33522-1776877200-1776891600@elkinsrandolphwv.com
SUMMARY:Wine Down Wednesday- Graceland Inn
DESCRIPTION:
URL:https://elkinsrandolphwv.com/event/wine-down-wednesday-graceland-inn-19/2026-04-22/
LOCATION:Graceland Inn and Restaurant\, 100 Campus Drive\, Elkins\, WV\, 26241\, United States
CATEGORIES:Food & Drink,Music
END:VEVENT
BEGIN:VEVENT
DTSTART;TZID=America/New_York:20260422T203000
DTEND;TZID=America/New_York:20260422T223000
DTSTAMP:20260419T123158
CREATED:20260408T144311Z
LAST-MODIFIED:20260408T144311Z
UID:33688-1776889800-1776897000@elkinsrandolphwv.com
SUMMARY:Karaoke | Jimbo's Place
DESCRIPTION:Karaoke from 8pm-10:30pm every Wednesday hosted by Tim Gibson
URL:https://elkinsrandolphwv.com/event/karaoke-jimbos-place/2026-04-22/
LOCATION:Jimbo’s Place\, 302 Davis Avenue\, Elkins\, WV\, 26241\, United States
CATEGORIES:Entertainment,Food & Drink,Music
END:VEVENT
BEGIN:VEVENT
DTSTART;TZID=America/New_York:20260424T170000
DTEND;TZID=America/New_York:20260424T230000
DTSTAMP:20260419T123158
CREATED:20260402T191922Z
LAST-MODIFIED:20260402T191922Z
UID:33594-1777050000-1777071600@elkinsrandolphwv.com
SUMMARY:"Tygart Together" Block Party | Tygart Hotel
DESCRIPTION:  \nJoin us for an unforgettable evening as we celebrate TWO amazing years of Tygart Hotel and the incredible community that surrounds it! \n Festival Kickoff – 5:00 PMLet’s celebrate our community together!\n Children’s Festival (5 PM – 8 PM)Fun for the whole family with:• Interactive games from the Children’s Museum• Inflatable bounce houses from Third Street Rentals• Inflatable sports from Davis Trust Bank • Games by Refinery Church• Strolling characters from Old Brick Playhouse• Two Lane Reflection Photobooth • Randolph County Humane Society \n Eat on the Streets!Stroll Davis Avenue and enjoy delicious local eats & drinks from:• Oxley House Cocktail Bar & Restaurant• Gingrolls and Pancit• Benny Boys Snack Shack• Sippin Shack\n Beer\, Wine & Cocktail Garden (5 PM – 11 PM) In front of Oxley House(Sponsored by Northern Eagle & Mountain State Beverage)\nRelax\, sip\, and enjoy the music in our lively garden space!\n Important:• 21+ ONLY• Valid ID required• Drinks must remain inside the garden\n\n Live Entertainment Lineup\n 5:00 – 6:30 PMCrandall Creek – Bluegrass(Sponsored by Chevy Performance)\n 7:00 – 8:30 PMCorey Hager – Country(Sponsored by Mountain Table)\n 9:00 – 11:00 PMJuice Newsome & The Groove – Funk & Soul(Sponsored by Virginia Community Development Corporation)\n Come out\, bring your friends and family\, and celebrate community\, music\, food\, and fun at Tygart Together!
URL:https://elkinsrandolphwv.com/event/tygart-together-block-party-tygart-hotel/
LOCATION:Tygart Hotel\, 206 Davis Avenue\, Elkins\, WV
CATEGORIES:Community,Entertainment,Food & Drink,Kids & Family,Music
END:VEVENT
BEGIN:VEVENT
DTSTART;TZID=UTC:20260426T110000
DTEND;TZID=UTC:20260426T143000
DTSTAMP:20260419T123158
CREATED:20260401T190253Z
LAST-MODIFIED:20260401T190253Z
UID:33528-1777201200-1777213800@elkinsrandolphwv.com
SUMMARY:Brunch & Bubbles | Graceland Inn & Restaurant
DESCRIPTION:Brunch & Bubbles Today! \n\n\nJoin us today at Graceland Inn & Restaurant for a relaxing late-morning escape filled with delicious flavors\, sparkling drinks\, and great music.\n\n\nEnjoy our brunch buffet from 11:00 AM – 2:30 PM\, featuring a variety of chef-prepared favorites perfect for a leisurely Sunday. Then sit back\, sip your mimosas\, and take in live music 12:00 PM – 2:00 PM — the perfect soundtrack to a cozy afternoon on the hill.\n\n\nBring your friends\, bring your appetite\, and let us make your Sunday special. \n\n\n Reservations: 304.637.1600\n Reserve Online: gracelandinnrestaurant.com\n\n\n#BrunchAndBubbles #GracelandInn #SundayBrunch #ElkinsWV #DavisAndElkins #AlmostHeaven #WestVirginiaEats #SupportLocal #BrunchVibes #LiveMusic #MountainStateMoments #wvtourism #ElkinsRandolph #unexpectedlycool
URL:https://elkinsrandolphwv.com/event/brunch-bubbles-graceland-inn-restaurant-18/2026-04-26/
LOCATION:Graceland Inn and Restaurant\, 100 Campus Drive\, Elkins\, WV\, 26241\, United States
CATEGORIES:Entertainment,Food & Drink,Music
END:VEVENT
BEGIN:VEVENT
DTSTART;TZID=UTC:20260429T170000
DTEND;TZID=UTC:20260429T210000
DTSTAMP:20260419T123158
CREATED:20260401T190101Z
LAST-MODIFIED:20260401T190101Z
UID:33523-1777482000-1777496400@elkinsrandolphwv.com
SUMMARY:Wine Down Wednesday- Graceland Inn
DESCRIPTION:
URL:https://elkinsrandolphwv.com/event/wine-down-wednesday-graceland-inn-19/2026-04-29/
LOCATION:Graceland Inn and Restaurant\, 100 Campus Drive\, Elkins\, WV\, 26241\, United States
CATEGORIES:Food & Drink,Music
END:VEVENT
BEGIN:VEVENT
DTSTART;TZID=America/New_York:20260429T203000
DTEND;TZID=America/New_York:20260429T223000
DTSTAMP:20260419T123158
CREATED:20260408T144311Z
LAST-MODIFIED:20260408T144311Z
UID:33689-1777494600-1777501800@elkinsrandolphwv.com
SUMMARY:Karaoke | Jimbo's Place
DESCRIPTION:Karaoke from 8pm-10:30pm every Wednesday hosted by Tim Gibson
URL:https://elkinsrandolphwv.com/event/karaoke-jimbos-place/2026-04-29/
LOCATION:Jimbo’s Place\, 302 Davis Avenue\, Elkins\, WV\, 26241\, United States
CATEGORIES:Entertainment,Food & Drink,Music
END:VEVENT
BEGIN:VEVENT
DTSTART;TZID=America/New_York:20260502T160000
DTEND;TZID=America/New_York:20260502T230000
DTSTAMP:20260419T123158
CREATED:20260414T155536Z
LAST-MODIFIED:20260414T155536Z
UID:34043-1777737600-1777762800@elkinsrandolphwv.com
SUMMARY:Déjà Vu Festival | Davis & Elkins College
DESCRIPTION:Get ready for a full weekend of music\, talent\, and community at D&E. Join us for the 2026 Déjà Vu Festival\, featuring Sam Burchfield!\nRaised in the foothills of the Blue Ridge mountains of South Carolina\, Sam Burchfield was brought up on Appalachian music: folk\, gospel\, country and southern soul.\n\n Saturday\, May 2 Citizens Bank of West Virginia Amphitheater (weather permitting\, moved to the auditorium if needed)\n Tickets$20 in advance$25 at the doorFREE for D&E students and staff\n\n Lineup (so far):• Student Talent Show Winner• Mack’s Garage• Hello June• Emily Miller & Jesse Milnes• Cassidy Dickens and the Forget Me Nots• 9 PM Headliner: Sam Burchfield\n\nFood trucks | Beer Garden | Vendors | Inflatables\, and more!
URL:https://elkinsrandolphwv.com/event/deja-vu-festival-davis-elkins-college/
LOCATION:Citizens Bank of WV Amphitheater\, Davis & Elkins College\, 100 Campus Dr\, Elkins\, WV\, 26241
CATEGORIES:Music
END:VEVENT
BEGIN:VEVENT
DTSTART;TZID=America/New_York:20260506T203000
DTEND;TZID=America/New_York:20260506T223000
DTSTAMP:20260419T123158
CREATED:20260408T144311Z
LAST-MODIFIED:20260408T144311Z
UID:33690-1778099400-1778106600@elkinsrandolphwv.com
SUMMARY:Karaoke | Jimbo's Place
DESCRIPTION:Karaoke from 8pm-10:30pm every Wednesday hosted by Tim Gibson
URL:https://elkinsrandolphwv.com/event/karaoke-jimbos-place/2026-05-06/
LOCATION:Jimbo’s Place\, 302 Davis Avenue\, Elkins\, WV\, 26241\, United States
CATEGORIES:Entertainment,Food & Drink,Music
END:VEVENT
BEGIN:VEVENT
DTSTART;TZID=America/New_York:20260513T203000
DTEND;TZID=America/New_York:20260513T223000
DTSTAMP:20260419T123158
CREATED:20260408T144311Z
LAST-MODIFIED:20260408T144311Z
UID:33691-1778704200-1778711400@elkinsrandolphwv.com
SUMMARY:Karaoke | Jimbo's Place
DESCRIPTION:Karaoke from 8pm-10:30pm every Wednesday hosted by Tim Gibson
URL:https://elkinsrandolphwv.com/event/karaoke-jimbos-place/2026-05-13/
LOCATION:Jimbo’s Place\, 302 Davis Avenue\, Elkins\, WV\, 26241\, United States
CATEGORIES:Entertainment,Food & Drink,Music
END:VEVENT
BEGIN:VEVENT
DTSTART;TZID=America/New_York:20260515T190000
DTEND;TZID=America/New_York:20260515T210000
DTSTAMP:20260419T123158
CREATED:20260414T152508Z
LAST-MODIFIED:20260414T152508Z
UID:34037-1778871600-1778878800@elkinsrandolphwv.com
SUMMARY:Open Mic | Brewstel
DESCRIPTION:Open mic hosted by the Infamous Art Collective at the Brewstel in Elkins\, WV.\n\n\nWhen? Friday\, May 15th with sign-ups beginning at 6pm and first act going on at 7pm.\n\n\nBring your  or your  or just yourself!
URL:https://elkinsrandolphwv.com/event/open-mic-brewstel/
LOCATION:Brewstel Brew Shop and Hostel\, 120 Davis Ave\, Elkins\, WV 26241\, USA\, United States
CATEGORIES:Art & Culture,Entertainment,Music
GEO:38.91402;-79.854877
END:VEVENT
BEGIN:VEVENT
DTSTART;TZID=UTC:20260516T173000
DTEND;TZID=UTC:20260516T193000
DTSTAMP:20260419T123158
CREATED:20260302T213826Z
LAST-MODIFIED:20260302T213826Z
UID:33097-1778952600-1778959800@elkinsrandolphwv.com
SUMMARY:Live on the Lawn: Jason Hall | Beverly Heritage Center
DESCRIPTION:Join us for Live on the Lawn featuring Jason Hall! Jason is a soulful acoustic musician with a knack for incorporating his flair into Country & Americana classics. With warm\, raspy vocals\, Jason delivers an intimate\, down-to-earth sound that resonates with audiences of all kinds. Drawing inspiration from legends like Johnny Cash and John Prine\, to contemporary artists like Tyler Childers and Zach Bryan\, Jason brings a genuine love of music and connection to every performance. The free event takes place outdoors on the 1841 Jailhouse lawn. Bring chairs\, snacks\, friends and family for a great time! Rain or Shine.
URL:https://elkinsrandolphwv.com/event/live-on-the-lawn-jason-hall-beverly-heritage-center-4/
LOCATION:1841 County Jailhouse\, 1913 E Walnut St.\, Beverly\, WV\, 26253
CATEGORIES:Music
ORGANIZER;CN="Beverly Heritage Center":MAILTO:info@beverlyheritagecenter.org
END:VEVENT
BEGIN:VEVENT
DTSTART;TZID=America/New_York:20260520T203000
DTEND;TZID=America/New_York:20260520T223000
DTSTAMP:20260419T123158
CREATED:20260408T144311Z
LAST-MODIFIED:20260408T144311Z
UID:33692-1779309000-1779316200@elkinsrandolphwv.com
SUMMARY:Karaoke | Jimbo's Place
DESCRIPTION:Karaoke from 8pm-10:30pm every Wednesday hosted by Tim Gibson
URL:https://elkinsrandolphwv.com/event/karaoke-jimbos-place/2026-05-20/
LOCATION:Jimbo’s Place\, 302 Davis Avenue\, Elkins\, WV\, 26241\, United States
CATEGORIES:Entertainment,Food & Drink,Music
END:VEVENT
BEGIN:VEVENT
DTSTART;TZID=America/New_York:20260527T203000
DTEND;TZID=America/New_York:20260527T223000
DTSTAMP:20260419T123158
CREATED:20260408T144311Z
LAST-MODIFIED:20260408T144311Z
UID:33693-1779913800-1779921000@elkinsrandolphwv.com
SUMMARY:Karaoke | Jimbo's Place
DESCRIPTION:Karaoke from 8pm-10:30pm every Wednesday hosted by Tim Gibson
URL:https://elkinsrandolphwv.com/event/karaoke-jimbos-place/2026-05-27/
LOCATION:Jimbo’s Place\, 302 Davis Avenue\, Elkins\, WV\, 26241\, United States
CATEGORIES:Entertainment,Food & Drink,Music
END:VEVENT
BEGIN:VEVENT
DTSTART;VALUE=DATE:20260529
DTEND;VALUE=DATE:20260602
DTSTAMP:20260419T123158
CREATED:20260204T013539Z
LAST-MODIFIED:20260204T013539Z
UID:32841-1780020000-1780279199@elkinsrandolphwv.com
SUMMARY:Helvetia Hoot
DESCRIPTION:Helvetia Hoot is on for another round\, May 29-31 2026. Campout party (weekend after memorial day and before Mt Airy). Catch the best elder WV square dance callers\, jam all night and get puffed with fresh biscuits. Early bird tickets are available through March 1st.
URL:https://elkinsrandolphwv.com/event/helvetia-hoot-2/
LOCATION:Helvetia\, WV 26234\, USA\, 100 Old Helvetia Rd\, United States
CATEGORIES:Art & Culture,Music
GEO:38.760148;-80.25278
X-APPLE-STRUCTURED-LOCATION;VALUE=URI;X-ADDRESS=Helvetia WV 26234 USA 100 Old Helvetia Rd United States;X-APPLE-RADIUS=500;X-TITLE=100 Old Helvetia Rd:geo:-80.25278,38.760148
END:VEVENT
BEGIN:VEVENT
DTSTART;TZID=America/New_York:20260529T180000
DTEND;TZID=America/New_York:20260529T210000
DTSTAMP:20260419T123158
CREATED:20260412T135852Z
LAST-MODIFIED:20260412T135852Z
UID:33786-1780077600-1780088400@elkinsrandolphwv.com
SUMMARY:Gandy Dancer-Musical Legends
DESCRIPTION:Our Tribute dinner show salutes the performers that we all love and remember. Featuring entertainers such as Kenny Rogers\, Dolly Parton\, Waylon and Willie\, The Judds\, Tina Turner\, Elvis and many more.\nDinner included.\nDoors open at 5:30pm\nDinner Served at 6:00pm\nShow begins at 7:00pm\n\n\nContact information\n\n\n\n\n\n\n\n\n\n\n\n+1 304-636-4935\n\n\n\n\ninfo@gandydancertheatre.com
URL:https://elkinsrandolphwv.com/event/gandy-dancer-musical-legends/
LOCATION:Gandy Dancer Theatre and Conference Center\, 359 Beverly Pike\, Elkins\, WV 26241\, USA\, United States
CATEGORIES:Community,Entertainment,Food & Drink,Music
GEO:38.918641;-79.842607
END:VEVENT
BEGIN:VEVENT
DTSTART;TZID=America/New_York:20260530T180000
DTEND;TZID=America/New_York:20260530T210000
DTSTAMP:20260419T123158
CREATED:20260412T142614Z
LAST-MODIFIED:20260412T142732Z
UID:33807-1780164000-1780174800@elkinsrandolphwv.com
SUMMARY:Gandy Dancer -Premier Dinner Show
DESCRIPTION:Our featured two hour Premier Show offers a Branson-style dinner show with music ranging from the 50’s to today including country\, gospel\, patriotic plus family-friendly comedy. \nEnjoy fabulous entertainment\, beautiful dancers\, amazing performers and delicious food.
URL:https://elkinsrandolphwv.com/event/gandy-dancer-premier-dinner-show/
LOCATION:Gandy Dancer Theatre and Conference Center\, 359 Beverly Pike\, Elkins\, WV 26241\, USA\, United States
CATEGORIES:Community,Entertainment,Food & Drink,Music
GEO:38.918641;-79.842607
END:VEVENT
END:VCALENDAR