BEGIN:VCALENDAR
VERSION:2.0
PRODID:-//Elkins-Randolph County Tourism - ECPv6.15.17.1//NONSGML v1.0//EN
CALSCALE:GREGORIAN
METHOD:PUBLISH
X-WR-CALNAME:Elkins-Randolph County Tourism
X-ORIGINAL-URL:https://elkinsrandolphwv.com
X-WR-CALDESC:Events for Elkins-Randolph County Tourism
REFRESH-INTERVAL;VALUE=DURATION:PT1H
X-Robots-Tag:noindex
X-PUBLISHED-TTL:PT1H
BEGIN:VTIMEZONE
TZID:UTC
BEGIN:STANDARD
TZOFFSETFROM:+0000
TZOFFSETTO:+0000
TZNAME:UTC
DTSTART:20180101T000000
END:STANDARD
END:VTIMEZONE
BEGIN:VEVENT
DTSTART;TZID=UTC:20190907T080000
DTEND;TZID=UTC:20190907T170000
DTSTAMP:20260420T025236
CREATED:20190827T193321Z
LAST-MODIFIED:20190827T193321Z
UID:15338-1567843200-1567875600@elkinsrandolphwv.com
SUMMARY:Annie Smiles ATV/UTV Run @ Junior City Hall
DESCRIPTION:ANNIE SMILES ATV/ UTV RUN \nWhen: Saturday September 7th\, 2019 \nRegistration begins @ 8:00 am – Run starts @ 10:00 am\nCost: $20.00 per bike $5.00 per passenger\nWhere: Junior Elementary School\, Junior WV\, 26250 \nFood and drinks provided after the run\n50/50 drawings\, raffles and door prizes\nDecals\, t-shirts\, & tank tops will be sold\n*SPECIAL PRIZE DRAWINGS FOR THOSE WHO DONATE “CRAZY SOCKS” FOR WVU CHILDREN’S HOSPITAL KIDS\nOR NECK TIES FOR THE “TIE MAN” RECORD OF BILLY DAVIS \nThis is a family friendly event. No alcohol will be permitted.
URL:https://elkinsrandolphwv.com/event/annie-smiles-atv-utv-run-junior-city-hall/
LOCATION:Junior\, West Virginia
CATEGORIES:Sports & Recreations
ATTACH;FMTTYPE=image/png:https://elkinsrandolphwv.com/wp-content/uploads/2019/08/Annie-Smiles.png
END:VEVENT
END:VCALENDAR