BEGIN:VCALENDAR
VERSION:2.0
PRODID:-//Elkins-Randolph County Tourism - ECPv6.15.17.1//NONSGML v1.0//EN
CALSCALE:GREGORIAN
METHOD:PUBLISH
X-WR-CALNAME:Elkins-Randolph County Tourism
X-ORIGINAL-URL:https://elkinsrandolphwv.com
X-WR-CALDESC:Events for Elkins-Randolph County Tourism
REFRESH-INTERVAL;VALUE=DURATION:PT1H
X-Robots-Tag:noindex
X-PUBLISHED-TTL:PT1H
BEGIN:VTIMEZONE
TZID:UTC
BEGIN:STANDARD
TZOFFSETFROM:+0000
TZOFFSETTO:+0000
TZNAME:UTC
DTSTART:20180101T000000
END:STANDARD
END:VTIMEZONE
BEGIN:VEVENT
DTSTART;TZID=UTC:20190908T080000
DTEND;TZID=UTC:20190908T100000
DTSTAMP:20260419T233240
CREATED:20190905T180032Z
LAST-MODIFIED:20190905T180032Z
UID:15487-1567929600-1567936800@elkinsrandolphwv.com
SUMMARY:Run Stronger\, Run Longer @ 1201 CrossFit
DESCRIPTION:Learn how to improve your technique and prevent injury while running through life. Participate in a runner-friendly\, body weight strengthening workout to enhance full body functionality and your run. Come dressed to sweat! \nJoin 1201 CrossFit’s Level 2 Coach\, Karen Stephenson and Amy Hammer\, PT\, DPT from Elkins Physical Therapy Service for a run assessment and analysis\, “run focused” WOD and testimonial from Mandy Helms Sullivan\, 1201 Athlete and Boston Marathon Finisher. \nSeminar participants will receive:\n• Run Assessment & Video Analysis\n• Workout with 1201 CrossFit Coaches\n• Refreshments\n• Swag Bag\n• Optional run following seminar. \nSpace is limited. Reserve your spot now via the link below. Once you are registered watch for an informational email in your inbox on how to pay and schedule your individual running video analysis at Elkins Physical Therapy Services the week prior to September 8th. \nRegistration Fee: $20\nAll proceeds go to: TBD \nChild care available upon request.
URL:https://elkinsrandolphwv.com/event/run-stronger-run-longer-1201-crossfit/
LOCATION:1201 CrossFit\, 1201 Davis Avenue\, Elkins\, WV\, 26241\, United States
CATEGORIES:Sports & Recreations
END:VEVENT
BEGIN:VEVENT
DTSTART;TZID=UTC:20190908T123000
DTEND;TZID=UTC:20190908T150000
DTSTAMP:20260419T233240
CREATED:20190905T182349Z
LAST-MODIFIED:20190905T182349Z
UID:15507-1567945800-1567954800@elkinsrandolphwv.com
SUMMARY:Youth Air Rifle free event @ Izaak Walton League
DESCRIPTION:Open to children ages 8 – 17 years old \nRegistration starts at 12:30 \nEvent starts at 1pm \nLearn about firearms & range safety
URL:https://elkinsrandolphwv.com/event/youth-air-rifle-free-event-izaak-walton-league/
LOCATION:Izaak Walton League\, 59 Darwin Dr\, Beverly\, WV\, 26253\, United States
CATEGORIES:Sports & Recreations
ATTACH;FMTTYPE=image/png:https://elkinsrandolphwv.com/wp-content/uploads/2019/08/Izaak-Walton-League.png
END:VEVENT
END:VCALENDAR