BEGIN:VCALENDAR
VERSION:2.0
PRODID:-//Elkins-Randolph County Tourism - ECPv6.15.17.1//NONSGML v1.0//EN
CALSCALE:GREGORIAN
METHOD:PUBLISH
X-ORIGINAL-URL:https://elkinsrandolphwv.com
X-WR-CALDESC:Events for Elkins-Randolph County Tourism
REFRESH-INTERVAL;VALUE=DURATION:PT1H
X-Robots-Tag:noindex
X-PUBLISHED-TTL:PT1H
BEGIN:VTIMEZONE
TZID:UTC
BEGIN:STANDARD
TZOFFSETFROM:+0000
TZOFFSETTO:+0000
TZNAME:UTC
DTSTART:20180101T000000
END:STANDARD
END:VTIMEZONE
BEGIN:VEVENT
DTSTART;TZID=UTC:20190914T080000
DTEND;TZID=UTC:20190914T120000
DTSTAMP:20260419T233406
CREATED:20190826T185236Z
LAST-MODIFIED:20190826T185236Z
UID:15314-1568448000-1568462400@elkinsrandolphwv.com
SUMMARY:Swim Officials Level 1 Course (preregister) @ The Elkins/Randolph YMCA
DESCRIPTION:The Elkins YMCA is hosting a Swim Officials Level I class on September 14th from 8 am to noon at our facility at 400 Davis Avenue with instructor Scott Claypoole. \nThe course is designed to train participants as swim officials for YMCA Competitive Swimming in the areas of stroke and turn judge\, relay take-off judge\, place judge and timer. \nThe course focuses on the specific duties and responsibilities of the above officials prior to\, during and after a swim meet. The course also reviews the facilities requirements for a meet\, swimmer eligibility\, and the roles of chief judge\, starter and referee. \nThe course fee is $45.00 Advanced registration is required. Register by 9/6/19. Please follow this link to register https://lcdc.yexchange.org/s/c06u35k
URL:https://elkinsrandolphwv.com/event/swim-officials-level-1-course-preregister-the-elkins-randolph-ymca/
LOCATION:Elkins Randolph County YMCA\, 400 Davis Avenue\, Elkins\, WV\, 26241\, United States
CATEGORIES:Sports & Recreations
ATTACH;FMTTYPE=image/jpeg:https://elkinsrandolphwv.com/wp-content/uploads/2019/04/YMCA-logo-1.jpg
END:VEVENT
BEGIN:VEVENT
DTSTART;TZID=UTC:20190914T190000
DTEND;TZID=UTC:20190914T220000
DTSTAMP:20260419T233406
CREATED:20190829T000544Z
LAST-MODIFIED:20190829T000544Z
UID:15369-1568487600-1568498400@elkinsrandolphwv.com
SUMMARY:Saturday Night Thunder @ Elkins Raceway
DESCRIPTION:
URL:https://elkinsrandolphwv.com/event/saturday-night-thunder-elkins-raceway/
LOCATION:Elkins Raceway\, 763KE\, Kerens\, WV\, 26241\, United States
CATEGORIES:Sports & Recreations
ATTACH;FMTTYPE=image/jpeg:https://elkinsrandolphwv.com/wp-content/uploads/2019/03/13767131_1217959858261052_1701888171758676300_o.jpg
END:VEVENT
END:VCALENDAR