BEGIN:VCALENDAR
VERSION:2.0
PRODID:-//Elkins-Randolph County Tourism - ECPv6.15.17.1//NONSGML v1.0//EN
CALSCALE:GREGORIAN
METHOD:PUBLISH
X-WR-CALNAME:Elkins-Randolph County Tourism
X-ORIGINAL-URL:https://elkinsrandolphwv.com
X-WR-CALDESC:Events for Elkins-Randolph County Tourism
REFRESH-INTERVAL;VALUE=DURATION:PT1H
X-Robots-Tag:noindex
X-PUBLISHED-TTL:PT1H
BEGIN:VTIMEZONE
TZID:UTC
BEGIN:STANDARD
TZOFFSETFROM:+0000
TZOFFSETTO:+0000
TZNAME:UTC
DTSTART:20180101T000000
END:STANDARD
END:VTIMEZONE
BEGIN:VEVENT
DTSTART;TZID=UTC:20190921T063000
DTEND;TZID=UTC:20190921T120000
DTSTAMP:20260419T233245
CREATED:20190827T193839Z
LAST-MODIFIED:20190827T193839Z
UID:15342-1569047400-1569067200@elkinsrandolphwv.com
SUMMARY:Splash-N-Dash & 5k Run @ Davis & Elkins College
DESCRIPTION:WHAT: Two events will be offered to celebrate Davis and Elkins Homecoming weekend: a 5k road race and a “splash-n-dash” (300-yard pool swim followed by a 2-mile run). Proceeds from both events will benefit the Davis and Elkins College athletic programs. \nWHERE: Packet pick-up / Registration: Hermanson Center Pool Area \nWHEN: Saturday\, September 21\n“Splash-n-Dash”\nPacket pick-up and race day registration begins at 6:30am\nPacket pick-up / registration closes at 7:15am\nRace begins at 8:00am \n5k Road Race\nPacket pick-up / race day registration begins at 6:30am\nPacket pick-up / registration closes at 8:15am\nRace begins at 9:00am \nRACE FEES:\nEarly Registration $20: Before September 10\, 2019 to be guaranteed a T-shirt\nPayment in the form of check or cash due on race day\nYou may register on race day for $20 but will not be guaranteed a T-shirt
URL:https://elkinsrandolphwv.com/event/splash-n-dash-5k-run-davis-elkins-college/
LOCATION:Davis & Elkins College\, 100 Campus Dr\, Elkins\, WV 26241\, USA – Harper McNeeley Auditorium\, United States
CATEGORIES:Davis & Elkins College,Sports & Recreations
ATTACH;FMTTYPE=image/jpeg:https://elkinsrandolphwv.com/wp-content/uploads/2019/03/1916779_232589465984_856477_n.jpg
GEO:38.921503;-79.844583
END:VEVENT
END:VCALENDAR