BEGIN:VCALENDAR
VERSION:2.0
PRODID:-//Elkins-Randolph County Tourism - ECPv6.15.20//NONSGML v1.0//EN
CALSCALE:GREGORIAN
METHOD:PUBLISH
X-WR-CALNAME:Elkins-Randolph County Tourism
X-ORIGINAL-URL:https://elkinsrandolphwv.com
X-WR-CALDESC:Events for Elkins-Randolph County Tourism
REFRESH-INTERVAL;VALUE=DURATION:PT1H
X-Robots-Tag:noindex
X-PUBLISHED-TTL:PT1H
BEGIN:VTIMEZONE
TZID:UTC
BEGIN:STANDARD
TZOFFSETFROM:+0000
TZOFFSETTO:+0000
TZNAME:UTC
DTSTART:20200101T000000
END:STANDARD
END:VTIMEZONE
BEGIN:VEVENT
DTSTART;TZID=UTC:20250822T180000
DTEND;TZID=UTC:20250822T190000
DTSTAMP:20260424T113148
CREATED:20250818T185934Z
LAST-MODIFIED:20250820T201455Z
UID:31243-1755885600-1755889200@elkinsrandolphwv.com
SUMMARY:Community Cakewalk | Citizens Bank
DESCRIPTION:All Cakewalks will be in the Citizens Bank WV Customer Parking Lot and begin at 6pm.
URL:https://elkinsrandolphwv.com/event/community-cakewalk-2/2025-08-22/
LOCATION:Citizens Bank of Elkins\, 211 3rd Street\, Elkins\, WV\, 26241\, United States
CATEGORIES:Community
END:VEVENT
BEGIN:VEVENT
DTSTART;TZID=UTC:20250815T180000
DTEND;TZID=UTC:20250815T190000
DTSTAMP:20260424T113148
CREATED:20250515T225244Z
LAST-MODIFIED:20250515T225244Z
UID:30743-1755280800-1755284400@elkinsrandolphwv.com
SUMMARY:Community Cakewalk
DESCRIPTION:All Cakewalks will be in the Citizens Bank WV Customer Parking Lot and begin at 6pm.
URL:https://elkinsrandolphwv.com/event/community-cakewalk-2/2025-08-15/
LOCATION:Citizens Bank of Elkins\, 211 3rd Street\, Elkins\, WV\, 26241\, United States
CATEGORIES:Community
END:VEVENT
BEGIN:VEVENT
DTSTART;TZID=UTC:20250808T180000
DTEND;TZID=UTC:20250808T190000
DTSTAMP:20260424T113148
CREATED:20250728T182617Z
LAST-MODIFIED:20250728T182731Z
UID:31088-1754676000-1754679600@elkinsrandolphwv.com
SUMMARY:Community Cakewalk | Citizens Bank
DESCRIPTION:Community Cakewalk all cakewalk proceeds will benefit Elkins Babe Ruth! \nAll Cakewalks will be in the Citizens Bank WV Customer Parking Lot and begin at 6pm.
URL:https://elkinsrandolphwv.com/event/community-cakewalk-2/2025-08-08/
LOCATION:Citizens Bank of Elkins\, 211 3rd Street\, Elkins\, WV\, 26241\, United States
CATEGORIES:Community
END:VEVENT
BEGIN:VEVENT
DTSTART;TZID=UTC:20250801T180000
DTEND;TZID=UTC:20250801T190000
DTSTAMP:20260424T113148
CREATED:20250515T225244Z
LAST-MODIFIED:20250728T182801Z
UID:30742-1754071200-1754074800@elkinsrandolphwv.com
SUMMARY:Community Cakewalk | Citizens Bank
DESCRIPTION:All Cakewalks will be in the Citizens Bank WV Customer Parking Lot and begin at 6pm.
URL:https://elkinsrandolphwv.com/event/community-cakewalk-2/2025-08-01/
LOCATION:Citizens Bank of Elkins\, 211 3rd Street\, Elkins\, WV\, 26241\, United States
CATEGORIES:Community
END:VEVENT
BEGIN:VEVENT
DTSTART;TZID=UTC:20250723T180000
DTEND;TZID=UTC:20250723T200000
DTSTAMP:20260424T113148
CREATED:20250723T193411Z
LAST-MODIFIED:20250723T193411Z
UID:31061-1753293600-1753300800@elkinsrandolphwv.com
SUMMARY:Community Cakewalk | Citizen's Bank
DESCRIPTION:Community Cakewalk all cakewalk proceeds will benefit Elkins Babe Ruth!
URL:https://elkinsrandolphwv.com/event/community-cakewalk-citizens-bank/
LOCATION:Citizens Bank of Elkins\, 211 3rd Street\, Elkins\, WV\, 26241\, United States
CATEGORIES:Community
END:VEVENT
BEGIN:VEVENT
DTSTART;TZID=UTC:20250718T180000
DTEND;TZID=UTC:20250718T190000
DTSTAMP:20260424T113148
CREATED:20250515T225244Z
LAST-MODIFIED:20250515T225244Z
UID:30741-1752861600-1752865200@elkinsrandolphwv.com
SUMMARY:Community Cakewalk
DESCRIPTION:All Cakewalks will be in the Citizens Bank WV Customer Parking Lot and begin at 6pm.
URL:https://elkinsrandolphwv.com/event/community-cakewalk-2/2025-07-18/
LOCATION:Citizens Bank of Elkins\, 211 3rd Street\, Elkins\, WV\, 26241\, United States
CATEGORIES:Community
END:VEVENT
BEGIN:VEVENT
DTSTART;TZID=UTC:20250620T180000
DTEND;TZID=UTC:20250620T190000
DTSTAMP:20260424T113148
CREATED:20250515T225244Z
LAST-MODIFIED:20250515T225244Z
UID:30740-1750442400-1750446000@elkinsrandolphwv.com
SUMMARY:Community Cakewalk
DESCRIPTION:All Cakewalks will be in the Citizens Bank WV Customer Parking Lot and begin at 6pm.
URL:https://elkinsrandolphwv.com/event/community-cakewalk-2/2025-06-20/
LOCATION:Citizens Bank of Elkins\, 211 3rd Street\, Elkins\, WV\, 26241\, United States
CATEGORIES:Community
END:VEVENT
BEGIN:VEVENT
DTSTART;TZID=UTC:20250606T180000
DTEND;TZID=UTC:20250606T190000
DTSTAMP:20260424T113148
CREATED:20250515T225244Z
LAST-MODIFIED:20250515T225244Z
UID:30738-1749232800-1749236400@elkinsrandolphwv.com
SUMMARY:Community Cakewalk
DESCRIPTION:All Cakewalks will be in the Citizens Bank WV Customer Parking Lot and begin at 6pm.
URL:https://elkinsrandolphwv.com/event/community-cakewalk-2/2025-06-06/
LOCATION:Citizens Bank of Elkins\, 211 3rd Street\, Elkins\, WV\, 26241\, United States
CATEGORIES:Community
END:VEVENT
BEGIN:VEVENT
DTSTART;TZID=UTC:20240809T180000
DTEND;TZID=UTC:20240809T200000
DTSTAMP:20260424T113148
CREATED:20240808T201035Z
LAST-MODIFIED:20240808T201035Z
UID:29040-1723226400-1723233600@elkinsrandolphwv.com
SUMMARY:Community Cakewalk to Benefit the Arts Center
DESCRIPTION:This cakewalk’s proceeds will benefit The Arts Center. Cakewalk will be from 6-8pm and 50/50 will be drawn at 7:30pm.
URL:https://elkinsrandolphwv.com/event/community-cakewalk-to-benefit-the-arts-center/
LOCATION:Citizens Bank of Elkins\, 211 3rd Street\, Elkins\, WV\, 26241\, United States
CATEGORIES:Community,Kids & Family,Outdoor Activities
ATTACH;FMTTYPE=image/png:https://elkinsrandolphwv.com/wp-content/uploads/2024/08/Screenshot-2024-08-08-12.07.23-PM.png
END:VEVENT
BEGIN:VEVENT
DTSTART;TZID=UTC:20230708T120000
DTEND;TZID=UTC:20230708T170000
DTSTAMP:20260424T113148
CREATED:20230705T221512Z
LAST-MODIFIED:20230705T221512Z
UID:27417-1688817600-1688835600@elkinsrandolphwv.com
SUMMARY:McDonald's 2nd Annual Cornhole Classic
DESCRIPTION:McDonald’s 2nd Annual Cornhole Classic \nSaturday July 8th\, 2023 \nRegistration 12-1pm \nAdult Tournament Begins @ 1:15pm \nGuaranteed Payout \n1st prize -$150 \n2nd prize -$100 \n3rd prize – $75 \n4th prize – $50 \n5th prize -$25 \nChildren’s Tournament Begins @ 1:15pm \nChildren’s Tournament NO FEE!! \nRegistration 12-1pm \nTournament Begins @ 1:15pm \nKids Tournament Payout \n1st prize – $50 \n2nd prize -$30 \n3rd prize -$20 \nMcDonalds Airmail Challenge \n$25 per each bag made \n$1 per ticket or 6 tickets for $5 \n 
URL:https://elkinsrandolphwv.com/event/mcdonalds-2nd-annual-cornhole-classic/
LOCATION:Citizens Bank of Elkins\, 211 3rd Street\, Elkins\, WV\, 26241\, United States
CATEGORIES:Community,Competition,Kids & Family,Outdoor Activities,Outdoors
ATTACH;FMTTYPE=image/jpeg:https://elkinsrandolphwv.com/wp-content/uploads/2023/07/Mc.jpg
END:VEVENT
BEGIN:VEVENT
DTSTART;VALUE=DATE:20230708
DTEND;VALUE=DATE:20230710
DTSTAMP:20260424T113148
CREATED:20230705T213611Z
LAST-MODIFIED:20230705T213611Z
UID:27415-1688781600-1688867999@elkinsrandolphwv.com
SUMMARY:Citizens Promoting Community Day
DESCRIPTION:Citizens Promoting Community Day \nSaturday July 8th \nFeaturing 2nd Annual McDonalds Cornhole Classic \nFree Face painting \nFree Cakewalk \nLive Entertainment \nRotary Amphitheater and Elkins Town Square \nSamantha Fox 4:30-5:30 \nMichael Monnet and Riverside Edge 6:00 – 8:00
URL:https://elkinsrandolphwv.com/event/citizens-promoting-community-day/
LOCATION:Citizens Bank of Elkins\, 211 3rd Street\, Elkins\, WV\, 26241\, United States
CATEGORIES:Entertainment,Food,Kids & Family,Music,Outdoor Activities,Outdoors
ATTACH;FMTTYPE=image/jpeg:https://elkinsrandolphwv.com/wp-content/uploads/2023/07/cit.jpg
END:VEVENT
BEGIN:VEVENT
DTSTART;TZID=UTC:20210604T180000
DTEND;TZID=UTC:20210604T200000
DTSTAMP:20260424T113148
CREATED:20210601T204623Z
LAST-MODIFIED:20210601T204623Z
UID:24214-1622829600-1622836800@elkinsrandolphwv.com
SUMMARY:Elkins Community Cake Walk
DESCRIPTION:Hosted by: Citizens Creating Community \n6-7:30pm with entertainment from 7:30-8pm at the Citizens Bank Parking Lot \n$0.25 per walk \nFinal “Executive Walk” worth up to $50.00 in just $1.00!
URL:https://elkinsrandolphwv.com/event/elkins-community-cake-walk/2021-06-04/
LOCATION:Citizens Bank of Elkins\, 211 3rd Street\, Elkins\, WV\, 26241\, United States
CATEGORIES:Community
END:VEVENT
END:VCALENDAR