BEGIN:VCALENDAR
VERSION:2.0
PRODID:-//Elkins-Randolph County Tourism - ECPv6.15.20//NONSGML v1.0//EN
CALSCALE:GREGORIAN
METHOD:PUBLISH
X-WR-CALNAME:Elkins-Randolph County Tourism
X-ORIGINAL-URL:https://elkinsrandolphwv.com
X-WR-CALDESC:Events for Elkins-Randolph County Tourism
REFRESH-INTERVAL;VALUE=DURATION:PT1H
X-Robots-Tag:noindex
X-PUBLISHED-TTL:PT1H
BEGIN:VTIMEZONE
TZID:UTC
BEGIN:STANDARD
TZOFFSETFROM:+0000
TZOFFSETTO:+0000
TZNAME:UTC
DTSTART:20220101T000000
END:STANDARD
END:VTIMEZONE
BEGIN:VEVENT
DTSTART;TZID=UTC:20250627T170000
DTEND;TZID=UTC:20250627T190000
DTSTAMP:20260425T155208
CREATED:20250624T182242Z
LAST-MODIFIED:20250624T182408Z
UID:30824-1751043600-1751050800@elkinsrandolphwv.com
SUMMARY:EAST's 1st Annual Member Meeting
DESCRIPTION:Talk and Walk Trails
URL:https://elkinsrandolphwv.com/event/east-1st-annual-member-meeting/
LOCATION:Davis and Elkins College / Augusta Dance Pavilion
CATEGORIES:Community,Outdoors
ORGANIZER;CN="Elkins Area Shared Trails":MAILTO:elkinsareasharedtrails@gmail.com
END:VEVENT
BEGIN:VEVENT
DTSTART;TZID=UTC:20241018T160000
DTEND;TZID=UTC:20241018T190000
DTSTAMP:20260425T155208
CREATED:20241017T193359Z
LAST-MODIFIED:20241017T193359Z
UID:29641-1729267200-1729278000@elkinsrandolphwv.com
SUMMARY:Ales for Trails at The Ice House
DESCRIPTION:Ice House at Davis and Elkins College \nCome have a drink\, make a friend\, hear about what’s happening with trail development in your backyard AND…become an OG member of EAST!
URL:https://elkinsrandolphwv.com/event/ales-for-trails-at-the-ice-house/
LOCATION:Davis and Elkins College
CATEGORIES:Community,Entertainment,Food & Drink
ORGANIZER;CN="Elkins Area Shared Trails":MAILTO:elkinsareasharedtrails@gmail.com
END:VEVENT
BEGIN:VEVENT
DTSTART;TZID=UTC:20240623T123000
DTEND;TZID=UTC:20240623T143000
DTSTAMP:20260425T155208
CREATED:20240620T181421Z
LAST-MODIFIED:20240620T181421Z
UID:28823-1719145800-1719153000@elkinsrandolphwv.com
SUMMARY:Youth Bike Skills Clinic
DESCRIPTION:Sunday\, June 23rd | 12:30pm | Glendale Park. \nBring your bike and helmet for this hands-on\, feed-on opportunity to learn from experienced mountain bike racers and STEM experts. Youth of all ages welcome. \nEvent made possible by: Elkins Area Shared Trails (EAST)\, Elkins Parks and Recreation\, Science Behind the Sport
URL:https://elkinsrandolphwv.com/event/youth-bike-skills-clinic-2/
LOCATION:Glendale Park\, 405 Glendale Avenue\, Elkins\, WV\, 26241\, United States
CATEGORIES:Community,Kids & Family,Outdoor Activities,Sports & Recreations
ORGANIZER;CN="Elkins Area Shared Trails":MAILTO:elkinsareasharedtrails@gmail.com
END:VEVENT
BEGIN:VEVENT
DTSTART;TZID=UTC:20231014T153000
DTEND;TZID=UTC:20231014T173000
DTSTAMP:20260425T155208
CREATED:20231011T224420Z
LAST-MODIFIED:20231011T224706Z
UID:27763-1697297400-1697304600@elkinsrandolphwv.com
SUMMARY:Youth Bike Skills Clinic
DESCRIPTION:Elkins Area Shared Trails (EAST) is excited to partner with the Highlands Composite Mountain Bike Team\, WVU Science Behind the Sport\, and Elkins Parks & Rec to host a bike skills clinic for youth in Glendale Park from 3:30-5:30pm. \nBring your bike and helmet for this hands-on\, feet-on opportunity to learn from experienced mountain bike racers and STEM experts! Youth of all ages are welcome.
URL:https://elkinsrandolphwv.com/event/youth-bike-skills-clinic/
LOCATION:Glendale Park\, 405 Glendale Avenue\, Elkins\, WV\, 26241\, United States
CATEGORIES:Educational,Kids & Family,Outdoor Activities,Sports & Recreations
ATTACH;FMTTYPE=image/jpeg:https://elkinsrandolphwv.com/wp-content/uploads/2023/10/Bike-Skills.jpeg
ORGANIZER;CN="Elkins Area Shared Trails":MAILTO:elkinsareasharedtrails@gmail.com
END:VEVENT
END:VCALENDAR