BEGIN:VCALENDAR
VERSION:2.0
PRODID:-//Elkins-Randolph County Tourism - ECPv6.15.17.1//NONSGML v1.0//EN
CALSCALE:GREGORIAN
METHOD:PUBLISH
X-WR-CALNAME:Elkins-Randolph County Tourism
X-ORIGINAL-URL:https://elkinsrandolphwv.com
X-WR-CALDESC:Events for Elkins-Randolph County Tourism
REFRESH-INTERVAL;VALUE=DURATION:PT1H
X-Robots-Tag:noindex
X-PUBLISHED-TTL:PT1H
BEGIN:VTIMEZONE
TZID:America/New_York
BEGIN:DAYLIGHT
TZOFFSETFROM:-0500
TZOFFSETTO:-0400
TZNAME:EDT
DTSTART:20250309T070000
END:DAYLIGHT
BEGIN:STANDARD
TZOFFSETFROM:-0400
TZOFFSETTO:-0500
TZNAME:EST
DTSTART:20251102T060000
END:STANDARD
BEGIN:DAYLIGHT
TZOFFSETFROM:-0500
TZOFFSETTO:-0400
TZNAME:EDT
DTSTART:20260308T070000
END:DAYLIGHT
BEGIN:STANDARD
TZOFFSETFROM:-0400
TZOFFSETTO:-0500
TZNAME:EST
DTSTART:20261101T060000
END:STANDARD
BEGIN:DAYLIGHT
TZOFFSETFROM:-0500
TZOFFSETTO:-0400
TZNAME:EDT
DTSTART:20270314T070000
END:DAYLIGHT
BEGIN:STANDARD
TZOFFSETFROM:-0400
TZOFFSETTO:-0500
TZNAME:EST
DTSTART:20271107T060000
END:STANDARD
END:VTIMEZONE
BEGIN:VTIMEZONE
TZID:UTC
BEGIN:STANDARD
TZOFFSETFROM:+0000
TZOFFSETTO:+0000
TZNAME:UTC
DTSTART:20240101T000000
END:STANDARD
END:VTIMEZONE
BEGIN:VEVENT
DTSTART;TZID=America/New_York:20260417T190000
DTEND;TZID=America/New_York:20260417T210000
DTSTAMP:20260421T044615
CREATED:20260409T142157Z
LAST-MODIFIED:20260409T142157Z
UID:33766-1776452400-1776459600@elkinsrandolphwv.com
SUMMARY:Cajun Dance | Big Timber Brewing
DESCRIPTION:
URL:https://elkinsrandolphwv.com/event/cajun-dance-big-timber-brewing/
LOCATION:Big Timber Brewing\, 2 Davis Avenue\, Elkins\, WV\, 26241\, United States
CATEGORIES:Art & Culture,Food & Drink,Music
END:VEVENT
BEGIN:VEVENT
DTSTART;TZID=UTC:20260227T190000
DTEND;TZID=UTC:20260227T210000
DTSTAMP:20260421T044615
CREATED:20260211T203231Z
LAST-MODIFIED:20260211T203231Z
UID:32904-1772218800-1772226000@elkinsrandolphwv.com
SUMMARY:Square Dance | Big Timber Brewing
DESCRIPTION:
URL:https://elkinsrandolphwv.com/event/square-dance-big-timber-brewing-2/
LOCATION:Big Timber Brewing\, 2 Davis Avenue\, Elkins\, WV\, 26241\, United States
CATEGORIES:Art & Culture
END:VEVENT
BEGIN:VEVENT
DTSTART;TZID=UTC:20260130T190000
DTEND;TZID=UTC:20260130T210000
DTSTAMP:20260421T044615
CREATED:20260105T203446Z
LAST-MODIFIED:20260105T203446Z
UID:32631-1769799600-1769806800@elkinsrandolphwv.com
SUMMARY:Square Dance | The Arts Center
DESCRIPTION:
URL:https://elkinsrandolphwv.com/event/square-dance-the-arts-center-3/
LOCATION:The Arts Center\, aka Randolph Co. Community Arts Council\, 2 Park St\, Elkins\, WV\, 26241\, United States
CATEGORIES:Art & Culture,Entertainment
GEO:38.924095;-79.850318
X-APPLE-STRUCTURED-LOCATION;VALUE=URI;X-ADDRESS=The Arts Center aka Randolph Co. Community Arts Council 2 Park St Elkins WV 26241 United States;X-APPLE-RADIUS=500;X-TITLE=2 Park St:geo:-79.850318,38.924095
END:VEVENT
BEGIN:VEVENT
DTSTART;TZID=UTC:20251122T190000
DTEND;TZID=UTC:20251122T210000
DTSTAMP:20260421T044615
CREATED:20251106T024641Z
LAST-MODIFIED:20251106T024641Z
UID:32204-1763838000-1763845200@elkinsrandolphwv.com
SUMMARY:Square Dance | The Arts Center
DESCRIPTION:
URL:https://elkinsrandolphwv.com/event/square-dance-the-arts-center-2/
LOCATION:The Arts Center\, aka Randolph Co. Community Arts Council\, 2 Park St\, Elkins\, WV\, 26241\, United States
CATEGORIES:Art & Culture
GEO:38.924095;-79.850318
X-APPLE-STRUCTURED-LOCATION;VALUE=URI;X-ADDRESS=The Arts Center aka Randolph Co. Community Arts Council 2 Park St Elkins WV 26241 United States;X-APPLE-RADIUS=500;X-TITLE=2 Park St:geo:-79.850318,38.924095
END:VEVENT
BEGIN:VEVENT
DTSTART;TZID=UTC:20251030T190000
DTEND;TZID=UTC:20251030T210000
DTSTAMP:20260421T044615
CREATED:20251017T173923Z
LAST-MODIFIED:20251017T173923Z
UID:31964-1761850800-1761858000@elkinsrandolphwv.com
SUMMARY:Halloween Square Dance | The Arts Center
DESCRIPTION:
URL:https://elkinsrandolphwv.com/event/halloween-square-dance-the-arts-center/
LOCATION:The Arts Center\, aka Randolph Co. Community Arts Council\, 2 Park St\, Elkins\, WV\, 26241\, United States
CATEGORIES:Art & Culture,Entertainment
GEO:38.924095;-79.850318
X-APPLE-STRUCTURED-LOCATION;VALUE=URI;X-ADDRESS=The Arts Center aka Randolph Co. Community Arts Council 2 Park St Elkins WV 26241 United States;X-APPLE-RADIUS=500;X-TITLE=2 Park St:geo:-79.850318,38.924095
END:VEVENT
BEGIN:VEVENT
DTSTART;TZID=UTC:20250829T190000
DTEND;TZID=UTC:20250829T210000
DTSTAMP:20260421T044615
CREATED:20250726T003456Z
LAST-MODIFIED:20250726T003456Z
UID:31084-1756494000-1756501200@elkinsrandolphwv.com
SUMMARY:Square Dance | The Arts Center
DESCRIPTION:Monthly dances in Elkins resume Friday\, August 29th with a great lineup featuring legendary West Virginia dance caller Lou Maiuri and music provided by Gerry Milnes and Friends. \n \n 
URL:https://elkinsrandolphwv.com/event/square-dance-the-arts-center/
LOCATION:The Arts Center\, aka Randolph Co. Community Arts Council\, 2 Park St\, Elkins\, WV\, 26241\, United States
CATEGORIES:Art & Culture,Music
GEO:38.924095;-79.850318
X-APPLE-STRUCTURED-LOCATION;VALUE=URI;X-ADDRESS=The Arts Center aka Randolph Co. Community Arts Council 2 Park St Elkins WV 26241 United States;X-APPLE-RADIUS=500;X-TITLE=2 Park St:geo:-79.850318,38.924095
END:VEVENT
END:VCALENDAR