BEGIN:VCALENDAR
VERSION:2.0
PRODID:-//Elkins-Randolph County Tourism - ECPv6.15.20//NONSGML v1.0//EN
CALSCALE:GREGORIAN
METHOD:PUBLISH
X-ORIGINAL-URL:https://elkinsrandolphwv.com
X-WR-CALDESC:Events for Elkins-Randolph County Tourism
REFRESH-INTERVAL;VALUE=DURATION:PT1H
X-Robots-Tag:noindex
X-PUBLISHED-TTL:PT1H
BEGIN:VTIMEZONE
TZID:UTC
BEGIN:STANDARD
TZOFFSETFROM:+0000
TZOFFSETTO:+0000
TZNAME:UTC
DTSTART:20250101T000000
END:STANDARD
END:VTIMEZONE
BEGIN:VTIMEZONE
TZID:America/New_York
BEGIN:DAYLIGHT
TZOFFSETFROM:-0500
TZOFFSETTO:-0400
TZNAME:EDT
DTSTART:20250309T070000
END:DAYLIGHT
BEGIN:STANDARD
TZOFFSETFROM:-0400
TZOFFSETTO:-0500
TZNAME:EST
DTSTART:20251102T060000
END:STANDARD
BEGIN:DAYLIGHT
TZOFFSETFROM:-0500
TZOFFSETTO:-0400
TZNAME:EDT
DTSTART:20260308T070000
END:DAYLIGHT
BEGIN:STANDARD
TZOFFSETFROM:-0400
TZOFFSETTO:-0500
TZNAME:EST
DTSTART:20261101T060000
END:STANDARD
BEGIN:DAYLIGHT
TZOFFSETFROM:-0500
TZOFFSETTO:-0400
TZNAME:EDT
DTSTART:20270314T070000
END:DAYLIGHT
BEGIN:STANDARD
TZOFFSETFROM:-0400
TZOFFSETTO:-0500
TZNAME:EST
DTSTART:20271107T060000
END:STANDARD
END:VTIMEZONE
BEGIN:VEVENT
DTSTART;VALUE=DATE:20260516
DTEND;VALUE=DATE:20260518
DTSTAMP:20260423T194401
CREATED:20260210T023959Z
LAST-MODIFIED:20260409T174032Z
UID:32891-1778896800-1778983199@elkinsrandolphwv.com
SUMMARY:Elkins-Randolph County Chamber Golf Tournament | Elks Golf Course
DESCRIPTION:Registration: \n• $60 per individual \n• $240 per team of 4 \nWhat to expect: \n18 holes of golf \nCourse games & contests \nPrizes & giveaways \nNetworking & community fun \nSpots are limited and filling fast—you won’t want to miss this! \nRegister today by CLICKING HERE! \nOr scan the QR code to secure your spot! \nLet’s hit the course together and make \nthis inaugural event one to remember!
URL:https://elkinsrandolphwv.com/event/elkins-randolph-county-chamber-golf-tournament-elks-golf-course/
LOCATION:Elks Golf Course\, Country Club Rd\, Elkins\, WV\, 26241\, United States
CATEGORIES:Competition,Sports & Recreations
ORGANIZER;CN="Elkins-Randolph County Chamber of Commerce":MAILTO:chamber@erccc.com
END:VEVENT
BEGIN:VEVENT
DTSTART;TZID=America/New_York:20260822T170000
DTEND;TZID=America/New_York:20260822T200000
DTSTAMP:20260423T194401
CREATED:20260419T200611Z
LAST-MODIFIED:20260419T201014Z
UID:34091-1787418000-1787428800@elkinsrandolphwv.com
SUMMARY:2nd Annual Denim & Diamonds @ Dakan Arena
DESCRIPTION: Tickets are ON SALE NOW for \nDenim & Diamonds – Saturday\, August 22 at 5PM \n 21+ event featuring food\, vendors\, a bridle less horse show\, blinged-out prizes & more! \n A portion of proceeds benefits 4H Camp Pioneer. \n Get your tickets below & don’t miss this unforgettable evening! \n 
URL:https://elkinsrandolphwv.com/event/denim-diamonds-dakan-arena-2/
LOCATION:Dakan Arena\, Camp Pioneer\, Beverly\, WV\, 26253\, United States
CATEGORIES:Entertainment,Food & Drink
ATTACH;FMTTYPE=image/jpeg:https://elkinsrandolphwv.com/wp-content/uploads/2019/03/46488311_286071592029392_941823183403614208_n-e1727703782506.jpg
ORGANIZER;CN="Elkins-Randolph County Chamber of Commerce":MAILTO:chamber@erccc.com
END:VEVENT
END:VCALENDAR