BEGIN:VCALENDAR
VERSION:2.0
PRODID:-//Elkins-Randolph County Tourism - ECPv6.15.20//NONSGML v1.0//EN
CALSCALE:GREGORIAN
METHOD:PUBLISH
X-WR-CALNAME:Elkins-Randolph County Tourism
X-ORIGINAL-URL:https://elkinsrandolphwv.com
X-WR-CALDESC:Events for Elkins-Randolph County Tourism
REFRESH-INTERVAL;VALUE=DURATION:PT1H
X-Robots-Tag:noindex
X-PUBLISHED-TTL:PT1H
BEGIN:VTIMEZONE
TZID:UTC
BEGIN:STANDARD
TZOFFSETFROM:+0000
TZOFFSETTO:+0000
TZNAME:UTC
DTSTART:20240101T000000
END:STANDARD
END:VTIMEZONE
BEGIN:VEVENT
DTSTART;TZID=UTC:20250408T180000
DTEND;TZID=UTC:20250408T200000
DTSTAMP:20260423T224211
CREATED:20250227T222819Z
LAST-MODIFIED:20250305T213800Z
UID:29923-1744135200-1744142400@elkinsrandolphwv.com
SUMMARY:Mon Forest Towns Gravel & Bikepacking Routes Planning Meeting
DESCRIPTION:When: April 8th at 6PM\nWhere: Big Timber Brewing \nJoin Mon Forest Towns for a series of community meetings to learn about the Mon Forest Towns Partnerships’s (MFTP) new collaborative gravel and bikepacking route network led by the team of Village to Village Trails\, Bikepacking Roots\, and MountainRides! The meeting dates/times/locations are listed below\, as well as our Facebook Events Page! MFTP is a a regional non-profit working to advance outdoor recreation and downtown development in twelve towns across eight West Virginia counties within the Monongahela National Forest. They initiated this project to create a network of gravel cycling and bikepacking routes to showcase the region’s natural beauty\, link communities\, and highlight the rich history and cultural heritage throughout the Mon National Forest!
URL:https://elkinsrandolphwv.com/event/mon-forest-towns-gravel-bikepacking-routes-planning-meeting/
LOCATION:Big Timber Brewing\, 2 Davis Avenue\, Elkins\, WV\, 26241\, United States
ATTACH;FMTTYPE=image/png:https://elkinsrandolphwv.com/wp-content/uploads/2020/12/Mon-Forest-Town-1-e1741192670918.png
END:VEVENT
END:VCALENDAR