BEGIN:VCALENDAR
VERSION:2.0
PRODID:-//Elkins-Randolph County Tourism - ECPv6.15.20//NONSGML v1.0//EN
CALSCALE:GREGORIAN
METHOD:PUBLISH
X-WR-CALNAME:Elkins-Randolph County Tourism
X-ORIGINAL-URL:https://elkinsrandolphwv.com
X-WR-CALDESC:Events for Elkins-Randolph County Tourism
REFRESH-INTERVAL;VALUE=DURATION:PT1H
X-Robots-Tag:noindex
X-PUBLISHED-TTL:PT1H
BEGIN:VTIMEZONE
TZID:UTC
BEGIN:STANDARD
TZOFFSETFROM:+0000
TZOFFSETTO:+0000
TZNAME:UTC
DTSTART:20210101T000000
END:STANDARD
END:VTIMEZONE
BEGIN:VEVENT
DTSTART;TZID=UTC:20240911T090000
DTEND;TZID=UTC:20240911T190000
DTSTAMP:20260424T193606
CREATED:20240911T174038Z
LAST-MODIFIED:20240911T174038Z
UID:29221-1726045200-1726081200@elkinsrandolphwv.com
SUMMARY:MSFF - Photography Contest Exhibit
DESCRIPTION:The Atrium
URL:https://elkinsrandolphwv.com/event/msff-photography-contest-exhibit-2/
LOCATION:Seneca Mall
CATEGORIES:Art & Culture,Community,Kids & Family,Shopping
ATTACH;FMTTYPE=image/jpeg:https://elkinsrandolphwv.com/wp-content/uploads/2019/10/MSFF-e1661781904912.jpg
END:VEVENT
BEGIN:VEVENT
DTSTART;TZID=UTC:20240910T090000
DTEND;TZID=UTC:20240910T180000
DTSTAMP:20260424T193606
CREATED:20240910T194005Z
LAST-MODIFIED:20240910T194005Z
UID:29202-1725958800-1725991200@elkinsrandolphwv.com
SUMMARY:MSFF - Log Cabin Quilters’ Guild Quilt Show
DESCRIPTION:
URL:https://elkinsrandolphwv.com/event/msff-log-cabin-quilters-guild-quilt-show/
LOCATION:Elkins Randolph County YMCA\, 400 Davis Avenue\, Elkins\, WV\, 26241\, United States
CATEGORIES:Art & Culture,Community,Educational,Entertainment,Kids & Family
ATTACH;FMTTYPE=image/jpeg:https://elkinsrandolphwv.com/wp-content/uploads/2019/10/MSFF-e1661781904912.jpg
END:VEVENT
BEGIN:VEVENT
DTSTART;TZID=UTC:20240907T090000
DTEND;TZID=UTC:20240907T150000
DTSTAMP:20260424T193606
CREATED:20240904T235625Z
LAST-MODIFIED:20240904T235625Z
UID:29140-1725699600-1725721200@elkinsrandolphwv.com
SUMMARY:MSFF - Tennis\, Pickleball\, & Racquetball Tournament
DESCRIPTION:8:00 AM Registration ALL Sports Elkins City Park Tennis – Davis & Elkins College\, Pickleball – Elkins City Park Racquetball – Elkins/Randolph County YMCA \n*Rain date September 14 & September 15 \nMore Event Details
URL:https://elkinsrandolphwv.com/event/msff-tennis-pickleball-racquetball-tournament/2024-09-07/
LOCATION:Davis and Elkins College
CATEGORIES:Community,Competition,Davis & Elkins College,Kids & Family,Sports & Recreations
ATTACH;FMTTYPE=image/jpeg:https://elkinsrandolphwv.com/wp-content/uploads/2019/10/MSFF-e1661781904912.jpg
END:VEVENT
BEGIN:VEVENT
DTSTART;TZID=UTC:20231008T140000
DTEND;TZID=UTC:20231008T180000
DTSTAMP:20260424T193606
CREATED:20230929T204704Z
LAST-MODIFIED:20230929T204704Z
UID:27734-1696773600-1696788000@elkinsrandolphwv.com
SUMMARY:Official Closing Ceremony
DESCRIPTION:
URL:https://elkinsrandolphwv.com/event/official-closing-ceremony-2/
LOCATION:Jennings Randolph Federal Building Plaza
END:VEVENT
BEGIN:VEVENT
DTSTART;TZID=UTC:20231008T073000
DTEND;TZID=UTC:20231008T140000
DTSTAMP:20260424T193606
CREATED:20230929T204353Z
LAST-MODIFIED:20230929T204353Z
UID:27732-1696750200-1696773600@elkinsrandolphwv.com
SUMMARY:Buckwheat Cake & Sausage Feed
DESCRIPTION:
URL:https://elkinsrandolphwv.com/event/buckwheat-cake-sausage-feed/
LOCATION:Izaak Walton League\, 59 Darwin Dr\, Beverly\, WV\, 26253\, United States
END:VEVENT
BEGIN:VEVENT
DTSTART;TZID=UTC:20231006T210000
DTEND;TZID=UTC:20231006T233000
DTSTAMP:20260424T193606
CREATED:20230929T200849Z
LAST-MODIFIED:20230929T200849Z
UID:27724-1696626000-1696635000@elkinsrandolphwv.com
SUMMARY:Queen's Ball
DESCRIPTION:
URL:https://elkinsrandolphwv.com/event/queens-ball-2/
LOCATION:Phil Gainer Community Center\, 142 Robert E Lee Ave Ext\, Elkins\, WV 26241\, USA\, 149 Robert E Lee Ave Exd\, United States
GEO:38.925764;-79.864059
X-APPLE-STRUCTURED-LOCATION;VALUE=URI;X-ADDRESS=Phil Gainer Community Center 142 Robert E Lee Ave Ext Elkins WV 26241 USA 149 Robert E Lee Ave Exd United States;X-APPLE-RADIUS=500;X-TITLE=149 Robert E Lee Ave Exd:geo:-79.864059,38.925764
END:VEVENT
BEGIN:VEVENT
DTSTART;TZID=UTC:20231006T140000
DTEND;TZID=UTC:20231006T170000
DTSTAMP:20260424T193606
CREATED:20230929T200446Z
LAST-MODIFIED:20230929T200446Z
UID:27722-1696600800-1696611600@elkinsrandolphwv.com
SUMMARY:Coronation of Maid Silvia LXXXV
DESCRIPTION:
URL:https://elkinsrandolphwv.com/event/coronation-of-maid-silvia-lxxxv/
LOCATION:Davis & Elkins College Outdoor Amphitheater\, 129 College St\, Elkins\, 26241\, United States
END:VEVENT
BEGIN:VEVENT
DTSTART;TZID=UTC:20231006T130000
DTEND;TZID=UTC:20231006T140000
DTSTAMP:20260424T193606
CREATED:20230929T200259Z
LAST-MODIFIED:20230929T200259Z
UID:27721-1696597200-1696600800@elkinsrandolphwv.com
SUMMARY:Pre-Coronation Music & Entertainment
DESCRIPTION:
URL:https://elkinsrandolphwv.com/event/pre-coronation-music-entertainment-2/
LOCATION:Davis & Elkins College Outdoor Amphitheater\, 129 College St\, Elkins\, 26241\, United States
END:VEVENT
BEGIN:VEVENT
DTSTART;TZID=UTC:20231006T100000
DTEND;TZID=UTC:20231006T180000
DTSTAMP:20260424T193606
CREATED:20230929T195204Z
LAST-MODIFIED:20230929T195204Z
UID:27717-1696586400-1696615200@elkinsrandolphwv.com
SUMMARY:MSFF Juried arts Exhibit Seneca Trail Artists Guild
DESCRIPTION:
URL:https://elkinsrandolphwv.com/event/msff-juried-arts-exhibit-seneca-trail-artists-guild/2023-10-06/
LOCATION:The Arts Center\, aka Randolph Co. Community Arts Council\, 2 Park St\, Elkins\, WV\, 26241\, United States
CATEGORIES:Art & Culture
GEO:38.924095;-79.850318
X-APPLE-STRUCTURED-LOCATION;VALUE=URI;X-ADDRESS=The Arts Center aka Randolph Co. Community Arts Council 2 Park St Elkins WV 26241 United States;X-APPLE-RADIUS=500;X-TITLE=2 Park St:geo:-79.850318,38.924095
END:VEVENT
BEGIN:VEVENT
DTSTART;TZID=UTC:20231005T090000
DTEND;TZID=UTC:20231005T190000
DTSTAMP:20260424T193606
CREATED:20230925T212749Z
LAST-MODIFIED:20230925T212749Z
UID:27670-1696496400-1696532400@elkinsrandolphwv.com
SUMMARY:Elkins City Park Events
DESCRIPTION:Chainsaw Carvers: “The Mason Dixie Boys”\nConservation Village\nThe Dynamo Dogs\nGlass Blowing: “Appalachian Glass”\nHillbilly Fun Inflatable Bounce Houses\nLaurel Fork Falconry\nVendors & Exhibitors\nDino-ROAR *FRIDAY ONLY*\n( Shows primarily in the morning for kids day in the park)
URL:https://elkinsrandolphwv.com/event/elkins-city-park-events-4/2023-10-05/
LOCATION:Elkins City Park\, Elkins\, WV 26241\, USA\, 101 Elkins Ave\, United States
CATEGORIES:Art & Culture,Community,Educational,Entertainment,Fairs & Festivals,Food & Drink,Kids & Family,Outdoor Activities,Outdoors
GEO:38.945377;-79.854602
X-APPLE-STRUCTURED-LOCATION;VALUE=URI;X-ADDRESS=Elkins City Park Elkins WV 26241 USA 101 Elkins Ave United States;X-APPLE-RADIUS=500;X-TITLE=101 Elkins Ave:geo:-79.854602,38.945377
END:VEVENT
BEGIN:VEVENT
DTSTART;TZID=UTC:20231004T170000
DTEND;TZID=UTC:20231004T190000
DTSTAMP:20260424T193606
CREATED:20230925T215138Z
LAST-MODIFIED:20230925T215138Z
UID:27681-1696438800-1696446000@elkinsrandolphwv.com
SUMMARY:MSFF Juried Arts Exhibit Seneca Trail Artist Guild
DESCRIPTION:juried art show
URL:https://elkinsrandolphwv.com/event/msff-juried-arts-exhibit-seneca-trail-artist-guild/
LOCATION:The Arts Center\, aka Randolph Co. Community Arts Council\, 2 Park St\, Elkins\, WV\, 26241\, United States
CATEGORIES:Art & Culture
GEO:38.924095;-79.850318
X-APPLE-STRUCTURED-LOCATION;VALUE=URI;X-ADDRESS=The Arts Center aka Randolph Co. Community Arts Council 2 Park St Elkins WV 26241 United States;X-APPLE-RADIUS=500;X-TITLE=2 Park St:geo:-79.850318,38.924095
END:VEVENT
BEGIN:VEVENT
DTSTART;TZID=UTC:20231002T183000
DTEND;TZID=UTC:20231002T220000
DTSTAMP:20260424T193606
CREATED:20230925T211021Z
LAST-MODIFIED:20230925T211021Z
UID:27655-1696271400-1696284000@elkinsrandolphwv.com
SUMMARY:Citizens Bank Festival Stage
DESCRIPTION:area dance groups\nA Night of Dance
URL:https://elkinsrandolphwv.com/event/citizens-bank-festival-stage-4/
LOCATION:Rotary Ampitheatre in Elkins Town Square\, 315 Railroad Avenue\, Elkins\, WV\, 26241\, United States\, 2 Railroad Ave\, United States
CATEGORIES:Art & Culture,Entertainment
GEO:38.92313;-79.851004
X-APPLE-STRUCTURED-LOCATION;VALUE=URI;X-ADDRESS=Rotary Ampitheatre in Elkins Town Square 315 Railroad Avenue Elkins WV 26241 United States 2 Railroad Ave United States;X-APPLE-RADIUS=500;X-TITLE=2 Railroad Ave:geo:-79.851004,38.92313
END:VEVENT
BEGIN:VEVENT
DTSTART;TZID=UTC:20231002T170000
DTEND;TZID=UTC:20231002T210000
DTSTAMP:20260424T193606
CREATED:20230925T210641Z
LAST-MODIFIED:20230925T210641Z
UID:27651-1696266000-1696280400@elkinsrandolphwv.com
SUMMARY:Information Booth
DESCRIPTION:corner of Davis avenue and 3rd street
URL:https://elkinsrandolphwv.com/event/information-booth/2023-10-02/
CATEGORIES:Information
END:VEVENT
BEGIN:VEVENT
DTSTART;TZID=UTC:20230930T160000
DTEND;TZID=UTC:20230930T200000
DTSTAMP:20260424T193606
CREATED:20230925T190712Z
LAST-MODIFIED:20230925T190712Z
UID:27643-1696089600-1696104000@elkinsrandolphwv.com
SUMMARY:MSFF Kickoff Party
DESCRIPTION:Elkins Town Square\nLive Music by Bon Journey @ 6:30 PM\nIf Inclement Weather Occurs Resort to >>>>>\nPhil Gainer Community Center\, Elkins\, WV
URL:https://elkinsrandolphwv.com/event/msff-kickoff-party/
LOCATION:Elkins Town Square Ampitheatre\, 315 Railroad Avenue\, Elkins\, WV\, 26241\, United States
CATEGORIES:Art & Culture,Community,Music,Outdoors
END:VEVENT
BEGIN:VEVENT
DTSTART;TZID=UTC:20230930T130000
DTEND;TZID=UTC:20230930T163000
DTSTAMP:20260424T193606
CREATED:20230925T184636Z
LAST-MODIFIED:20230925T184636Z
UID:27638-1696078800-1696091400@elkinsrandolphwv.com
SUMMARY:MSFF Highland Dance Competition (PM Session)
DESCRIPTION:Intermediate & Premier contest\nRegistration at 12:30 PM\n@ Citizens Bank of WV Amphitheatre\, D&E College
URL:https://elkinsrandolphwv.com/event/msff-highland-dance-competition-pm-session/
LOCATION:Davis and Elkins College
CATEGORIES:Competition,Davis & Elkins College
END:VEVENT
BEGIN:VEVENT
DTSTART;TZID=UTC:20230930T110000
DTEND;TZID=UTC:20230930T140000
DTSTAMP:20260424T193606
CREATED:20230925T183837Z
LAST-MODIFIED:20230925T183837Z
UID:27635-1696071600-1696082400@elkinsrandolphwv.com
SUMMARY:Official Opening Ceremony MSFF
DESCRIPTION:Located at\, Jennings Randolph Federal Building Plaza
URL:https://elkinsrandolphwv.com/event/official-opening-ceremony-msff/
LOCATION:Jennings Randolph Federal Building Plaza
END:VEVENT
BEGIN:VEVENT
DTSTART;TZID=UTC:20230930T090000
DTEND;TZID=UTC:20230930T120000
DTSTAMP:20260424T193606
CREATED:20230925T183257Z
LAST-MODIFIED:20230925T183257Z
UID:27634-1696064400-1696075200@elkinsrandolphwv.com
SUMMARY:MSFF Highland Dance Competition (AM Session)
DESCRIPTION:Primary\, Beginner\, and Novice contest\nRegistration Citizens Bank of WV Amphitheatre\, D&E College
URL:https://elkinsrandolphwv.com/event/msff-highland-dance-competition-am-session/
LOCATION:Davis and Elkins College
CATEGORIES:Competition,Entertainment,Kids & Family
END:VEVENT
BEGIN:VEVENT
DTSTART;TZID=UTC:20221009T140000
DTEND;TZID=UTC:20221009T160000
DTSTAMP:20260424T193606
CREATED:20220921T130245Z
LAST-MODIFIED:20220921T130245Z
UID:26308-1665324000-1665331200@elkinsrandolphwv.com
SUMMARY:Official Closing Ceremony
DESCRIPTION:Federal Building Plaza
URL:https://elkinsrandolphwv.com/event/official-closing-ceremony/
CATEGORIES:Art & Culture,Community,Kids & Family
ATTACH;FMTTYPE=image/jpeg:https://elkinsrandolphwv.com/wp-content/uploads/2019/10/MSFF-e1661781904912.jpg
END:VEVENT
BEGIN:VEVENT
DTSTART;TZID=UTC:20221009T130000
DTEND;TZID=UTC:20221009T170000
DTSTAMP:20260424T193606
CREATED:20220921T131620Z
LAST-MODIFIED:20220921T131620Z
UID:26318-1665320400-1665334800@elkinsrandolphwv.com
SUMMARY:Gambill Amusement Carnival
DESCRIPTION:Oct 2: 2pm-6pm\nOct 3: 6-10pm\nOct 4: 6-10pm\nOct 5: 6-10pm\nOct 6: 6-11pm\nOct 7: 10am-11pm\nOct 8: 10am-11pm\nOct 9: 1-5pm
URL:https://elkinsrandolphwv.com/event/gambill-amusement-carnival-8/
LOCATION:315 Railroad Ave Elkins\, WV 26241
CATEGORIES:Community,Entertainment,Fairs & Festivals,Food & Drink,Kids & Family,Outdoor Activities
ATTACH;FMTTYPE=image/png:https://elkinsrandolphwv.com/wp-content/uploads/2022/09/events-logo-nophoto-e1663751393143.png
END:VEVENT
BEGIN:VEVENT
DTSTART;TZID=UTC:20221009T110000
DTEND;TZID=UTC:20221009T130000
DTSTAMP:20260424T193606
CREATED:20220921T125846Z
LAST-MODIFIED:20220921T125846Z
UID:26307-1665313200-1665320400@elkinsrandolphwv.com
SUMMARY:Muzzleloading Contest
DESCRIPTION:Tygart Valley Muzzleloading Range\, Files Creek Road
URL:https://elkinsrandolphwv.com/event/muzzleloading-contest/
CATEGORIES:Community,Competition,Entertainment,Outdoor Activities,Sports & Recreations
ATTACH;FMTTYPE=image/jpeg:https://elkinsrandolphwv.com/wp-content/uploads/2019/10/MSFF-e1661781904912.jpg
END:VEVENT
BEGIN:VEVENT
DTSTART;TZID=UTC:20221009T073000
DTEND;TZID=UTC:20221009T140000
DTSTAMP:20260424T193606
CREATED:20220921T125439Z
LAST-MODIFIED:20220921T125439Z
UID:26306-1665300600-1665324000@elkinsrandolphwv.com
SUMMARY:Buckwheat Cake and Sausage Feed
DESCRIPTION:
URL:https://elkinsrandolphwv.com/event/buckwheat-cake-and-sausage-feed/
LOCATION:Izaak Walton League\, 59 Darwin Dr\, Beverly\, WV\, 26253\, United States
CATEGORIES:Community,Fairs & Festivals,Kids & Family
ATTACH;FMTTYPE=image/jpeg:https://elkinsrandolphwv.com/wp-content/uploads/2019/10/MSFF-e1661781904912.jpg
END:VEVENT
BEGIN:VEVENT
DTSTART;TZID=UTC:20221008T190000
DTEND;TZID=UTC:20221008T210000
DTSTAMP:20260424T193606
CREATED:20220921T125157Z
LAST-MODIFIED:20220921T125157Z
UID:26305-1665255600-1665262800@elkinsrandolphwv.com
SUMMARY:Country Music Show: Country on Campus Tour
DESCRIPTION:Free Concert\, Citizens Bank of WV Amphitheatre at D&E \n(*Inclement Weather Location: Harper McNeely Auditorium at D&E*)
URL:https://elkinsrandolphwv.com/event/country-music-show-country-on-campus-tour/
LOCATION:Davis & Elkins College Outdoor Amphitheatre\, 100 Campus Drive\, Elkins\, WV\, 26241\, United States
CATEGORIES:Art & Culture,Community,Davis & Elkins College,Fairs & Festivals,Food & Drink,Kids & Family,Music,Outdoor Activities
ATTACH;FMTTYPE=image/jpeg:https://elkinsrandolphwv.com/wp-content/uploads/2019/10/MSFF-e1661781904912.jpg
END:VEVENT
BEGIN:VEVENT
DTSTART;TZID=UTC:20221008T150000
DTEND;TZID=UTC:20221008T170000
DTSTAMP:20260424T193606
CREATED:20220921T124620Z
LAST-MODIFIED:20220921T124620Z
UID:26303-1665241200-1665248400@elkinsrandolphwv.com
SUMMARY:Axe Women Loggers of Maine
DESCRIPTION:
URL:https://elkinsrandolphwv.com/event/axe-women-loggers-of-maine-4/
LOCATION:Elkins City Park\, Elkins\, WV 26241\, USA\, 101 Elkins Ave\, United States
CATEGORIES:Art & Culture,Community,Entertainment,Fairs & Festivals,Food & Drink,Kids & Family,Outdoor Activities
ATTACH;FMTTYPE=image/webp:https://elkinsrandolphwv.com/wp-content/uploads/2022/09/57e359d34c036-e1663264464372.webp
GEO:38.945377;-79.854602
X-APPLE-STRUCTURED-LOCATION;VALUE=URI;X-ADDRESS=Elkins City Park Elkins WV 26241 USA 101 Elkins Ave United States;X-APPLE-RADIUS=500;X-TITLE=101 Elkins Ave:geo:-79.854602,38.945377
END:VEVENT
BEGIN:VEVENT
DTSTART;TZID=UTC:20221008T133000
DTEND;TZID=UTC:20221008T150000
DTSTAMP:20260424T193606
CREATED:20220921T124346Z
LAST-MODIFIED:20220921T124346Z
UID:26302-1665235800-1665241200@elkinsrandolphwv.com
SUMMARY:Grand Feature Parade
DESCRIPTION:12th Street (Start)
URL:https://elkinsrandolphwv.com/event/grand-feature-parade/
CATEGORIES:Art & Culture,Entertainment,Fairs & Festivals,Food & Drink,Kids & Family
ATTACH;FMTTYPE=image/jpeg:https://elkinsrandolphwv.com/wp-content/uploads/2019/10/MSFF-e1661781904912.jpg
END:VEVENT
BEGIN:VEVENT
DTSTART;TZID=UTC:20221008T131500
DTEND;TZID=UTC:20221008T150000
DTSTAMP:20260424T193606
CREATED:20220921T124302Z
LAST-MODIFIED:20220921T124302Z
UID:26301-1665234900-1665241200@elkinsrandolphwv.com
SUMMARY:Special Units and Log Truck Parade
DESCRIPTION:12th Street (Start)
URL:https://elkinsrandolphwv.com/event/special-units-and-log-truck-parade/
CATEGORIES:Art & Culture,Entertainment,Fairs & Festivals,Food & Drink,Kids & Family
ATTACH;FMTTYPE=image/jpeg:https://elkinsrandolphwv.com/wp-content/uploads/2019/10/MSFF-e1661781904912.jpg
END:VEVENT
BEGIN:VEVENT
DTSTART;TZID=UTC:20221008T130000
DTEND;TZID=UTC:20221008T150000
DTSTAMP:20260424T193606
CREATED:20220921T124156Z
LAST-MODIFIED:20220921T124156Z
UID:26300-1665234000-1665241200@elkinsrandolphwv.com
SUMMARY:Antique and Classic Street Rod Car Parade
DESCRIPTION:12th Street (Start)
URL:https://elkinsrandolphwv.com/event/antique-and-classic-street-rod-car-parade/
CATEGORIES:Art & Culture,Entertainment,Fairs & Festivals,Food & Drink,Kids & Family
ATTACH;FMTTYPE=image/jpeg:https://elkinsrandolphwv.com/wp-content/uploads/2019/10/MSFF-e1661781904912.jpg
END:VEVENT
BEGIN:VEVENT
DTSTART;TZID=UTC:20221008T120000
DTEND;TZID=UTC:20221008T140000
DTSTAMP:20260424T193606
CREATED:20220921T123914Z
LAST-MODIFIED:20220921T124536Z
UID:26299-1665230400-1665237600@elkinsrandolphwv.com
SUMMARY:Axe Women Loggers of Maine
DESCRIPTION:
URL:https://elkinsrandolphwv.com/event/axe-women-loggers-of-maine-3/
LOCATION:Elkins City Park\, Elkins\, WV 26241\, USA\, 101 Elkins Ave\, United States
CATEGORIES:Art & Culture,Community,Entertainment,Fairs & Festivals,Food & Drink,Kids & Family,Outdoor Activities
ATTACH;FMTTYPE=image/webp:https://elkinsrandolphwv.com/wp-content/uploads/2022/09/57e359d34c036-e1663264464372.webp
GEO:38.945377;-79.854602
X-APPLE-STRUCTURED-LOCATION;VALUE=URI;X-ADDRESS=Elkins City Park Elkins WV 26241 USA 101 Elkins Ave United States;X-APPLE-RADIUS=500;X-TITLE=101 Elkins Ave:geo:-79.854602,38.945377
END:VEVENT
BEGIN:VEVENT
DTSTART;TZID=UTC:20221008T110000
DTEND;TZID=UTC:20221008T120000
DTSTAMP:20260424T193606
CREATED:20220921T122844Z
LAST-MODIFIED:20220921T122844Z
UID:26298-1665226800-1665230400@elkinsrandolphwv.com
SUMMARY:Indianapolis Motorcycle Drill Team
DESCRIPTION:Downtown Elkins between 3rd and 4th Streets
URL:https://elkinsrandolphwv.com/event/indianapolis-motorcycle-drill-team-2/
CATEGORIES:Community,Entertainment
ATTACH;FMTTYPE=image/jpeg:https://elkinsrandolphwv.com/wp-content/uploads/2019/10/MSFF-e1661781904912.jpg
END:VEVENT
BEGIN:VEVENT
DTSTART;TZID=UTC:20221008T100000
DTEND;TZID=UTC:20221008T230000
DTSTAMP:20260424T193606
CREATED:20220921T131533Z
LAST-MODIFIED:20220921T131533Z
UID:26317-1665223200-1665270000@elkinsrandolphwv.com
SUMMARY:Gambill Amusement Carnival
DESCRIPTION:Oct 2: 2pm-6pm\nOct 3: 6-10pm\nOct 4: 6-10pm\nOct 5: 6-10pm\nOct 6: 6-11pm\nOct 7: 10am-11pm\nOct 8: 10am-11pm\nOct 9: 1-5pm
URL:https://elkinsrandolphwv.com/event/gambill-amusement-carnival-7/
LOCATION:315 Railroad Ave Elkins\, WV 26241
CATEGORIES:Community,Entertainment,Fairs & Festivals,Food & Drink,Kids & Family,Outdoor Activities
ATTACH;FMTTYPE=image/png:https://elkinsrandolphwv.com/wp-content/uploads/2022/09/events-logo-nophoto-e1663751393143.png
END:VEVENT
BEGIN:VEVENT
DTSTART;TZID=UTC:20221008T100000
DTEND;TZID=UTC:20221008T170000
DTSTAMP:20260424T193606
CREATED:20220921T122718Z
LAST-MODIFIED:20220921T122718Z
UID:26297-1665223200-1665248400@elkinsrandolphwv.com
SUMMARY:Information Booth Open
DESCRIPTION:Corner of Davis Avenue & 3rd Street
URL:https://elkinsrandolphwv.com/event/information-booth-open-6/
CATEGORIES:Community,Information
ATTACH;FMTTYPE=image/jpeg:https://elkinsrandolphwv.com/wp-content/uploads/2019/10/MSFF-e1661781904912.jpg
END:VEVENT
END:VCALENDAR