BEGIN:VCALENDAR
VERSION:2.0
PRODID:-//Elkins-Randolph County Tourism - ECPv6.15.20//NONSGML v1.0//EN
CALSCALE:GREGORIAN
METHOD:PUBLISH
X-ORIGINAL-URL:https://elkinsrandolphwv.com
X-WR-CALDESC:Events for Elkins-Randolph County Tourism
REFRESH-INTERVAL;VALUE=DURATION:PT1H
X-Robots-Tag:noindex
X-PUBLISHED-TTL:PT1H
BEGIN:VTIMEZONE
TZID:UTC
BEGIN:STANDARD
TZOFFSETFROM:+0000
TZOFFSETTO:+0000
TZNAME:UTC
DTSTART:20180101T000000
END:STANDARD
END:VTIMEZONE
BEGIN:VEVENT
DTSTART;TZID=UTC:20250925T173000
DTEND;TZID=UTC:20250925T193000
DTSTAMP:20260423T193044
CREATED:20250906T232948Z
LAST-MODIFIED:20250906T234233Z
UID:31533-1758821400-1758828600@elkinsrandolphwv.com
SUMMARY:Last Cruise In of the Year-Mountain State Street Machines
DESCRIPTION:
URL:https://elkinsrandolphwv.com/event/last-cruise-in-of-the-year-mountain-state-street-machines/
LOCATION:Elkins Depot Welcome Center\, 315 Railroad Ave\, Elkins\, WV 26241\, USA\, 2 Railroad Ave\, United States
CATEGORIES:Community,Outdoors
ORGANIZER;CN="Mountain State Street Machines":MAILTO:mssmelkins@gmail.com
GEO:38.92313;-79.851004
X-APPLE-STRUCTURED-LOCATION;VALUE=URI;X-ADDRESS=Elkins Depot Welcome Center 315 Railroad Ave Elkins WV 26241 USA 2 Railroad Ave United States;X-APPLE-RADIUS=500;X-TITLE=2 Railroad Ave:geo:-79.851004,38.92313
END:VEVENT
BEGIN:VEVENT
DTSTART;TZID=UTC:20230930T130000
DTEND;TZID=UTC:20230930T160000
DTSTAMP:20260423T193044
CREATED:20230925T185134Z
LAST-MODIFIED:20230925T185134Z
UID:27639-1696078800-1696089600@elkinsrandolphwv.com
SUMMARY:Car Show/Mountain State Street Machines
DESCRIPTION:Located in the Summit Church Parking Lot\nElkins\, WV\n\n 
URL:https://elkinsrandolphwv.com/event/car-show-mountain-state-street-machines/
CATEGORIES:Art & Culture,Entertainment
ORGANIZER;CN="Mountain State Street Machines":MAILTO:mssmelkins@gmail.com
END:VEVENT
BEGIN:VEVENT
DTSTART;TZID=UTC:20210520T170000
DTEND;TZID=UTC:20210520T200000
DTSTAMP:20260423T193044
CREATED:20210329T220246Z
LAST-MODIFIED:20210427T184433Z
UID:22872-1621530000-1621540800@elkinsrandolphwv.com
SUMMARY:Mountain State Street Machine Cruise-Ins @ The Delmonte Market
DESCRIPTION:Weather permitting\, the Mountain State Street Machines will host Thursday evening cruise-ins at The Delmonte Market from May 20th until September 28th. Any year cars\, trucks\, classics\, bikes\, rods\, muscle\, customs\, and tuner are all welcome! Free outdoor live music concerts will be held at the Elkins Town Square Rotary Amphitheatre during cruise-ins twice a month.
URL:https://elkinsrandolphwv.com/event/mountain-state-street-machine-cruise-ins-the-delmonte-market/2021-05-20/
LOCATION:The Delmonte Market\, 344 Railroad Ave\, Elkins\, WV 26241\, USA\, 2 Railroad Ave\, United States
CATEGORIES:Entertainment
ATTACH;FMTTYPE=image/jpeg:https://elkinsrandolphwv.com/wp-content/uploads/2019/04/mountain-state-street-machines-logo.jpg
ORGANIZER;CN="Mountain State Street Machines":MAILTO:mssmelkins@gmail.com
GEO:38.92313;-79.851004
X-APPLE-STRUCTURED-LOCATION;VALUE=URI;X-ADDRESS=The Delmonte Market 344 Railroad Ave Elkins WV 26241 USA 2 Railroad Ave United States;X-APPLE-RADIUS=500;X-TITLE=2 Railroad Ave:geo:-79.851004,38.92313
END:VEVENT
BEGIN:VEVENT
DTSTART;VALUE=DATE:20200703
DTEND;VALUE=DATE:20200707
DTSTAMP:20260423T193044
CREATED:20200325T230110Z
LAST-MODIFIED:20200325T230110Z
UID:20065-1593741600-1594000799@elkinsrandolphwv.com
SUMMARY:Mountain State Street Machines Auto Extravaganza @ Elkins
DESCRIPTION:Join us for our largest event of the year\, our annual Auto Extravaganza! Since 1984\, Mountain State Street Machines has been bringing fun\, entertainment\, fireworks\, prizes\, delicious food and crafts from area vendors\, and stunning new\, unique\, classic\, and antique cars to the Elkins area for your enjoyment. All ages are welcome.
URL:https://elkinsrandolphwv.com/event/mountain-state-street-machines-auto-extravaganza-elkins/
LOCATION:Downtown Elkins\, Davis Avenue\, Elkins\, WV\, 26241\, United States\, 101 Davis St\, United States
CATEGORIES:Fairs & Festivals
ATTACH;FMTTYPE=image/png:https://elkinsrandolphwv.com/wp-content/uploads/2019/03/main-logo-3.png
ORGANIZER;CN="Mountain State Street Machines":MAILTO:mssmelkins@gmail.com
GEO:38.92227;-79.845372
X-APPLE-STRUCTURED-LOCATION;VALUE=URI;X-ADDRESS=Downtown Elkins Davis Avenue Elkins WV 26241 United States 101 Davis St United States;X-APPLE-RADIUS=500;X-TITLE=101 Davis St:geo:-79.845372,38.92227
END:VEVENT
BEGIN:VEVENT
DTSTART;TZID=UTC:20190801T170000
DTEND;TZID=UTC:20190801T200000
DTSTAMP:20260423T193044
CREATED:20190514T201408Z
LAST-MODIFIED:20190514T201408Z
UID:12820-1564678800-1564689600@elkinsrandolphwv.com
SUMMARY:Mountain State Street Machines Cruise-Ins
DESCRIPTION:Weather permitting\, the Mountain State Street Machines will host Thursday evening cruise-ins at The Delmonte Market from May 2nd until September 28th. Any year cars\, trucks\, classics\, bikes\, rods\, muscle\, customs\, and tuner are all welcome! Concessions\, 50-50\, free concerts will be held at the Elkins Town Square Amphitheatre during cruise-ins (in July only\, concerts will be on Wednesdays). \nThe last event of the season is the Mountain State Forest Festival Car Show & Chili Cookoff on Saturday September 28th from 1pm to 6pm. Trophies will be awarded by Maid Silvia and her royal court.
URL:https://elkinsrandolphwv.com/event/mountain-state-street-machines-cruise-ins-2/2019-08-01/
LOCATION:Downtown Elkins\, Davis Avenue\, Elkins\, WV\, 26241\, United States
ATTACH;FMTTYPE=image/png:https://elkinsrandolphwv.com/wp-content/uploads/2019/03/main-logo-3.png
ORGANIZER;CN="Mountain State Street Machines":MAILTO:mssmelkins@gmail.com
END:VEVENT
BEGIN:VEVENT
DTSTART;TZID=UTC:20190710T170000
DTEND;TZID=UTC:20190710T200000
DTSTAMP:20260423T193044
CREATED:20190514T201145Z
LAST-MODIFIED:20190514T201145Z
UID:12816-1562778000-1562788800@elkinsrandolphwv.com
SUMMARY:Mountain State Street Machines Cruise-Ins
DESCRIPTION:Weather permitting\, the Mountain State Street Machines will host Thursday evening cruise-ins at The Delmonte Market from May 2nd until September 28th. Any year cars\, trucks\, classics\, bikes\, rods\, muscle\, customs\, and tuner are all welcome! Concessions\, 50-50\, free concerts will be held at the Elkins Town Square Amphitheatre during cruise-ins (in July only\, concerts will be on Wednesdays). \nThe last event of the season is the Mountain State Forest Festival Car Show & Chili Cookoff on Saturday September 28th from 1pm to 6pm. Trophies will be awarded by Maid Silvia and her royal court.
URL:https://elkinsrandolphwv.com/event/mountain-state-street-machines-cruise-ins/2019-07-10/
LOCATION:Downtown Elkins\, Davis Avenue\, Elkins\, WV\, 26241\, United States
ATTACH;FMTTYPE=image/png:https://elkinsrandolphwv.com/wp-content/uploads/2019/03/main-logo-3.png
ORGANIZER;CN="Mountain State Street Machines":MAILTO:mssmelkins@gmail.com
END:VEVENT
BEGIN:VEVENT
DTSTART;TZID=UTC:20190622T130000
DTEND;TZID=UTC:20190622T150000
DTSTAMP:20260423T193044
CREATED:20190617T172851Z
LAST-MODIFIED:20190617T172851Z
UID:13801-1561208400-1561215600@elkinsrandolphwv.com
SUMMARY:Cruise-In @ Nella's
DESCRIPTION:Mt. State Street Machines cruise-in at Nella’s Nursing Home.\nFood will be provided for all those bringing a vehicle. \nCheck MSSM FB page for a map as soon as I can get it drawn and posted. This will be WAY in the back—there is another large bldg in the rear that you can’t see from the main road.
URL:https://elkinsrandolphwv.com/event/cruise-in-nellas/
LOCATION:Nella’s Nursing Home\, 200 Whitman Avenue\, Elkins\, WV\, 26241\, United States
ORGANIZER;CN="Mountain State Street Machines":MAILTO:mssmelkins@gmail.com
END:VEVENT
BEGIN:VEVENT
DTSTART;TZID=UTC:20190516T170000
DTEND;TZID=UTC:20190516T200000
DTSTAMP:20260423T193044
CREATED:20190514T200638Z
LAST-MODIFIED:20190514T200827Z
UID:12799-1558026000-1558036800@elkinsrandolphwv.com
SUMMARY:Mountain State Street Machines Cruise-Ins
DESCRIPTION:Weather permitting\, the Mountain State Street Machines will host Thursday evening cruise-ins at The Delmonte Market from May 2nd until September 28th. Any year cars\, trucks\, classics\, bikes\, rods\, muscle\, customs\, and tuner are all welcome! Concessions\, 50-50\, free concerts will be held at the Elkins Town Square Amphitheatre during cruise-ins (in July only\, concerts will be on Wednesdays). \nThe last event of the season is the Mountain State Forest Festival Car Show & Chili Cookoff on Saturday September 28th from 1pm to 6pm. Trophies will be awarded by Maid Silvia and her royal court.
URL:https://elkinsrandolphwv.com/event/mountain-state-street-machiens-cruise-ins/2019-05-16/
LOCATION:Downtown Elkins\, Davis Avenue\, Elkins\, WV\, 26241\, United States
ATTACH;FMTTYPE=image/png:https://elkinsrandolphwv.com/wp-content/uploads/2019/03/main-logo-3.png
ORGANIZER;CN="Mountain State Street Machines":MAILTO:mssmelkins@gmail.com
END:VEVENT
END:VCALENDAR