BEGIN:VCALENDAR
VERSION:2.0
PRODID:-//Elkins-Randolph County Tourism - ECPv6.15.17.1//NONSGML v1.0//EN
CALSCALE:GREGORIAN
METHOD:PUBLISH
X-WR-CALNAME:Elkins-Randolph County Tourism
X-ORIGINAL-URL:https://elkinsrandolphwv.com
X-WR-CALDESC:Events for Elkins-Randolph County Tourism
REFRESH-INTERVAL;VALUE=DURATION:PT1H
X-Robots-Tag:noindex
X-PUBLISHED-TTL:PT1H
BEGIN:VTIMEZONE
TZID:UTC
BEGIN:STANDARD
TZOFFSETFROM:+0000
TZOFFSETTO:+0000
TZNAME:UTC
DTSTART:20240101T000000
END:STANDARD
END:VTIMEZONE
BEGIN:VEVENT
DTSTART;TZID=UTC:20251220T120000
DTEND;TZID=UTC:20251220T170000
DTSTAMP:20260420T163523
CREATED:20251107T000434Z
LAST-MODIFIED:20251107T000434Z
UID:32213-1766232000-1766250000@elkinsrandolphwv.com
SUMMARY:Reindeer Games | The Atrium
DESCRIPTION:“The Reindeer Games” event will be December 20th from 12-5 PM at The Atrium (Seneca Mall) and Third Street Tattoo. The event will have: a photo op with Santa\, princesses\, bounce houses\, axe throwing\, vendors for food and crafts + art for sale! Entry fee is $10 per family and includes time with Santa\, princesses and free games/ activities plus free hot chocolate and a candy cane! At Third Street Tattoo\, we will have tattoos\, piercings\, permanent jewelry and tooth gems! Come on out and enjoy this event\, right before Christmas! If you or someone you know needs assistance with paying the entry fee\, please private message us and we will cover the cost of your family’s fee. If you’d like to be a vendor please message us or email us: 3rdstreettattoos@gmail.com
URL:https://elkinsrandolphwv.com/event/reindeer-games-the-atrium/
LOCATION:The Atrium\, 108 3rd St.\, Elkins\, WV\, United States
CATEGORIES:Community,Kids & Family
ORGANIZER;CN="Third Street Tattoo":MAILTO:3rdstreettattoos@gmail.com
END:VEVENT
END:VCALENDAR