BEGIN:VCALENDAR
VERSION:2.0
PRODID:-//Elkins-Randolph County Tourism - ECPv6.15.20//NONSGML v1.0//EN
CALSCALE:GREGORIAN
METHOD:PUBLISH
X-WR-CALNAME:Elkins-Randolph County Tourism
X-ORIGINAL-URL:https://elkinsrandolphwv.com
X-WR-CALDESC:Events for Elkins-Randolph County Tourism
REFRESH-INTERVAL;VALUE=DURATION:PT1H
X-Robots-Tag:noindex
X-PUBLISHED-TTL:PT1H
BEGIN:VTIMEZONE
TZID:UTC
BEGIN:STANDARD
TZOFFSETFROM:+0000
TZOFFSETTO:+0000
TZNAME:UTC
DTSTART:20180101T000000
END:STANDARD
END:VTIMEZONE
BEGIN:VEVENT
DTSTART;TZID=UTC:20240219T100000
DTEND;TZID=UTC:20240219T150000
DTSTAMP:20260424T035448
CREATED:20240214T204907Z
LAST-MODIFIED:20240214T204907Z
UID:28307-1708336800-1708354800@elkinsrandolphwv.com
SUMMARY:The United Way and #VITA Tax Preparation
DESCRIPTION:Call 304-366-4550 to set up a drop-off appointment.
URL:https://elkinsrandolphwv.com/event/the-united-way-and-vita-tax-preparation/2024-02-19/
LOCATION:WV Wood Technology Center\, 10 11th Street\, Elkins\, WV\, 26241\, United States
CATEGORIES:Educational,Information
ATTACH;FMTTYPE=image/jpeg:https://elkinsrandolphwv.com/wp-content/uploads/2024/02/tvuw_hztl_one-scaled.jpg
END:VEVENT
BEGIN:VEVENT
DTSTART;VALUE=DATE:20201017
DTEND;VALUE=DATE:20201026
DTSTAMP:20260424T035448
CREATED:20200729T190105Z
LAST-MODIFIED:20200729T190105Z
UID:20963-1602900000-1603591199@elkinsrandolphwv.com
SUMMARY:2020 United Way Kick-Off Online Auction
DESCRIPTION:
URL:https://elkinsrandolphwv.com/event/2020-united-way-kick-off-online-auction/
CATEGORIES:Community
END:VEVENT
BEGIN:VEVENT
DTSTART;TZID=UTC:20200207T100000
DTEND;TZID=UTC:20200207T150000
DTSTAMP:20260424T035448
CREATED:20191107T004135Z
LAST-MODIFIED:20191108T014707Z
UID:16431-1581069600-1581087600@elkinsrandolphwv.com
SUMMARY:United Way Meatball Hoagie Fundraiser (pre-order) @ First United Methodist Church
DESCRIPTION:The annual United Way Meatball Hoagie Fundraiser is set for February 7th. Over 600 meatball hoagies will be made just for you\, but it is best to pre-order because those 600 hoagies will go fast! \nThe United Way of Randolph County will host the annual Meatball Hoagie Fundraiser on Friday February 7\, 2020 at the First United Methodist Church in Elkins WV.  The meatball hoagies will be prepared by the Saint Patrick’s Ladies Guild of Coalton! The hoagies will be carry out only!
URL:https://elkinsrandolphwv.com/event/united-way-meatball-hoagie-fundraiser-pre-order-first-united-methodist-church/
LOCATION:First United Methodist Church\, 315 Kerens Avenue\, Elkins\, WV\, 26241\, United States
CATEGORIES:Food & Drink
ATTACH;FMTTYPE=image/png:https://elkinsrandolphwv.com/wp-content/uploads/2019/07/united-way-logo.png
END:VEVENT
BEGIN:VEVENT
DTSTART;TZID=UTC:20200125T170000
DTEND;TZID=UTC:20200125T190000
DTSTAMP:20260424T035448
CREATED:20191210T235433Z
LAST-MODIFIED:20200125T013717Z
UID:16884-1579971600-1579978800@elkinsrandolphwv.com
SUMMARY:Girls Night Out @ Vintage
DESCRIPTION:The United Way of Randolph County will host a Girl’s Night Out post the holidays on Saturday January 25\, 2020. Details in regards to the location\, what the girl’s night entails\, etc. will be available soon. For now\, SAVE THE DATE!
URL:https://elkinsrandolphwv.com/event/girls-night-out-united-way/
CATEGORIES:Entertainment
ATTACH;FMTTYPE=image/png:https://elkinsrandolphwv.com/wp-content/uploads/2019/07/united-way-logo.png
END:VEVENT
BEGIN:VEVENT
DTSTART;VALUE=DATE:20191203
DTEND;VALUE=DATE:20191205
DTSTAMP:20260424T035448
CREATED:20191126T213957Z
LAST-MODIFIED:20191126T213957Z
UID:16682-1575338400-1575424799@elkinsrandolphwv.com
SUMMARY:Giving Tuesday @ United Way of Randolph County
DESCRIPTION:The United Way of Randolph County gears up for Giving Tuesday on Tuesday\, December\, 2019! Did you know that about a quarter of all donations to charities are given during December? GivingTuesday—the first Tuesday following Thanksgiving and the new “Black Friday” of philanthropic giving—was established in 2012 to serve as a celebratory kickoff day to the giving season. This year\, GivingTuesday will be on December 3\, 2019.\nGivingTuesday doesn’t have to be about giving a lot of money. Yes\, you can give.  But you can give in many ways\, such as volunteering your time.  Every act of kindness\, no matter how small\, adds together with others and can change the world for the better. Thank you for your consideration in donating to the United Way of Randolph County. Checks can be made payable to the United Way of Randolph County and mailed to 10 Eleventh Street Suite 4 Elkins\, WV 26241.  You can also make a donation via PayPal to info@unitedwayrandolphwv.com .
URL:https://elkinsrandolphwv.com/event/giving-tuesday-united-way-of-randolph-county/
CATEGORIES:Community
END:VEVENT
BEGIN:VEVENT
DTSTART;TZID=UTC:20191026T090000
DTEND;TZID=UTC:20191026T120000
DTSTAMP:20260424T035448
CREATED:20190910T180740Z
LAST-MODIFIED:20190910T180740Z
UID:15604-1572080400-1572091200@elkinsrandolphwv.com
SUMMARY:United Way Auction @ First United Methodist Church
DESCRIPTION:The United Way of Randolph County will host its annual campaign kick-off auction on Saturday October 26\, 2019 at the First United Methodist Church in Elkins. The doors will open at 9:00 AM and the auction will begin at 9:30 AM!
URL:https://elkinsrandolphwv.com/event/united-way-auction-first-united-methodist-church/
LOCATION:First United Methodist Church\, 315 Kerens Avenue\, Elkins\, WV\, 26241\, United States
CATEGORIES:Community
ATTACH;FMTTYPE=image/png:https://elkinsrandolphwv.com/wp-content/uploads/2019/07/united-way-logo.png
END:VEVENT
END:VCALENDAR