BEGIN:VCALENDAR
VERSION:2.0
PRODID:-//Elkins-Randolph County Tourism - ECPv6.15.20//NONSGML v1.0//EN
CALSCALE:GREGORIAN
METHOD:PUBLISH
X-ORIGINAL-URL:https://elkinsrandolphwv.com
X-WR-CALDESC:Events for Elkins-Randolph County Tourism
REFRESH-INTERVAL;VALUE=DURATION:PT1H
X-Robots-Tag:noindex
X-PUBLISHED-TTL:PT1H
BEGIN:VTIMEZONE
TZID:UTC
BEGIN:STANDARD
TZOFFSETFROM:+0000
TZOFFSETTO:+0000
TZNAME:UTC
DTSTART:20220101T000000
END:STANDARD
END:VTIMEZONE
BEGIN:VEVENT
DTSTART;TZID=UTC:20241220T173000
DTEND;TZID=UTC:20241220T190000
DTSTAMP:20260423T125852
CREATED:20241114T025836Z
LAST-MODIFIED:20241114T025836Z
UID:29687-1734715800-1734721200@elkinsrandolphwv.com
SUMMARY:Winter Solstice Experience with Wonder and Grow
DESCRIPTION:Come join Wonder & Grow’s Mindful Outdoor Guides for a Winter Solstice Experience as we enjoy the warmth of the season and celebrate the longest night of the year.\nWe will enjoy time around a fire\, an introduction to sensory meditation\, a mindful walk\, community connection\, and light refreshments! \n\nDecember 20\, 2024\n5:30-7:00pm\n$30 Admission – Any donation above $30 is greatly appreciated and will help support youth programs in Randolph County!\nAdvance registration kindly requested – Use “Tickets” button\nLocation:The Trails at Files Creek\n7242 Files Creek Rd\, Beverly\, WV 26253
URL:https://elkinsrandolphwv.com/event/winter-solstice-experience-with-wonder-and-grow-2/
LOCATION:The Trails of Files Creek\, 7242 Files Creek Rd\,\, Beverly\, WV\, 26241\, United States
ORGANIZER;CN="Wonder & Grow%3A Mindful Nature Experience Inc":MAILTO:wonderandgrow@gmail.com
END:VEVENT
BEGIN:VEVENT
DTSTART;TZID=UTC:20231221T173000
DTEND;TZID=UTC:20231221T190000
DTSTAMP:20260423T125852
CREATED:20231122T214511Z
LAST-MODIFIED:20231122T214511Z
UID:27969-1703179800-1703185200@elkinsrandolphwv.com
SUMMARY:Winter Solstice Experience with Wonder and Grow
DESCRIPTION:It’s almost here! Celebrate the Winter Solstice with Wonder & Grow! \nDo you want to experience the wonder of the longest night of the year? Join us for the 3rd Annual Winter Solstice Experience with Wonder & Grow’s Mindful Outdoor Guides! \nYou will have the opportunity to: \n– Warm up by a cozy fire and share stories with like-minded people\n– Learn how to practice sensory meditation and connect with nature\n– Enjoy a mindful walk through the beautiful Trails at Files Creek\n– Savor some delicious refreshments and toast to the new season \nThis event will take place on December 21\, 2023\, from 5:30 to 7:00 pm at the Trails At Files Creek – 7242 Files Creek Rd\, Beverly\, WV 26253. The admission fee is $20 and RSVPs are requested. \nDon’t miss this chance to celebrate the winter solstice with Wonder & Grow! Tickets are available later today! https://www.wonderandgrow.org/…/3rd-annual-winter…
URL:https://elkinsrandolphwv.com/event/winter-solstice-experience-with-wonder-and-grow/
LOCATION:The Trails at Files Creek\, 7242 Files Creek Rd.\, Beverly\, WV\, 26253\, United States
ATTACH;FMTTYPE=image/jpeg:https://elkinsrandolphwv.com/wp-content/uploads/2023/11/wonder-and-grow-.jpeg
ORGANIZER;CN="Wonder & Grow%3A Mindful Nature Experience Inc":MAILTO:wonderandgrow@gmail.com
END:VEVENT
BEGIN:VEVENT
DTSTART;TZID=UTC:20230820T100000
DTEND;TZID=UTC:20230820T120000
DTSTAMP:20260423T125852
CREATED:20230802T180732Z
LAST-MODIFIED:20230802T180732Z
UID:27510-1692525600-1692532800@elkinsrandolphwv.com
SUMMARY:Downward Dog Days of Summer - Outdoor Yoga & Barefoot Walking Event
DESCRIPTION:Join Wonder & Grow’s Mindful Outdoor Guide and Yoga instructor\, Kate Reed for a nourishing outdoor yoga experience.\nParticipants will begin by practicing barefoot walking through the beautiful “Park” at The Trails at Files Creek and will settle into sitting with a view of Cheat Mountain before practicing a Kundalini Yoga set to throw of stress and release negative emotions.\n\nThe morning will end with meditation\, savasana\, and gratitude.\nAll are welcome!\n\nCost: $20.00
URL:https://elkinsrandolphwv.com/event/downward-dog-days-of-summer-outdoor-yoga-barefoot-walking-event/
LOCATION:The Trails at Files Creek\, 7242 Files Creek Rd.\, Beverly\, WV\, 26253\, United States
ATTACH;FMTTYPE=image/jpeg:https://elkinsrandolphwv.com/wp-content/uploads/2023/08/Downward-Dog-event.jpeg
ORGANIZER;CN="Wonder & Grow%3A Mindful Nature Experience Inc":MAILTO:wonderandgrow@gmail.com
END:VEVENT
BEGIN:VEVENT
DTSTART;TZID=UTC:20230717T173000
DTEND;TZID=UTC:20230717T183000
DTSTAMP:20260423T125852
CREATED:20230711T005001Z
LAST-MODIFIED:20230711T005111Z
UID:27424-1689615000-1689618600@elkinsrandolphwv.com
SUMMARY:Outdoor Yoga With Wonder & Grow: Mindful Nature Experience Inc.
DESCRIPTION:Join Wonder & Grow for Outdoor Yoga at Glendale Park on Mondays at 5:30 PM (weather permitting)! Classes will be held every Monday until the end of October and will start back up when the winter thaw melts into sunny spring days. \nEach class is accessible to any beginner and includes mindful meditation to begin and end the practice. The first class is free\, and a $10 donation is requested after. \nParticipants are encouraged to bring a mat and water bottle but there are extra mats available. \nWonder & Grow Outdoor Yoga\, 5:30 PM for one hour\, Glendale Park Entrance by the small pavilion across from the parks and rec building. Contact is Kate Reed (304) 590-1156 and the website is www.wonderandgrow.org.
URL:https://elkinsrandolphwv.com/event/outdoor-yoga-with-wonder-grow-mindful-nature-experience-inc/2023-07-17/
LOCATION:Glendale Park\, 405 Glendale Avenue\, Elkins\, WV\, 26241\, United States
CATEGORIES:Community,Health and Wellness,Outdoor Activities,Outdoors
ORGANIZER;CN="Wonder & Grow%3A Mindful Nature Experience Inc":MAILTO:wonderandgrow@gmail.com
END:VEVENT
BEGIN:VEVENT
DTSTART;TZID=UTC:20230715T100000
DTEND;TZID=UTC:20230715T130000
DTSTAMP:20260423T125852
CREATED:20230621T181020Z
LAST-MODIFIED:20230621T181020Z
UID:27377-1689415200-1689426000@elkinsrandolphwv.com
SUMMARY:Wonder and Grow Summer Celebration
DESCRIPTION:Come join Wonder & Grow’s Mindful Outdoor Guides to celebrate summer as we soak in the sun and this season of life!\n\nWe will enjoy time in our bodies with yoga and natural movement\, experience an empowering meditation\, enjoy a mindful nature walk\, and community connection\, and invite participants to bring a dish to share as we close our time with a potluck!\nSaturday\, July 15th\n10:00-1:00 pm\n\n$20 Admission – Any donation above $20 is greatly appreciated!\nRSVPs Requested\n\nLocation: The Trails of Files Creek\n7242 Files Creek Rd\, Beverly\, WV 26253
URL:https://elkinsrandolphwv.com/event/wonder-and-grow-summer-celebration/
LOCATION:The Trails at Files Creek\, 7242 Files Creek Rd.\, Beverly\, WV\, 26253\, United States
ATTACH;FMTTYPE=image/jpeg:https://elkinsrandolphwv.com/wp-content/uploads/2023/06/Summer-Celebration.jpeg
ORGANIZER;CN="Wonder & Grow%3A Mindful Nature Experience Inc":MAILTO:wonderandgrow@gmail.com
END:VEVENT
END:VCALENDAR