BEGIN:VCALENDAR
VERSION:2.0
PRODID:-//Elkins-Randolph County Tourism - ECPv6.15.20//NONSGML v1.0//EN
CALSCALE:GREGORIAN
METHOD:PUBLISH
X-WR-CALNAME:Elkins-Randolph County Tourism
X-ORIGINAL-URL:https://elkinsrandolphwv.com
X-WR-CALDESC:Events for Elkins-Randolph County Tourism
REFRESH-INTERVAL;VALUE=DURATION:PT1H
X-Robots-Tag:noindex
X-PUBLISHED-TTL:PT1H
BEGIN:VTIMEZONE
TZID:UTC
BEGIN:STANDARD
TZOFFSETFROM:+0000
TZOFFSETTO:+0000
TZNAME:UTC
DTSTART:20180101T000000
END:STANDARD
END:VTIMEZONE
BEGIN:VEVENT
DTSTART;TZID=UTC:20251213T100000
DTEND;TZID=UTC:20251213T170000
DTSTAMP:20260424T065243
CREATED:20251113T230502Z
LAST-MODIFIED:20251203T193349Z
UID:32329-1765620000-1765645200@elkinsrandolphwv.com
SUMMARY:Holiday Open House | Artists at Work
DESCRIPTION:Holiday Open House at Artists at Work \nDec. 13\, 2025 10:00-5:00pm\nSales\, goodies\, and art activity planned.\n\nFrom 1-3 pm\, children can have fun making a special make and take craft.\nAlso from 1-3\, Kristen Federer will be providing LIVE MUSIC in the shop.\nAll day we will be offering refreshments\, select specials\, and the best hand-craft and art gifts in the area\, so mark your calendar and join us.\n\nCome join the fun!
URL:https://elkinsrandolphwv.com/event/holiday-open-house-artists-at-work-2/
LOCATION:Artists At Work\, 329 Davis Avenue\, Elkins\, WV\, 26241\, United States
CATEGORIES:Art & Culture,Shopping
END:VEVENT
BEGIN:VEVENT
DTSTART;TZID=UTC:20241214T100000
DTEND;TZID=UTC:20241214T180000
DTSTAMP:20260424T065243
CREATED:20241205T012709Z
LAST-MODIFIED:20241205T012709Z
UID:29775-1734170400-1734199200@elkinsrandolphwv.com
SUMMARY:Artists at Work Annual Holiday Open House
DESCRIPTION:10am – 6pm
URL:https://elkinsrandolphwv.com/event/artists-at-work-annual-holiday-open-house/
LOCATION:Artists At Work\, 329 Davis Avenue\, Elkins\, WV\, 26241\, United States
END:VEVENT
BEGIN:VEVENT
DTSTART;TZID=UTC:20231209T100000
DTEND;TZID=UTC:20231209T170000
DTSTAMP:20260424T065243
CREATED:20231130T235359Z
LAST-MODIFIED:20231130T235359Z
UID:27998-1702116000-1702141200@elkinsrandolphwv.com
SUMMARY:Holiday Open House @ Artists At Work
DESCRIPTION:
URL:https://elkinsrandolphwv.com/event/holiday-open-house-artists-at-work/
LOCATION:Artists At Work\, 329 Davis Avenue\, Elkins\, WV\, 26241\, United States
CATEGORIES:Shopping
ATTACH;FMTTYPE=image/jpeg:https://elkinsrandolphwv.com/wp-content/uploads/2023/11/AAW-Holiday-Open-House-e1701370430925.jpeg
END:VEVENT
BEGIN:VEVENT
DTSTART;TZID=UTC:20230825T163000
DTEND;TZID=UTC:20230825T183000
DTSTAMP:20260424T065243
CREATED:20230809T191713Z
LAST-MODIFIED:20230809T191713Z
UID:27551-1692981000-1692988200@elkinsrandolphwv.com
SUMMARY:Artists At Work: 30 Year Celebration
DESCRIPTION:
URL:https://elkinsrandolphwv.com/event/artists-at-work-30-year-celebration/
LOCATION:Artists At Work\, 329 Davis Avenue\, Elkins\, WV\, 26241\, United States
CATEGORIES:Art & Culture,Community
ATTACH;FMTTYPE=image/jpeg:https://elkinsrandolphwv.com/wp-content/uploads/2023/08/AAW-30th-Invite-e1691594140387.jpeg
END:VEVENT
BEGIN:VEVENT
DTSTART;TZID=UTC:20191207T100000
DTEND;TZID=UTC:20191207T170000
DTSTAMP:20260424T065243
CREATED:20191202T225426Z
LAST-MODIFIED:20191202T225444Z
UID:16729-1575712800-1575738000@elkinsrandolphwv.com
SUMMARY:Open House @ Artist At Work
DESCRIPTION:
URL:https://elkinsrandolphwv.com/event/open-house-artist-at-work/
LOCATION:Artists At Work\, 329 Davis Avenue\, Elkins\, WV\, 26241\, United States
CATEGORIES:Art & Culture
END:VEVENT
END:VCALENDAR