BEGIN:VCALENDAR
VERSION:2.0
PRODID:-//Elkins-Randolph County Tourism - ECPv6.15.20//NONSGML v1.0//EN
CALSCALE:GREGORIAN
METHOD:PUBLISH
X-WR-CALNAME:Elkins-Randolph County Tourism
X-ORIGINAL-URL:https://elkinsrandolphwv.com
X-WR-CALDESC:Events for Elkins-Randolph County Tourism
REFRESH-INTERVAL;VALUE=DURATION:PT1H
X-Robots-Tag:noindex
X-PUBLISHED-TTL:PT1H
BEGIN:VTIMEZONE
TZID:UTC
BEGIN:STANDARD
TZOFFSETFROM:+0000
TZOFFSETTO:+0000
TZNAME:UTC
DTSTART:20180101T000000
END:STANDARD
END:VTIMEZONE
BEGIN:VTIMEZONE
TZID:America/New_York
BEGIN:DAYLIGHT
TZOFFSETFROM:-0500
TZOFFSETTO:-0400
TZNAME:EDT
DTSTART:20180311T070000
END:DAYLIGHT
BEGIN:STANDARD
TZOFFSETFROM:-0400
TZOFFSETTO:-0500
TZNAME:EST
DTSTART:20181104T060000
END:STANDARD
BEGIN:DAYLIGHT
TZOFFSETFROM:-0500
TZOFFSETTO:-0400
TZNAME:EDT
DTSTART:20190310T070000
END:DAYLIGHT
BEGIN:STANDARD
TZOFFSETFROM:-0400
TZOFFSETTO:-0500
TZNAME:EST
DTSTART:20191103T060000
END:STANDARD
BEGIN:DAYLIGHT
TZOFFSETFROM:-0500
TZOFFSETTO:-0400
TZNAME:EDT
DTSTART:20200308T070000
END:DAYLIGHT
BEGIN:STANDARD
TZOFFSETFROM:-0400
TZOFFSETTO:-0500
TZNAME:EST
DTSTART:20201101T060000
END:STANDARD
END:VTIMEZONE
BEGIN:VEVENT
DTSTART;TZID=UTC:20190723T160000
DTEND;TZID=UTC:20190723T183000
DTSTAMP:20260425T221926
CREATED:20190710T001247Z
LAST-MODIFIED:20190710T001247Z
UID:14267-1563897600-1563906600@elkinsrandolphwv.com
SUMMARY:Show & Sell @ Halliehurst
DESCRIPTION:4 – 6:30pm Show & Sell – Instruments\, crafts\, recordings & more for sale on Halliehurst Porch
URL:https://elkinsrandolphwv.com/event/show-sell-halliehurst-2/
LOCATION:Augusta Heritage Center\, 21 3rd St\, Elkins\, WV\, 26241\, United States
ATTACH;FMTTYPE=image/jpeg:https://elkinsrandolphwv.com/wp-content/uploads/2019/03/augusta.jpg
GEO:38.921112;-79.845579
X-APPLE-STRUCTURED-LOCATION;VALUE=URI;X-ADDRESS=Augusta Heritage Center 21 3rd St Elkins WV 26241 United States;X-APPLE-RADIUS=500;X-TITLE=21 3rd St:geo:-79.845579,38.921112
END:VEVENT
BEGIN:VEVENT
DTSTART;TZID=UTC:20190722T213000
DTEND;TZID=UTC:20190722T223000
DTSTAMP:20260425T221926
CREATED:20190710T001149Z
LAST-MODIFIED:20190710T001149Z
UID:14265-1563831000-1563834600@elkinsrandolphwv.com
SUMMARY:Vocal Week Song Circle @ Augusta
DESCRIPTION:9:30pm Vocal Week Song Circle with Don Friedman Booth Library Breezeway. Free.
URL:https://elkinsrandolphwv.com/event/vocal-week-song-circle-augusta/
LOCATION:Augusta Heritage Center\, 21 3rd St\, Elkins\, WV\, 26241\, United States
ATTACH;FMTTYPE=image/jpeg:https://elkinsrandolphwv.com/wp-content/uploads/2019/03/augusta.jpg
GEO:38.921112;-79.845579
X-APPLE-STRUCTURED-LOCATION;VALUE=URI;X-ADDRESS=Augusta Heritage Center 21 3rd St Elkins WV 26241 United States;X-APPLE-RADIUS=500;X-TITLE=21 3rd St:geo:-79.845579,38.921112
END:VEVENT
BEGIN:VEVENT
DTSTART;TZID=UTC:20190722T210000
DTEND;TZID=UTC:20190722T220000
DTSTAMP:20260425T221926
CREATED:20190710T001054Z
LAST-MODIFIED:20190710T001054Z
UID:14263-1563829200-1563832800@elkinsrandolphwv.com
SUMMARY:Square Dance with music from Bluegrass Staff Band @ Augusta
DESCRIPTION:9pm Square Dance with music from Bluegrass Staff Band\, Caller: Becky Hill in the Augusta Pavilion. General Admission $7\, Students $5.
URL:https://elkinsrandolphwv.com/event/square-dance-with-music-from-bluegrass-staff-band-augusta/
LOCATION:Augusta Heritage Center\, 21 3rd St\, Elkins\, WV\, 26241\, United States
ATTACH;FMTTYPE=image/jpeg:https://elkinsrandolphwv.com/wp-content/uploads/2019/03/augusta.jpg
GEO:38.921112;-79.845579
X-APPLE-STRUCTURED-LOCATION;VALUE=URI;X-ADDRESS=Augusta Heritage Center 21 3rd St Elkins WV 26241 United States;X-APPLE-RADIUS=500;X-TITLE=21 3rd St:geo:-79.845579,38.921112
END:VEVENT
BEGIN:VEVENT
DTSTART;TZID=UTC:20190722T203000
DTEND;TZID=UTC:20190722T220000
DTSTAMP:20260425T221926
CREATED:20190710T000909Z
LAST-MODIFIED:20190710T000909Z
UID:14261-1563827400-1563832800@elkinsrandolphwv.com
SUMMARY:British & American Ballad Traditions Lecture @ Augusta
DESCRIPTION:8:30pm Lecture: British & American Ballad Traditions with John Roberts in the Chapel sponsored by the WV Humanities Council. Free.
URL:https://elkinsrandolphwv.com/event/british-american-ballad-traditions-lecture-augusta/
LOCATION:Augusta Heritage Center\, 21 3rd St\, Elkins\, WV\, 26241\, United States
ATTACH;FMTTYPE=image/jpeg:https://elkinsrandolphwv.com/wp-content/uploads/2019/03/augusta.jpg
GEO:38.921112;-79.845579
X-APPLE-STRUCTURED-LOCATION;VALUE=URI;X-ADDRESS=Augusta Heritage Center 21 3rd St Elkins WV 26241 United States;X-APPLE-RADIUS=500;X-TITLE=21 3rd St:geo:-79.845579,38.921112
END:VEVENT
BEGIN:VEVENT
DTSTART;TZID=UTC:20190722T193000
DTEND;TZID=UTC:20190722T210000
DTSTAMP:20260425T221926
CREATED:20190710T000805Z
LAST-MODIFIED:20190710T000805Z
UID:14259-1563823800-1563829200@elkinsrandolphwv.com
SUMMARY:4th Annual Bluegrass Onion Jam @ Halliehurst
DESCRIPTION:7:30pm 4th Annual Bluegrass Onion Jam on the Halliehurst Lawn. Free.
URL:https://elkinsrandolphwv.com/event/4th-annual-bluegrass-onion-jam-halliehurst/
LOCATION:Augusta Heritage Center\, 21 3rd St\, Elkins\, WV\, 26241\, United States
ATTACH;FMTTYPE=image/jpeg:https://elkinsrandolphwv.com/wp-content/uploads/2019/03/augusta.jpg
GEO:38.921112;-79.845579
X-APPLE-STRUCTURED-LOCATION;VALUE=URI;X-ADDRESS=Augusta Heritage Center 21 3rd St Elkins WV 26241 United States;X-APPLE-RADIUS=500;X-TITLE=21 3rd St:geo:-79.845579,38.921112
END:VEVENT
BEGIN:VEVENT
DTSTART;TZID=UTC:20190722T190000
DTEND;TZID=UTC:20190722T200000
DTSTAMP:20260425T221926
CREATED:20190710T000650Z
LAST-MODIFIED:20190710T000650Z
UID:14257-1563822000-1563825600@elkinsrandolphwv.com
SUMMARY:History of the Spinning Wheel Lecture @ Augusta
DESCRIPTION:7pm Lecture: History of the Spinning Wheel with Jennifer Lackey in the MCA Arts Forum sponsored by the WV Humanities Council. Free.
URL:https://elkinsrandolphwv.com/event/history-of-the-spinning-wheel-lecture-augusta/
LOCATION:Augusta Heritage Center\, 21 3rd St\, Elkins\, WV\, 26241\, United States
ATTACH;FMTTYPE=image/jpeg:https://elkinsrandolphwv.com/wp-content/uploads/2019/03/augusta.jpg
GEO:38.921112;-79.845579
X-APPLE-STRUCTURED-LOCATION;VALUE=URI;X-ADDRESS=Augusta Heritage Center 21 3rd St Elkins WV 26241 United States;X-APPLE-RADIUS=500;X-TITLE=21 3rd St:geo:-79.845579,38.921112
END:VEVENT
BEGIN:VEVENT
DTSTART;TZID=UTC:20190721T210000
DTEND;TZID=UTC:20190721T223000
DTSTAMP:20260425T221926
CREATED:20190710T000539Z
LAST-MODIFIED:20190710T000539Z
UID:14255-1563742800-1563748200@elkinsrandolphwv.com
SUMMARY:Song Swap @ Augusta
DESCRIPTION:Song Swap with Flawn Willians\, Don Friedman & Friends in the Chapel. Free.
URL:https://elkinsrandolphwv.com/event/song-swap-augusta/
LOCATION:Augusta Heritage Center\, 21 3rd St\, Elkins\, WV\, 26241\, United States
ATTACH;FMTTYPE=image/jpeg:https://elkinsrandolphwv.com/wp-content/uploads/2019/03/augusta.jpg
GEO:38.921112;-79.845579
X-APPLE-STRUCTURED-LOCATION;VALUE=URI;X-ADDRESS=Augusta Heritage Center 21 3rd St Elkins WV 26241 United States;X-APPLE-RADIUS=500;X-TITLE=21 3rd St:geo:-79.845579,38.921112
END:VEVENT
BEGIN:VEVENT
DTSTART;TZID=UTC:20190721T203000
DTEND;TZID=UTC:20190721T220000
DTSTAMP:20260425T221926
CREATED:20190709T235939Z
LAST-MODIFIED:20190709T235939Z
UID:14253-1563741000-1563746400@elkinsrandolphwv.com
SUMMARY:Bluegrass Welcome Party @ Halliehurst Porch
DESCRIPTION:8:30pm Bluegrass Welcome Party on Halliehurst Porch. Free.
URL:https://elkinsrandolphwv.com/event/bluegrass-welcome-party-halliehurst-porch/
LOCATION:Augusta Heritage Center\, 21 3rd St\, Elkins\, WV\, 26241\, United States
ATTACH;FMTTYPE=image/jpeg:https://elkinsrandolphwv.com/wp-content/uploads/2019/03/augusta.jpg
GEO:38.921112;-79.845579
X-APPLE-STRUCTURED-LOCATION;VALUE=URI;X-ADDRESS=Augusta Heritage Center 21 3rd St Elkins WV 26241 United States;X-APPLE-RADIUS=500;X-TITLE=21 3rd St:geo:-79.845579,38.921112
END:VEVENT
BEGIN:VEVENT
DTSTART;VALUE=DATE:20190721
DTEND;VALUE=DATE:20190727
DTSTAMP:20260425T221926
CREATED:20190423T075743Z
LAST-MODIFIED:20190607T101256Z
UID:5167-1563674400-1564185599@elkinsrandolphwv.com
SUMMARY:Augusta: Bluegrass Week
DESCRIPTION:The staff of well-known bluegrass figures will share their talents with participants in workshops\, demonstrations\, special presentations\, concerts\, and jam sessions throughout the week. Informal picking sessions at all levels go on ’til the wee hours all over campus as participants and staff get together with old friends and make new ones. Evening performances feature exciting combinations of master bluegrass artists with special guests. While workshops are geared for adults\, young folks able to maintain an adult level of participation are welcome. All workshops (except Vocals) are intended for those who can already play their instrument to some extent and are ready to start learning bluegrass style\, technique\, and repertoire.  \nBluegrass Week runs concurrently with Vocal Week; Arts\, Crafts\, & Folklore Workshops; Folk Arts for Kids; and Evening Mini-Courses. This is the first year of our Bluegrass Week and Vocal Week pairing\, and we have some exciting plans in store. Participants can take advantage of both weeks by attending special events\, afternoon electives\, swapping songs in jam sessions\, and sharing in the fun!
URL:https://elkinsrandolphwv.com/event/augusta-bluegrass-week/
LOCATION:Augusta Heritage Center\, 21 3rd St\, Elkins\, WV\, 26241\, United States
GEO:38.921112;-79.845579
X-APPLE-STRUCTURED-LOCATION;VALUE=URI;X-ADDRESS=Augusta Heritage Center 21 3rd St Elkins WV 26241 United States;X-APPLE-RADIUS=500;X-TITLE=21 3rd St:geo:-79.845579,38.921112
END:VEVENT
BEGIN:VEVENT
DTSTART;VALUE=DATE:20190721
DTEND;VALUE=DATE:20190727
DTSTAMP:20260425T221926
CREATED:20190423T075743Z
LAST-MODIFIED:20190607T101256Z
UID:5168-1563674400-1564185599@elkinsrandolphwv.com
SUMMARY:Augusta: Vocal Week
DESCRIPTION:The act of singing is itself one of humanity’s oldest and most powerful traditions\, and many cultures’ songs are a gateway into deeper understanding of their ethos. Plus\, they’re fun to sing! Vocal Week offers you a wealth of opportunities to join in. Participants will learn songs and techniques from a range of traditional cultures and contemporary styles\, taught by nationally and internationally known workshop leaders. Taking good care of your voice will also be emphasized\, along with workshops in voice technique and daily vocal warm-ups. Those at the beginning level can learn to master melodies and simple harmonies\, while more experienced singers can get a challenging workout. Take week-long workshops during three periods each day\, sample single-day “one shot” sessions during one period each afternoon\, and sing in a large group during afternoon cultural sessions in the chapel. You can also enjoy evening song circles\, concerts\, and dances.  \nVocal Week runs concurrently with Bluegrass Week; Arts\, Crafts\, & Folklore Workshops; Folk Arts for Kids; and Evening Mini-Courses. This is the first year of our Bluegrass Week and Vocal Week pairing\, and we have some exciting plans in store. Participants can take advantage of both weeks by attending special events\, afternoon electives\, swapping songs in jam sessions\, and sharing in the fun!
URL:https://elkinsrandolphwv.com/event/augusta-vocal-week/
LOCATION:Augusta Heritage Center\, 21 3rd St\, Elkins\, WV\, 26241\, United States
GEO:38.921112;-79.845579
X-APPLE-STRUCTURED-LOCATION;VALUE=URI;X-ADDRESS=Augusta Heritage Center 21 3rd St Elkins WV 26241 United States;X-APPLE-RADIUS=500;X-TITLE=21 3rd St:geo:-79.845579,38.921112
END:VEVENT
BEGIN:VEVENT
DTSTART;TZID=UTC:20190719T190000
DTEND;TZID=UTC:20190719T200000
DTSTAMP:20260425T221926
CREATED:20190709T235503Z
LAST-MODIFIED:20190709T235503Z
UID:14251-1563562800-1563566400@elkinsrandolphwv.com
SUMMARY:Cakewalk Dance @ Halliehurst
DESCRIPTION:Cakewalk Dance Contest on Halliehurst Porch.
URL:https://elkinsrandolphwv.com/event/cakewalk-dance-halliehurst/
LOCATION:Augusta Heritage Center\, 21 3rd St\, Elkins\, WV\, 26241\, United States
ATTACH;FMTTYPE=image/jpeg:https://elkinsrandolphwv.com/wp-content/uploads/2019/03/augusta.jpg
GEO:38.921112;-79.845579
X-APPLE-STRUCTURED-LOCATION;VALUE=URI;X-ADDRESS=Augusta Heritage Center 21 3rd St Elkins WV 26241 United States;X-APPLE-RADIUS=500;X-TITLE=21 3rd St:geo:-79.845579,38.921112
END:VEVENT
BEGIN:VEVENT
DTSTART;TZID=UTC:20190718T213000
DTEND;TZID=UTC:20190718T223000
DTSTAMP:20260425T221926
CREATED:20190709T234744Z
LAST-MODIFIED:20190709T234744Z
UID:14247-1563485400-1563489000@elkinsrandolphwv.com
SUMMARY:Square Dance with Justin Robinson & Friends and Round Robbin @ Augusta
DESCRIPTION:Square Dance with Justin Robinson & Friends and Round Robbin square dance calling immediately following concert in Pavilion. Admission to dance is free with concert ticket.
URL:https://elkinsrandolphwv.com/event/square-dance-with-justin-robinson-friends-and-round-robbin-augusta/
LOCATION:Augusta Heritage Center\, 21 3rd St\, Elkins\, WV\, 26241\, United States
ATTACH;FMTTYPE=image/jpeg:https://elkinsrandolphwv.com/wp-content/uploads/2019/03/augusta.jpg
GEO:38.921112;-79.845579
X-APPLE-STRUCTURED-LOCATION;VALUE=URI;X-ADDRESS=Augusta Heritage Center 21 3rd St Elkins WV 26241 United States;X-APPLE-RADIUS=500;X-TITLE=21 3rd St:geo:-79.845579,38.921112
END:VEVENT
BEGIN:VEVENT
DTSTART;TZID=UTC:20190718T193000
DTEND;TZID=UTC:20190718T213000
DTSTAMP:20260425T221926
CREATED:20190709T234616Z
LAST-MODIFIED:20190709T234616Z
UID:14245-1563478200-1563485400@elkinsrandolphwv.com
SUMMARY:Swing & Old-Time Outdoor Concert
DESCRIPTION:Swing & Old-Time Outdoor Concert on the Myles Center Plaza. General admission is $12\, $6 for students.
URL:https://elkinsrandolphwv.com/event/swing-old-time-outdoor-concert/
LOCATION:Augusta Heritage Center\, 21 3rd St\, Elkins\, WV\, 26241\, United States
GEO:38.921112;-79.845579
X-APPLE-STRUCTURED-LOCATION;VALUE=URI;X-ADDRESS=Augusta Heritage Center 21 3rd St Elkins WV 26241 United States;X-APPLE-RADIUS=500;X-TITLE=21 3rd St:geo:-79.845579,38.921112
END:VEVENT
BEGIN:VEVENT
DTSTART;TZID=UTC:20190717T200000
DTEND;TZID=UTC:20190717T213000
DTSTAMP:20260425T221926
CREATED:20190709T234124Z
LAST-MODIFIED:20190709T234124Z
UID:14243-1563393600-1563399000@elkinsrandolphwv.com
SUMMARY:Old-Time Onion Jam @ Halliehurst
DESCRIPTION:Old-Time Onion Jam on Halliehurst Porch. Free
URL:https://elkinsrandolphwv.com/event/old-time-onion-jam-halliehurst/
LOCATION:Augusta Heritage Center\, 21 3rd St\, Elkins\, WV\, 26241\, United States
ATTACH;FMTTYPE=image/jpeg:https://elkinsrandolphwv.com/wp-content/uploads/2019/03/36314793_10155958060698952_6828719884327714816_n.jpg
GEO:38.921112;-79.845579
X-APPLE-STRUCTURED-LOCATION;VALUE=URI;X-ADDRESS=Augusta Heritage Center 21 3rd St Elkins WV 26241 United States;X-APPLE-RADIUS=500;X-TITLE=21 3rd St:geo:-79.845579,38.921112
END:VEVENT
BEGIN:VEVENT
DTSTART;TZID=UTC:20190717T190000
DTEND;TZID=UTC:20190717T210000
DTSTAMP:20260425T221926
CREATED:20190709T233904Z
LAST-MODIFIED:20190709T233904Z
UID:14241-1563390000-1563397200@elkinsrandolphwv.com
SUMMARY:Horns Club with Dave Davies @ Augusta
DESCRIPTION:Horns Club with Dave Davies in the JR Ballroom. Free
URL:https://elkinsrandolphwv.com/event/horns-club-with-dave-davies-augusta-2/
LOCATION:Augusta Heritage Center\, 21 3rd St\, Elkins\, WV\, 26241\, United States
ATTACH;FMTTYPE=image/jpeg:https://elkinsrandolphwv.com/wp-content/uploads/2019/03/augusta.jpg
GEO:38.921112;-79.845579
X-APPLE-STRUCTURED-LOCATION;VALUE=URI;X-ADDRESS=Augusta Heritage Center 21 3rd St Elkins WV 26241 United States;X-APPLE-RADIUS=500;X-TITLE=21 3rd St:geo:-79.845579,38.921112
END:VEVENT
BEGIN:VEVENT
DTSTART;TZID=UTC:20190717T190000
DTEND;TZID=UTC:20190717T200000
DTSTAMP:20260425T221926
CREATED:20190709T233540Z
LAST-MODIFIED:20190709T233540Z
UID:14239-1563390000-1563393600@elkinsrandolphwv.com
SUMMARY:Creative Writing Lecture @ Augusta
DESCRIPTION:Creative Writing in Appalachia with Rebecca Gayle Howell in the Madden Center Lounge sponsored by the WV Humanities Council. Free
URL:https://elkinsrandolphwv.com/event/creative-writing-lecture-augusta/
LOCATION:Augusta Heritage Center\, 21 3rd St\, Elkins\, WV\, 26241\, United States
ATTACH;FMTTYPE=image/jpeg:https://elkinsrandolphwv.com/wp-content/uploads/2019/03/augusta.jpg
GEO:38.921112;-79.845579
X-APPLE-STRUCTURED-LOCATION;VALUE=URI;X-ADDRESS=Augusta Heritage Center 21 3rd St Elkins WV 26241 United States;X-APPLE-RADIUS=500;X-TITLE=21 3rd St:geo:-79.845579,38.921112
END:VEVENT
BEGIN:VEVENT
DTSTART;TZID=UTC:20190716T213000
DTEND;TZID=UTC:20190716T230000
DTSTAMP:20260425T221926
CREATED:20190709T232748Z
LAST-MODIFIED:20190709T232748Z
UID:14237-1563312600-1563318000@elkinsrandolphwv.com
SUMMARY:Swing Dance with music by Tom Mitchell and Swing Week Staff @ Augusta
DESCRIPTION:General admission is $12\, $6 for students. Swing Dance immediately following the concert with music by Tom Mitchell and Swing Week Staff in the Augusta Pavilion. Admission to dance is free with concert ticket.
URL:https://elkinsrandolphwv.com/event/swing-dance-with-music-by-tom-mitchell-and-swing-week-staff-augusta/
LOCATION:Augusta Heritage Center\, 21 3rd St\, Elkins\, WV\, 26241\, United States
ATTACH;FMTTYPE=image/jpeg:https://elkinsrandolphwv.com/wp-content/uploads/2019/03/augusta.jpg
GEO:38.921112;-79.845579
X-APPLE-STRUCTURED-LOCATION;VALUE=URI;X-ADDRESS=Augusta Heritage Center 21 3rd St Elkins WV 26241 United States;X-APPLE-RADIUS=500;X-TITLE=21 3rd St:geo:-79.845579,38.921112
END:VEVENT
BEGIN:VEVENT
DTSTART;TZID=UTC:20190716T160000
DTEND;TZID=UTC:20190716T183000
DTSTAMP:20260425T221926
CREATED:20190709T232329Z
LAST-MODIFIED:20190709T232329Z
UID:14233-1563292800-1563301800@elkinsrandolphwv.com
SUMMARY:Show & Sell @ Halliehurst
DESCRIPTION:Show & Sell – Instruments\, crafts\, recordings & more for sale on Halliehurst Porch
URL:https://elkinsrandolphwv.com/event/show-sell-halliehurst/
LOCATION:Augusta Heritage Center\, 21 3rd St\, Elkins\, WV\, 26241\, United States
ATTACH;FMTTYPE=image/jpeg:https://elkinsrandolphwv.com/wp-content/uploads/2019/03/augusta.jpg
GEO:38.921112;-79.845579
X-APPLE-STRUCTURED-LOCATION;VALUE=URI;X-ADDRESS=Augusta Heritage Center 21 3rd St Elkins WV 26241 United States;X-APPLE-RADIUS=500;X-TITLE=21 3rd St:geo:-79.845579,38.921112
END:VEVENT
BEGIN:VEVENT
DTSTART;TZID=UTC:20190715T204500
DTEND;TZID=UTC:20190715T220000
DTSTAMP:20260425T221926
CREATED:20190709T231207Z
LAST-MODIFIED:20190709T231207Z
UID:14231-1563223500-1563228000@elkinsrandolphwv.com
SUMMARY:Swing Dance Session & Lesson @ Augusta
DESCRIPTION:Swing Dance Session with music by Swing Week Staff. 8:45pm Swing Dance 101 lesson with Amy & David Loomis. Madden Center Lounge. Free.
URL:https://elkinsrandolphwv.com/event/swing-dance-session-lesson-augusta/
LOCATION:Augusta Heritage Center\, 21 3rd St\, Elkins\, WV\, 26241\, United States
ATTACH;FMTTYPE=image/jpeg:https://elkinsrandolphwv.com/wp-content/uploads/2019/03/augusta.jpg
GEO:38.921112;-79.845579
X-APPLE-STRUCTURED-LOCATION;VALUE=URI;X-ADDRESS=Augusta Heritage Center 21 3rd St Elkins WV 26241 United States;X-APPLE-RADIUS=500;X-TITLE=21 3rd St:geo:-79.845579,38.921112
END:VEVENT
BEGIN:VEVENT
DTSTART;TZID=UTC:20190715T200000
DTEND;TZID=UTC:20190715T220000
DTSTAMP:20260425T221926
CREATED:20190709T230920Z
LAST-MODIFIED:20190709T230920Z
UID:14227-1563220800-1563228000@elkinsrandolphwv.com
SUMMARY:Blues & Swing Week House Party Jam @ Halliehurst
DESCRIPTION:Blues & Swing Week House Party Jam on Halliehurst Porch. Free
URL:https://elkinsrandolphwv.com/event/blues-swing-week-house-party-jam-halliehurst/
LOCATION:Augusta Heritage Center\, 21 3rd St\, Elkins\, WV\, 26241\, United States
ATTACH;FMTTYPE=image/jpeg:https://elkinsrandolphwv.com/wp-content/uploads/2019/03/augusta.jpg
GEO:38.921112;-79.845579
X-APPLE-STRUCTURED-LOCATION;VALUE=URI;X-ADDRESS=Augusta Heritage Center 21 3rd St Elkins WV 26241 United States;X-APPLE-RADIUS=500;X-TITLE=21 3rd St:geo:-79.845579,38.921112
END:VEVENT
BEGIN:VEVENT
DTSTART;TZID=UTC:20190715T200000
DTEND;TZID=UTC:20190715T220000
DTSTAMP:20260425T221926
CREATED:20190709T230813Z
LAST-MODIFIED:20190709T230813Z
UID:14225-1563220800-1563228000@elkinsrandolphwv.com
SUMMARY:Doo-Wop Jam with Joan Fenton & Friends @ Augusta
DESCRIPTION:Doo-Wop Jam with Joan Fenton & Friends in the Madden Rotunda. Free.
URL:https://elkinsrandolphwv.com/event/doo-wop-jam-with-joan-fenton-friends-augusta/
LOCATION:Augusta Heritage Center\, 21 3rd St\, Elkins\, WV\, 26241\, United States
ATTACH;FMTTYPE=image/jpeg:https://elkinsrandolphwv.com/wp-content/uploads/2019/03/augusta.jpg
GEO:38.921112;-79.845579
X-APPLE-STRUCTURED-LOCATION;VALUE=URI;X-ADDRESS=Augusta Heritage Center 21 3rd St Elkins WV 26241 United States;X-APPLE-RADIUS=500;X-TITLE=21 3rd St:geo:-79.845579,38.921112
END:VEVENT
BEGIN:VEVENT
DTSTART;TZID=UTC:20190715T190000
DTEND;TZID=UTC:20190715T210000
DTSTAMP:20260425T221926
CREATED:20190709T230656Z
LAST-MODIFIED:20190709T230656Z
UID:14223-1563217200-1563224400@elkinsrandolphwv.com
SUMMARY:Horns Club with Dave Davies @ Augusta
DESCRIPTION:7pm Horns Club with Dave Davies JR Ballroom. Free.
URL:https://elkinsrandolphwv.com/event/horns-club-with-dave-davies-augusta/
LOCATION:Augusta Heritage Center\, 21 3rd St\, Elkins\, WV\, 26241\, United States
ATTACH;FMTTYPE=image/jpeg:https://elkinsrandolphwv.com/wp-content/uploads/2019/03/augusta.jpg
GEO:38.921112;-79.845579
X-APPLE-STRUCTURED-LOCATION;VALUE=URI;X-ADDRESS=Augusta Heritage Center 21 3rd St Elkins WV 26241 United States;X-APPLE-RADIUS=500;X-TITLE=21 3rd St:geo:-79.845579,38.921112
END:VEVENT
BEGIN:VEVENT
DTSTART;VALUE=DATE:20190714
DTEND;VALUE=DATE:20190720
DTSTAMP:20260425T221926
CREATED:20190423T075702Z
LAST-MODIFIED:20190607T095756Z
UID:5100-1563069600-1563580799@elkinsrandolphwv.com
SUMMARY:Augusta: Blues & Swing Week
DESCRIPTION:Augusta’s Blues & Swing Week provides participants with the opportunity to work with some of the finest performers and educators in the Blues and Swing worlds. Workshops cover a variety of styles and levels of instruction on guitar\, bass\, piano\, harmonica and voice\, as well as the history of both genres. Evening activities include legendary late-night jams\, concerts\, and dances. All workshops (except Beginning Vocals) are intended for those who can already play their instrument to some extent and are ready to start learning blues & swing style\, technique and repertoire. Youth\, as well as adults\, are welcome to participate.  \nBlues & Swing Week runs concurrently with Old-Time Week; Arts\, Crafts\, & Folklore Workshops; Folk Arts for Kids; and Evening Mini-Courses. This is the first year of our Old-Time Week and Blues & Swing Week pairing\, and we have some exciting plans in store. Participants can take advantage of both weeks by attending special events\, swapping tunes and songs in jam sessions\, and sharing in the fun!  \nFor more information\, visit Augusta Heritage Facebook Page.
URL:https://elkinsrandolphwv.com/event/augusta-blues-swing-week/
LOCATION:Augusta Heritage Center\, 21 3rd St\, Elkins\, WV\, 26241\, United States
GEO:38.921112;-79.845579
X-APPLE-STRUCTURED-LOCATION;VALUE=URI;X-ADDRESS=Augusta Heritage Center 21 3rd St Elkins WV 26241 United States;X-APPLE-RADIUS=500;X-TITLE=21 3rd St:geo:-79.845579,38.921112
END:VEVENT
BEGIN:VEVENT
DTSTART;VALUE=DATE:20190714
DTEND;VALUE=DATE:20190720
DTSTAMP:20260425T221926
CREATED:20190423T075702Z
LAST-MODIFIED:20190607T095709Z
UID:5099-1563069600-1563580799@elkinsrandolphwv.com
SUMMARY:Augusta: Old-Time Week
DESCRIPTION:This year we are excited to introduce another team of outstanding workshop leaders that have both a deep connection to old-time music and a passion for sharing it. Participants will begin each day with a single morning workshop from 9 a.m. – noon with their primary workshop leader. These in-depth sessions create an intimate learning environment to develop new skills\, awareness and repertoire. Each afternoon will feature a presentation from workshop leaders and elder master musicians and an array of elective workshops. Evenings are packed with lively jams\, slow jams\, song swaps\, square dances and performances. This week is a nurturing\, friendly environment that encourages new musicians as well as seasoned players. Wherever you start\, you can be sure that by the end of the week your musicianship will have new life and depth\, and you will have new friends from around the globe.  \nOld-Time Week runs concurrently with Blues & Swing Week; Arts\, Crafts\, & Folklore Workshops; Folk Arts for Kids; and Evening Mini-Courses. This is the first year Old-Time Week has been paired with Blues & Swing Week\, and we are excited for the new possibilities with this pairing. Participants can take advantage of both weeks by attending special events\, swapping tunes and songs in jam sessions\, and sharing in the fun!  \nVisit Augusta Heritage Facebook Page
URL:https://elkinsrandolphwv.com/event/augusta-old-time-week/
LOCATION:Augusta Heritage Center\, 21 3rd St\, Elkins\, WV\, 26241\, United States
GEO:38.921112;-79.845579
X-APPLE-STRUCTURED-LOCATION;VALUE=URI;X-ADDRESS=Augusta Heritage Center 21 3rd St Elkins WV 26241 United States;X-APPLE-RADIUS=500;X-TITLE=21 3rd St:geo:-79.845579,38.921112
END:VEVENT
BEGIN:VEVENT
DTSTART;TZID=UTC:20190709T193000
DTEND;TZID=UTC:20190709T210000
DTSTAMP:20260425T221926
CREATED:20190703T233149Z
LAST-MODIFIED:20190703T233149Z
UID:14109-1562700600-1562706000@elkinsrandolphwv.com
SUMMARY:Classic Country\, Cajun\, & Creole Concert
DESCRIPTION:Harper McNeeley Auditorium. General admission is $12\, $6 for students. Honky – Tonk Dance immediately following the concert with music by Classic Country Staff. Admission to dance is free with concert ticket.
URL:https://elkinsrandolphwv.com/event/classic-country-cajun-creole-concert/
LOCATION:Augusta Heritage Center\, 21 3rd St\, Elkins\, WV\, 26241\, United States
ATTACH;FMTTYPE=image/jpeg:https://elkinsrandolphwv.com/wp-content/uploads/2019/03/augusta.jpg
GEO:38.921112;-79.845579
X-APPLE-STRUCTURED-LOCATION;VALUE=URI;X-ADDRESS=Augusta Heritage Center 21 3rd St Elkins WV 26241 United States;X-APPLE-RADIUS=500;X-TITLE=21 3rd St:geo:-79.845579,38.921112
END:VEVENT
BEGIN:VEVENT
DTSTART;VALUE=DATE:20190707
DTEND;VALUE=DATE:20190714
DTSTAMP:20260425T221926
CREATED:20190423T075622Z
LAST-MODIFIED:20190607T094440Z
UID:5032-1562464800-1563062399@elkinsrandolphwv.com
SUMMARY:Augusta: Classic Country Week
DESCRIPTION:Country music borrows from folk\, pop\, blues\, swing\, and religious sources\, and yet it is distinctly different. It is easily remembered\, loves to tell a story\, and invites you to dance. The music we focus on is not from the current Nashville scene. This is classic country music from its roots\, from Jimmie Rodgers and The Carter Family\, through folks like Kitty Wells\, Merle Haggard\, and Dolly Parton\, to the soulful singing of George Jones and Vern Gosdin. During this week\, we explore this treasure trove of American music with some of the most dedicated workshop leaders doing country music today.  \nClassic Country Week runs concurrently with Cajun & Creole Week; Arts\, Crafts\, & Folklore Workshops; Folk Arts for Kids; and Evening Mini-Courses. The two weeks have been paired together since Classic Country Week began in 2010\, and the pairing creates wonderful opportunities for participants to interact through combined cultural sessions\, special evening events\, swapping tunes and songs in jam sessions\, and sharing in the fun!
URL:https://elkinsrandolphwv.com/event/augusta-classic-country-week/
LOCATION:Augusta Heritage Center\, 21 3rd St\, Elkins\, WV\, 26241\, United States
GEO:38.921112;-79.845579
X-APPLE-STRUCTURED-LOCATION;VALUE=URI;X-ADDRESS=Augusta Heritage Center 21 3rd St Elkins WV 26241 United States;X-APPLE-RADIUS=500;X-TITLE=21 3rd St:geo:-79.845579,38.921112
END:VEVENT
BEGIN:VEVENT
DTSTART;VALUE=DATE:20190707
DTEND;VALUE=DATE:20190713
DTSTAMP:20260425T221926
CREATED:20190423T075621Z
LAST-MODIFIED:20190607T094346Z
UID:5031-1562464800-1562975999@elkinsrandolphwv.com
SUMMARY:Augusta: Cajun & Creole Week
DESCRIPTION:Our staff of Cajun and Creole workshop leaders keeps participants buzzing with excitement in the classroom and pulsing with energy on the pavilion dance floor! Each day starts with a fresh cup of Cajun coffee and a jam session. Workshops meet 10-11:45 a.m. and 2:30-3:45 p.m. After lunch\, everyone gathers for special presentations on Cajun and Creole music and culture. With mini-courses\, jam sessions\, concerts\, dances and a gumbo party\, it’s a gala week of nonstop music and dancing.  \nCajun & Creole Week runs concurrently with Classic Country Week; Arts\, Crafts\, & Folklore Workshops; Folk Arts for Kids; and Evening Mini-Courses. The two weeks have been paired together since Classic Country Week began in 2010\, and the pairing creates wonderful opportunities for participants to interact through combined cultural sessions\, special evening events\, swapping tunes and songs in jam sessions\, and sharing in the fun!
URL:https://elkinsrandolphwv.com/event/augusta-cajun-creole-week/
LOCATION:Augusta Heritage Center\, 21 3rd St\, Elkins\, WV\, 26241\, United States
GEO:38.921112;-79.845579
X-APPLE-STRUCTURED-LOCATION;VALUE=URI;X-ADDRESS=Augusta Heritage Center 21 3rd St Elkins WV 26241 United States;X-APPLE-RADIUS=500;X-TITLE=21 3rd St:geo:-79.845579,38.921112
END:VEVENT
END:VCALENDAR