BEGIN:VCALENDAR
VERSION:2.0
PRODID:-//Elkins-Randolph County Tourism - ECPv6.15.20//NONSGML v1.0//EN
CALSCALE:GREGORIAN
METHOD:PUBLISH
X-ORIGINAL-URL:https://elkinsrandolphwv.com
X-WR-CALDESC:Events for Elkins-Randolph County Tourism
REFRESH-INTERVAL;VALUE=DURATION:PT1H
X-Robots-Tag:noindex
X-PUBLISHED-TTL:PT1H
BEGIN:VTIMEZONE
TZID:America/New_York
BEGIN:DAYLIGHT
TZOFFSETFROM:-0500
TZOFFSETTO:-0400
TZNAME:EDT
DTSTART:20180311T070000
END:DAYLIGHT
BEGIN:STANDARD
TZOFFSETFROM:-0400
TZOFFSETTO:-0500
TZNAME:EST
DTSTART:20181104T060000
END:STANDARD
BEGIN:DAYLIGHT
TZOFFSETFROM:-0500
TZOFFSETTO:-0400
TZNAME:EDT
DTSTART:20190310T070000
END:DAYLIGHT
BEGIN:STANDARD
TZOFFSETFROM:-0400
TZOFFSETTO:-0500
TZNAME:EST
DTSTART:20191103T060000
END:STANDARD
BEGIN:DAYLIGHT
TZOFFSETFROM:-0500
TZOFFSETTO:-0400
TZNAME:EDT
DTSTART:20200308T070000
END:DAYLIGHT
BEGIN:STANDARD
TZOFFSETFROM:-0400
TZOFFSETTO:-0500
TZNAME:EST
DTSTART:20201101T060000
END:STANDARD
END:VTIMEZONE
BEGIN:VTIMEZONE
TZID:UTC
BEGIN:STANDARD
TZOFFSETFROM:+0000
TZOFFSETTO:+0000
TZNAME:UTC
DTSTART:20180101T000000
END:STANDARD
END:VTIMEZONE
BEGIN:VEVENT
DTSTART;TZID=America/New_York:20190705T180000
DTEND;TZID=America/New_York:20190705T200000
DTSTAMP:20260424T200910
CREATED:20190502T020348Z
LAST-MODIFIED:20190607T093752Z
UID:10718-1562349600-1562356800@elkinsrandolphwv.com
SUMMARY:1st Friday $20 Steak Night @ Brewstel
DESCRIPTION:$20 Steak Night – 6-8pm  \n1″ Boneless Ribeye served w/ baked potato & roll and a 4oz taster of Brewstel Brew (Portions 1-3 people)  \nMusic @ 7pm w/ Glen and Linda!!
URL:https://elkinsrandolphwv.com/event/1st-friday-20-steak-night-brewstel-3/
LOCATION:Brewstel Brew Shop and Hostel\, 120 Davis Ave\, Elkins\, WV 26241\, USA\, United States
GEO:38.91402;-79.854877
END:VEVENT
BEGIN:VEVENT
DTSTART;TZID=UTC:20190629T200000
DTEND;TZID=UTC:20190629T220000
DTSTAMP:20260424T200910
CREATED:20190626T211225Z
LAST-MODIFIED:20190626T211225Z
UID:13978-1561838400-1561845600@elkinsrandolphwv.com
SUMMARY:Soda Pop Gypsies @ Brewstel
DESCRIPTION:The Soda Pop Gypsies are back with there amazing styling all of the a wonderful at you love. $5 cover
URL:https://elkinsrandolphwv.com/event/soda-pop-gypsies-brewstel/
LOCATION:Brewstel Brew Shop and Hostel\, 120 Davis Ave\, Elkins\, WV 26241\, USA\, United States
ATTACH;FMTTYPE=image/png:https://elkinsrandolphwv.com/wp-content/uploads/2019/03/Brewstel-Logo.png
GEO:38.91402;-79.854877
END:VEVENT
BEGIN:VEVENT
DTSTART;TZID=UTC:20190628T190000
DTEND;TZID=UTC:20190629T010000
DTSTAMP:20260424T200910
CREATED:20190626T211743Z
LAST-MODIFIED:20190626T211743Z
UID:13980-1561748400-1561770000@elkinsrandolphwv.com
SUMMARY:Silverfoot\, Holey Soles\, & Dragline @ Brewstel
DESCRIPTION:Silverfoot returns to our home away from home for an epic night of music with The Holey Soles and Dragline!!
URL:https://elkinsrandolphwv.com/event/silverfoot-holey-soles-dragline-brewstel/
LOCATION:Brewstel Brew Shop and Hostel\, 120 Davis Ave\, Elkins\, WV 26241\, USA\, United States
ATTACH;FMTTYPE=image/png:https://elkinsrandolphwv.com/wp-content/uploads/2019/03/Brewstel-Logo.png
GEO:38.91402;-79.854877
END:VEVENT
BEGIN:VEVENT
DTSTART;TZID=UTC:20190628T180000
DTEND;TZID=UTC:20190628T200000
DTSTAMP:20260424T200910
CREATED:20190626T211936Z
LAST-MODIFIED:20190626T211936Z
UID:13982-1561744800-1561752000@elkinsrandolphwv.com
SUMMARY:Chef's Choice 4th Friday @ Brewstel
DESCRIPTION:Chicken & Waffles \nCoco infused chilli\, rubbed grilled chicken on top of a herbed cornbread waffle\nsiracha maple syrup\nsauteed swiss chard w/ bacon & onion\nwatermelon salad w/ mint & lemon zest\n~$20~ \n15 orders available as of now\, will increase with reservations
URL:https://elkinsrandolphwv.com/event/chefs-choice-4th-friday-brewstel/
LOCATION:Brewstel Brew Shop and Hostel\, 120 Davis Ave\, Elkins\, WV 26241\, USA\, United States
ATTACH;FMTTYPE=image/png:https://elkinsrandolphwv.com/wp-content/uploads/2019/03/Brewstel-Logo.png
GEO:38.91402;-79.854877
END:VEVENT
BEGIN:VEVENT
DTSTART;TZID=America/New_York:20190621T180000
DTEND;TZID=America/New_York:20190621T200000
DTSTAMP:20260424T200910
CREATED:20190423T075447Z
LAST-MODIFIED:20190607T083405Z
UID:4892-1561140000-1561147200@elkinsrandolphwv.com
SUMMARY:3rd Friday BBQ @ Brewstel
DESCRIPTION:Its that time again\, folks. If you’ve tasted our house-smoked barbeque in the past you know what to expect every 3rd Friday of the month: pork shoulder\, smoked slow and low and seasoned up nice so you will want to ask it out on a date. Come have dinner and a beer with us or grab some grub to take home to the family.  \nSandwich: pork\, slaw\, and pickle $6.50\nPlatter: dinner portion of pork\, slaw\, and beans $10\nPound: 1lb of expertly smoked pulled pork $15\nFamily combo: 1 lb of pork\, buns\, slaw\, and beans $22
URL:https://elkinsrandolphwv.com/event/brewstel-3rd-friday-bbq-2/
LOCATION:Brewstel Brew Shop and Hostel\, 120 Davis Ave\, Elkins\, WV 26241\, USA\, United States
GEO:38.91402;-79.854877
END:VEVENT
BEGIN:VEVENT
DTSTART;TZID=America/New_York:20190620T180000
DTEND;TZID=America/New_York:20190620T200000
DTSTAMP:20260424T200910
CREATED:20190423T075437Z
LAST-MODIFIED:20190607T082651Z
UID:4877-1561053600-1561060800@elkinsrandolphwv.com
SUMMARY:Open Mic Night @ Brewstel
DESCRIPTION:Open Mic night gathers 1st and 3rd Thursday of every month. All ages event. Calling all dancers\, dreamers\, musicians\, and poets and dogs are welcome to attend.
URL:https://elkinsrandolphwv.com/event/brewstel-open-mic-night-4/
LOCATION:Brewstel Brew Shop and Hostel\, 120 Davis Ave\, Elkins\, WV 26241\, USA\, United States
GEO:38.91402;-79.854877
END:VEVENT
BEGIN:VEVENT
DTSTART;TZID=America/New_York:20190607T180000
DTEND;TZID=America/New_York:20190607T200000
DTSTAMP:20260424T200910
CREATED:20190502T015404Z
LAST-MODIFIED:20190607T071532Z
UID:10626-1559930400-1559937600@elkinsrandolphwv.com
SUMMARY:1st Friday $20 Steak Night @ Brewstel
DESCRIPTION:$20 Steak Night – 6-8pm  \n1″ Boneless Ribeye served w/ baked potato & roll and a 4oz taster of Brewstel Brew (Portions 1-3 people)  \nMusic @ 7pm w/ Glen and Linda!!
URL:https://elkinsrandolphwv.com/event/1st-friday-20-steak-night-brewstel-2/
LOCATION:Brewstel Brew Shop and Hostel\, 120 Davis Ave\, Elkins\, WV 26241\, USA\, United States
GEO:38.91402;-79.854877
END:VEVENT
BEGIN:VEVENT
DTSTART;TZID=UTC:20190606T180000
DTEND;TZID=UTC:20190606T210000
DTSTAMP:20260424T200910
CREATED:20190605T190136Z
LAST-MODIFIED:20190605T190136Z
UID:13008-1559844000-1559854800@elkinsrandolphwv.com
SUMMARY:Wish Awake and Friends Open Mic Night at the Brewstel
DESCRIPTION:Wish Awake and Friends gathers the first and third Thursday of every month this is an all-ages all talent all gender all species event bring a friend and let’s jam
URL:https://elkinsrandolphwv.com/event/wish-awake-and-friends-open-mic-night-at-the-brewstel/
LOCATION:Brewstel Brew Shop and Hostel\, 120 Davis Ave\, Elkins\, WV 26241\, USA\, United States
ATTACH;FMTTYPE=image/png:https://elkinsrandolphwv.com/wp-content/uploads/2019/03/Brewstel-Logo.png
GEO:38.91402;-79.854877
END:VEVENT
BEGIN:VEVENT
DTSTART;TZID=UTC:20190531T190000
DTEND;TZID=UTC:20190531T210000
DTSTAMP:20260424T200910
CREATED:20190530T184348Z
LAST-MODIFIED:20190530T184348Z
UID:12978-1559329200-1559336400@elkinsrandolphwv.com
SUMMARY:
DESCRIPTION:The Masons return to the Brewstel to entertain your souls with your amazing and original stylings.
URL:https://elkinsrandolphwv.com/event/12978/
LOCATION:Brewstel Brew Shop and Hostel\, 120 Davis Ave\, Elkins\, WV 26241\, USA\, United States
ATTACH;FMTTYPE=image/png:https://elkinsrandolphwv.com/wp-content/uploads/2019/03/Brewstel-Logo.png
GEO:38.91402;-79.854877
END:VEVENT
BEGIN:VEVENT
DTSTART;TZID=UTC:20190530T190000
DTEND;TZID=UTC:20190530T210000
DTSTAMP:20260424T200910
CREATED:20190529T191022Z
LAST-MODIFIED:20190529T191022Z
UID:12972-1559242800-1559250000@elkinsrandolphwv.com
SUMMARY:Wish Awake Live at the Brewstel
DESCRIPTION:Wish awake will be performing live at the Brewstel from 7-9pm\, a jam out will occur afterwards
URL:https://elkinsrandolphwv.com/event/wish-awake-live-at-the-brewstel/
LOCATION:Brewstel Brew Shop and Hostel\, 120 Davis Ave\, Elkins\, WV 26241\, USA\, United States
ATTACH;FMTTYPE=image/png:https://elkinsrandolphwv.com/wp-content/uploads/2019/03/Brewstel-Logo.png
GEO:38.91402;-79.854877
END:VEVENT
BEGIN:VEVENT
DTSTART;TZID=UTC:20190525T190000
DTEND;TZID=UTC:20190525T233000
DTSTAMP:20260424T200910
CREATED:20190515T214235Z
LAST-MODIFIED:20190515T214235Z
UID:12888-1558810800-1558827000@elkinsrandolphwv.com
SUMMARY:We R Venom\, Psalms of Silence\, & The Collective Descent @ Brewstel
DESCRIPTION:A night of killer shredding\, brutal vocals\, and the hardest drum beats around. Only $5 to support local epicness. A night you shouldn’t miss with our friends from We R Venom Psalms of Silence and The Collective Descent. \nbrewstel
URL:https://elkinsrandolphwv.com/event/we-r-venom-psalms-of-silence-the-collective-descent-brewstel/
LOCATION:Brewstel Brew Shop and Hostel\, 120 Davis Ave\, Elkins\, WV 26241\, USA\, United States
ATTACH;FMTTYPE=image/png:https://elkinsrandolphwv.com/wp-content/uploads/2019/03/Brewstel-Logo.png
GEO:38.91402;-79.854877
END:VEVENT
BEGIN:VEVENT
DTSTART;TZID=America/New_York:20190517T180000
DTEND;TZID=America/New_York:20190517T200000
DTSTAMP:20260424T200910
CREATED:20190423T072913Z
LAST-MODIFIED:20190507T224720Z
UID:4391-1558116000-1558123200@elkinsrandolphwv.com
SUMMARY:3rd Friday BBQ @ Brewstel
DESCRIPTION:Its that time again\, folks. If you’ve tasted our house-smoked barbeque in the past you know what to expect every 3rd Friday of the month: pork shoulder\, smoked slow and low and seasoned up nice so you will want to ask it out on a date. Come have dinner and a beer with us or grab some grub to take home to the family.  \nSandwich: pork\, slaw\, and pickle $6.50\nPlatter: dinner portion of pork\, slaw\, and beans $10\nPound: 1lb of expertly smoked pulled pork $15\nFamily combo: 1 lb of pork\, buns\, slaw\, and beans $22
URL:https://elkinsrandolphwv.com/event/brewstel-3rd-friday-bbq/
LOCATION:Brewstel Brew Shop and Hostel\, 120 Davis Ave\, Elkins\, WV 26241\, USA\, United States
GEO:38.91402;-79.854877
END:VEVENT
BEGIN:VEVENT
DTSTART;TZID=America/New_York:20190516T180000
DTEND;TZID=America/New_York:20190516T200000
DTSTAMP:20260424T200910
CREATED:20190423T072907Z
LAST-MODIFIED:20190507T224707Z
UID:4384-1558029600-1558036800@elkinsrandolphwv.com
SUMMARY:Open Mic Night @ Brewstel
DESCRIPTION:Open Mic night gathers 1st and 3rd Thursday of every month. All ages event. Calling all dancers\, dreamers\, musicians\, and poets and dogs are welcome to attend.
URL:https://elkinsrandolphwv.com/event/brewstel-open-mic-night-2/
LOCATION:Brewstel Brew Shop and Hostel\, 120 Davis Ave\, Elkins\, WV 26241\, USA\, United States
GEO:38.91402;-79.854877
END:VEVENT
BEGIN:VEVENT
DTSTART;TZID=America/New_York:20190503T180000
DTEND;TZID=America/New_York:20190503T200000
DTSTAMP:20260424T200910
CREATED:20190502T014454Z
LAST-MODIFIED:20190503T224419Z
UID:10505-1556906400-1556913600@elkinsrandolphwv.com
SUMMARY:1st Friday $20 Steak Night @ Brewstel
DESCRIPTION:$20 Steak Night – 6-8pm  \n1″ Boneless Ribeye served w/ baked potato & roll and a 4oz taster of Brewstel Brew (Portions 1-3 people)  \nMusic @ 7pm w/ Glen and Linda!!
URL:https://elkinsrandolphwv.com/event/1st-friday-20-steak-night-brewstel/
LOCATION:Brewstel Brew Shop and Hostel\, 120 Davis Ave\, Elkins\, WV 26241\, USA\, United States
GEO:38.91402;-79.854877
END:VEVENT
END:VCALENDAR